BEGIN:VCALENDAR
VERSION:2.0
PRODID:-//Dr. Gail Brenner - ECPv6.15.20//NONSGML v1.0//EN
CALSCALE:GREGORIAN
METHOD:PUBLISH
X-WR-CALNAME:Dr. Gail Brenner
X-ORIGINAL-URL:https://gailbrenner.com
X-WR-CALDESC:Events for Dr. Gail Brenner
REFRESH-INTERVAL;VALUE=DURATION:PT1H
X-Robots-Tag:noindex
X-PUBLISHED-TTL:PT1H
BEGIN:VTIMEZONE
TZID:America/Los_Angeles
BEGIN:DAYLIGHT
TZOFFSETFROM:-0800
TZOFFSETTO:-0700
TZNAME:PDT
DTSTART:20200308T100000
END:DAYLIGHT
BEGIN:STANDARD
TZOFFSETFROM:-0700
TZOFFSETTO:-0800
TZNAME:PST
DTSTART:20201101T090000
END:STANDARD
BEGIN:DAYLIGHT
TZOFFSETFROM:-0800
TZOFFSETTO:-0700
TZNAME:PDT
DTSTART:20210314T100000
END:DAYLIGHT
BEGIN:STANDARD
TZOFFSETFROM:-0700
TZOFFSETTO:-0800
TZNAME:PST
DTSTART:20211107T090000
END:STANDARD
BEGIN:DAYLIGHT
TZOFFSETFROM:-0800
TZOFFSETTO:-0700
TZNAME:PDT
DTSTART:20220313T100000
END:DAYLIGHT
BEGIN:STANDARD
TZOFFSETFROM:-0700
TZOFFSETTO:-0800
TZNAME:PST
DTSTART:20221106T090000
END:STANDARD
END:VTIMEZONE
BEGIN:VEVENT
DTSTART;TZID=America/Los_Angeles:20211006T080000
DTEND;TZID=America/Los_Angeles:20211006T093000
DTSTAMP:20260425T100431
CREATED:20211001T160932Z
LAST-MODIFIED:20211001T162336Z
UID:7836-1633507200-1633512600@gailbrenner.com
SUMMARY:Integration Groups for "The Wisdom of Trauma" Film
DESCRIPTION:﻿﻿﻿﻿ \nI highly recommend The Wisdom of Trauma\, an excellent film on trauma and addiction that will be shown again for a week starting October 4 along with new talks with trauma experts. I will be leading four integration groups during the week that you are welcome to join. \nThe film shows how unexplored early trauma is behind our conditioned patterns\, including addictions. It will touch you\, move you\, and educate you. For more information and to sign up\, please click here. You can register for the integration groups after you register to see the film and week of expert talks. \nIntegration Groups on October 6\, 7\, 8\, and 9: \nCome and gather in sacred community with your fellow travelers on the path of deep trauma healing. You are welcome just as you are with your fears\, doubts\, shame\, and questions. Our disconnection from our divine nature happened in the context of relationship so we need to practice together to find our way home to our essential peace and wholeness. \nIn a safe and loving space\, we will: \n\nGround together with a guided meditation;\nBreak out into small groups to share with others your reactions to The Wisdom of Trauma film and the Trauma Talks; and\nReturn together to share\, listen\, learn\, and digest what you’ve discovered.\n\nTogether we take our stand in present moment aliveness\, welcoming ourselves and each other with care and heart. \nHere is the schedule for the integration groups I’ll be leading: \n\nWednesday\, Oct 6\, 2021 8–9:30am PDT\nThursday\, Oct 7\, 2021 10:30am-12pm PDT\nFriday\, Oct 8\, 2021 8–9:30am PDT\nSaturday\, Oct 9\, 2021 12–1:30pm PDT\n\n To register to see the film\, please click here. Then you can register for the integration groups.
URL:https://gailbrenner.com/event/integration-group-for-the-wisdom-of-trauma-film/
LOCATION:Science and Nonduality Online
END:VEVENT
END:VCALENDAR