BEGIN:VCALENDAR
VERSION:2.0
PRODID:-//Dr. Gail Brenner - ECPv6.15.20//NONSGML v1.0//EN
CALSCALE:GREGORIAN
METHOD:PUBLISH
X-ORIGINAL-URL:https://gailbrenner.com
X-WR-CALDESC:Events for Dr. Gail Brenner
REFRESH-INTERVAL;VALUE=DURATION:PT1H
X-Robots-Tag:noindex
X-PUBLISHED-TTL:PT1H
BEGIN:VTIMEZONE
TZID:America/Los_Angeles
BEGIN:DAYLIGHT
TZOFFSETFROM:-0800
TZOFFSETTO:-0700
TZNAME:PDT
DTSTART:20200308T100000
END:DAYLIGHT
BEGIN:STANDARD
TZOFFSETFROM:-0700
TZOFFSETTO:-0800
TZNAME:PST
DTSTART:20201101T090000
END:STANDARD
BEGIN:DAYLIGHT
TZOFFSETFROM:-0800
TZOFFSETTO:-0700
TZNAME:PDT
DTSTART:20210314T100000
END:DAYLIGHT
BEGIN:STANDARD
TZOFFSETFROM:-0700
TZOFFSETTO:-0800
TZNAME:PST
DTSTART:20211107T090000
END:STANDARD
BEGIN:DAYLIGHT
TZOFFSETFROM:-0800
TZOFFSETTO:-0700
TZNAME:PDT
DTSTART:20220313T100000
END:DAYLIGHT
BEGIN:STANDARD
TZOFFSETFROM:-0700
TZOFFSETTO:-0800
TZNAME:PST
DTSTART:20221106T090000
END:STANDARD
END:VTIMEZONE
BEGIN:VEVENT
DTSTART;TZID=America/Los_Angeles:20211015T090000
DTEND;TZID=America/Los_Angeles:20211015T110000
DTSTAMP:20260425T102957
CREATED:20210916T235714Z
LAST-MODIFIED:20210916T235714Z
UID:7774-1634288400-1634295600@gailbrenner.com
SUMMARY:Deep Trauma Healing: Tending the Ground for Awakened Living—6 session course
DESCRIPTION:Deep Trauma Healing: Tending the Ground for Awakened Living\n \nOctober 15\, 19\, 22\, 26 and November 2\, 5\, 2021\n9:00 am – 11:00 am Pacific Time\, each day on Zoom\nNoon Eastern\, 5pm UTC \nRecordings will be available and sent to all who register. \nAddressing trauma and how we hold it is essential to seeing through the illusion of the separate self. Deep Trauma Healing: Tending the Ground for Awakened Living\, offers a safe and supportive healing community to do this deeper work that unfolds on the path of awakening. \nFor course details and registration\, please click here. \nUnexamined trauma is at the root of your conditioned patterns and keeps you feeling stuck\, limited\, and unable to be free. You long for freedom and maybe have had a taste of your true nature\, but somehow these patterns keep getting played out automatically in your mind\, emotions\, relationships\, and choices in life. You feel caught in the painful sense of separation…from yourself and the sacredness of all of Life. \nTogether\, we will carefully bring to light the mechanisms of these patterns into the light of loving awareness. And we’ll discover\, over and over\, the ground of being\, your spacious true home that has never been touched by any life experiences. \nYou are welcome just as you are with your fears\, doubts\, shame\, and questions. Through practices\, inquiries\, and experiments during and between our sessions\, we’ll learn to untangle these patterns and find our way home to the ever-present\, relaxed space of inner aliveness. \nYou’ll get the felt direct experience of being in life open\, without defenses\, and free of the mind’s need to control. This is the foundation you need for openhearted awakened living. \nHere’s what we’ll cover in the course: \n\nSessions 1 and 2: The illusion of the separate self; knowing our patterns intimately and how they show up in us;\nSession 3: Attending to the body and nervous system;\nSession 4: Honoring and embracing difficult emotions\, learning resources to bring to your in-the-moment experience;\nSession 5: What to do with the mind and limiting beliefs;\nSession 6: Devotion\, surrender\, and the practicalities of awakened living\n\nCome prepared to move out of your comfort zone in all areas of your life. You’ll discover the brilliance of embodying love\, awareness\, and deep connection with all…available in every moment. \nFor course details and registration\, please click here. \nA free information session with Gail is offered on Tuesday\, October 12 from 9-10am Pacific. You’ll learn more about the course\, and there will be time for Q&A. Please click here for details and to join the session. \nFriends are saying: \n\n“I have found your approach really works for me. It gives me hope\, and I actually believe that that I can live\, think and feel differently\, no matter what the situation.” ~ F.C. \n“Gail was a wonderful loving and attentive presence; I felt seen and heard.” ~A.C. \n“I am now experiencing longer moments of pure awareness and joy. No longer a slave to external circumstances and inner chatter. Loving life the way it is.” ~Susan R. \n“Your work is a bridge between practical daily life and Supreme Reality.” ~Henrique N. \n“I love the meetings; I feel so safe and connected in the group.” ~Judy F. \n“I liked the sense of trust\, profound acceptance\, safety\, unconditional love and support that Gail brought to us. The course made me realize the importance of being involved in a community of people dedicated to the most important thing to me\, Healing and Awakening. I just cannot do it alone!” ~Aline B. \n\nFor course details and registration\, please click here. \nGail Brenner\, Ph.D. is your guide on this journey. She is a nondual psychologist and lover of truth with a fire that burns brightly. She brings to this work years of experience with individuals and groups and is known for creating the sense of safety and trust needed for this deeper exploration. \nIf you have further questions\, please email Gail directly at gail@gailbrenner.com.
URL:https://gailbrenner.com/event/deep-trauma-healing-tending-the-ground-for-awakened-living-6-session-course/
LOCATION:online
END:VEVENT
END:VCALENDAR