BEGIN:VCALENDAR
VERSION:2.0
PRODID:-//Dr. Gail Brenner - ECPv6.15.20//NONSGML v1.0//EN
CALSCALE:GREGORIAN
METHOD:PUBLISH
X-WR-CALNAME:Dr. Gail Brenner
X-ORIGINAL-URL:https://gailbrenner.com
X-WR-CALDESC:Events for Dr. Gail Brenner
REFRESH-INTERVAL;VALUE=DURATION:PT1H
X-Robots-Tag:noindex
X-PUBLISHED-TTL:PT1H
BEGIN:VTIMEZONE
TZID:America/Los_Angeles
BEGIN:DAYLIGHT
TZOFFSETFROM:-0800
TZOFFSETTO:-0700
TZNAME:PDT
DTSTART:20210314T100000
END:DAYLIGHT
BEGIN:STANDARD
TZOFFSETFROM:-0700
TZOFFSETTO:-0800
TZNAME:PST
DTSTART:20211107T090000
END:STANDARD
BEGIN:DAYLIGHT
TZOFFSETFROM:-0800
TZOFFSETTO:-0700
TZNAME:PDT
DTSTART:20220313T100000
END:DAYLIGHT
BEGIN:STANDARD
TZOFFSETFROM:-0700
TZOFFSETTO:-0800
TZNAME:PST
DTSTART:20221106T090000
END:STANDARD
BEGIN:DAYLIGHT
TZOFFSETFROM:-0800
TZOFFSETTO:-0700
TZNAME:PDT
DTSTART:20230312T100000
END:DAYLIGHT
BEGIN:STANDARD
TZOFFSETFROM:-0700
TZOFFSETTO:-0800
TZNAME:PST
DTSTART:20231105T090000
END:STANDARD
END:VTIMEZONE
BEGIN:VEVENT
DTSTART;TZID=America/Los_Angeles:20220201T090000
DTEND;TZID=America/Los_Angeles:20220201T103000
DTSTAMP:20260425T033938
CREATED:20220119T003929Z
LAST-MODIFIED:20220131T173456Z
UID:8056-1643706000-1643711400@gailbrenner.com
SUMMARY:Coming Home Together—Online Gathering
DESCRIPTION:Coming Home Together:\nEmbodied Awakening in Everyday Life \nTuesday\, February 1\, 9:00am – 10:30am Pacific\non Zoom\nNoon Eastern\, 5pm GMT \nRecording will be available and sent to all who register. \nThe Embodied Awakening gathering offers a deep dive into the practicalities of awakened living. Your everyday human life will be the laboratory as we explore the myth of the separate self\, unexplored trauma patterns\, and how to live the deepest nondual teachings of infinite oneness. \nHow do you handle a frustrating encounter with someone? How do you navigate your relationships? What do you do with feeling disappointed\, hurt\, or bored? What about longstanding conditioned patterns that feel stuck? What about needs\, desires\, and stressful times? We’ll carefully shed the light of awareness on your personal attachments\, bringing a loving perspective and clarity to these common life situations. \nYou’ll practice staying grounded in your present moment experience\, and from here we explore the programmed patterns that bring struggle to your life. Many of these patterns have plagued us for years. We hear about freedom as a possibility\, but we just don’t know how to find our way there. We feel stuck in the painful sense of separation…from ourselves and the sacredness of all of Life. \nFinally\, we realize that we can’t go it alone. Our disconnection from our divine nature happened in the context of relationship so we need to practice together—in a supportive and loving community—to find our way home. Come with your fears\, doubts\, shame\, and questions—and simply to share sacred space together in community with like-minded friends. Our time together will include guided meditation\, clarifying teachings\, practical tools\, and heartfelt conversation. \nTogether\, we lovingly embrace our humanness as we expand into overflowing appreciation\, vibrant joy\, and deep connection with all of Life. \nDetails \nTuesday\, February 1\, 2021 9:00am – 10:30am Pacific\nStarts at noon Eastern\, 5:00pm UK \nRecording will be sent to everyone who registers.\nPlease register here. Once you register\, you will be directed to the zoom link — and you will receive it by email one hour prior to our meeting. \n\nChoose the amount you would like to pay.Option 1 $15.00 USDOption 2 $9.00 USDOption 3 $4.00 USD\n\n\nFriends are saying: \n\n“I am now experiencing longer moments of pure awareness and joy. No longer a slave to external circumstances and inner chatter. Loving life the way it is.” ~Susan R. \n“I liked the sense of trust\, profound acceptance\, safety\, unconditional love and support that Gail brought to us. The course made me realize the importance of being involved in a community of people dedicated to the most important thing to me\, Healing and Awakening. I just cannot do it alone!” ~Aline B \n“Your work is a bridge between practical daily life and Supreme Reality.” ~Henrique N. \n“The biggest thing you helped me see is that I’m sometimes shaming myself for being ashamed of myself. I’ll be playing with a lighter and gentler touch going forward :)” ~James T. \n\nPlease register here. Once you register\, you will be directed to the zoom link — and you will receive it by email one hour prior to our meeting. \n\nChoose the amount you would like to pay.Option 1 $15.00 USDOption 2 $9.00 USDOption 3 $4.00 USD\n\n\nAt any moment\, within the field of your own experience\, there is an inner sanctuary of presence and stillness. You access this space by shifting your attention away from the jumble of thoughts\, feelings\, stories\, fears\, and external input such as others’ opinions. You simply turn inward—beyond all mind movement—and be. \nIn no time at all\, you find the ground of being\, the light of living vibration that’s here in every moment. It’s timeless\, which means it’s eternally present\, and all-embracing as the unity of all. Don’t be afraid of this vast love. Fall into its arms…”\n~Gail \nGail Brenner\, Ph.D. is your guide on this journey. She is a clinical psychologist and lover of truth with a fire that burns brightly. She brings to this work years of experience with individuals and groups and is known for creating the sense of safety and trust needed for this deeper exploration.
URL:https://gailbrenner.com/event/coming-home-together-2-1-22/
LOCATION:online
END:VEVENT
END:VCALENDAR