BEGIN:VCALENDAR
VERSION:2.0
PRODID:-//Dr. Gail Brenner - ECPv6.15.20//NONSGML v1.0//EN
CALSCALE:GREGORIAN
METHOD:PUBLISH
X-ORIGINAL-URL:https://gailbrenner.com
X-WR-CALDESC:Events for Dr. Gail Brenner
REFRESH-INTERVAL;VALUE=DURATION:PT1H
X-Robots-Tag:noindex
X-PUBLISHED-TTL:PT1H
BEGIN:VTIMEZONE
TZID:America/Los_Angeles
BEGIN:DAYLIGHT
TZOFFSETFROM:-0800
TZOFFSETTO:-0700
TZNAME:PDT
DTSTART:20210314T100000
END:DAYLIGHT
BEGIN:STANDARD
TZOFFSETFROM:-0700
TZOFFSETTO:-0800
TZNAME:PST
DTSTART:20211107T090000
END:STANDARD
BEGIN:DAYLIGHT
TZOFFSETFROM:-0800
TZOFFSETTO:-0700
TZNAME:PDT
DTSTART:20220313T100000
END:DAYLIGHT
BEGIN:STANDARD
TZOFFSETFROM:-0700
TZOFFSETTO:-0800
TZNAME:PST
DTSTART:20221106T090000
END:STANDARD
BEGIN:DAYLIGHT
TZOFFSETFROM:-0800
TZOFFSETTO:-0700
TZNAME:PDT
DTSTART:20230312T100000
END:DAYLIGHT
BEGIN:STANDARD
TZOFFSETFROM:-0700
TZOFFSETTO:-0800
TZNAME:PST
DTSTART:20231105T090000
END:STANDARD
END:VTIMEZONE
BEGIN:VEVENT
DTSTART;TZID=America/Los_Angeles:20220911T140000
DTEND;TZID=America/Los_Angeles:20220911T160000
DTSTAMP:20260424T102444
CREATED:20220821T223017Z
LAST-MODIFIED:20220822T151810Z
UID:9631-1662904800-1662912000@gailbrenner.com
SUMMARY:In-Person Satsang in Sebastopol\, CA
DESCRIPTION:Coming Home Together:\nTending the Ground for Awakened Living \nIn-Person Satsang in Sebastopol\, CA \nCome and gather together for a deep dive into the practicalities of awakened living. Your everyday human life is the laboratory as we explore the myth of the separate self\, unexplored trauma patterns\, and living the deepest truth of nondual reality. \nYou are welcome as you are with your fears\, doubts\, shame\, and questions—and simply to share space with like-minded friends. Together\, we lovingly embrace our humanness as we expand into pure openness\, overflowing appreciation\, and deep connection with all of Life. \nDetails\nSunday\, September 11\, 2-4 pm\, with refreshments until 5. \n8476 Sonoma Ave\, Sebastopol\, CA. Address sign says 8474/8476. \nPark on street\, walk down short driveway to house with carport. \nThe satsang starts with a short meditation\, then comments by Gail\, then Q&A and discussion. \nDonations accepted. \nQuestions? Please contact Gail here.  \nGail Brenner\, Ph.D. is a clinical psychologist and lover of truth with a fire that burns brightly. She brings to this work years of experience with individuals and groups and is known for creating the safety and trust needed for this deeper exploration.
URL:https://gailbrenner.com/event/in-person-satsang-sebastopol/
LOCATION:Sebastopol CA\, 8476 Sonoma Avenue\, Sebastopol\, CA\, United States
ORGANIZER;CN="Open Circle Center":MAILTO:web@opencirclecenter.org
END:VEVENT
END:VCALENDAR