BEGIN:VCALENDAR
VERSION:2.0
PRODID:-//Dr. Gail Brenner - ECPv6.15.20//NONSGML v1.0//EN
CALSCALE:GREGORIAN
METHOD:PUBLISH
X-WR-CALNAME:Dr. Gail Brenner
X-ORIGINAL-URL:https://gailbrenner.com
X-WR-CALDESC:Events for Dr. Gail Brenner
REFRESH-INTERVAL;VALUE=DURATION:PT1H
X-Robots-Tag:noindex
X-PUBLISHED-TTL:PT1H
BEGIN:VTIMEZONE
TZID:America/Los_Angeles
BEGIN:DAYLIGHT
TZOFFSETFROM:-0800
TZOFFSETTO:-0700
TZNAME:PDT
DTSTART:20210314T100000
END:DAYLIGHT
BEGIN:STANDARD
TZOFFSETFROM:-0700
TZOFFSETTO:-0800
TZNAME:PST
DTSTART:20211107T090000
END:STANDARD
BEGIN:DAYLIGHT
TZOFFSETFROM:-0800
TZOFFSETTO:-0700
TZNAME:PDT
DTSTART:20220313T100000
END:DAYLIGHT
BEGIN:STANDARD
TZOFFSETFROM:-0700
TZOFFSETTO:-0800
TZNAME:PST
DTSTART:20221106T090000
END:STANDARD
BEGIN:DAYLIGHT
TZOFFSETFROM:-0800
TZOFFSETTO:-0700
TZNAME:PDT
DTSTART:20230312T100000
END:DAYLIGHT
BEGIN:STANDARD
TZOFFSETFROM:-0700
TZOFFSETTO:-0800
TZNAME:PST
DTSTART:20231105T090000
END:STANDARD
END:VTIMEZONE
BEGIN:VEVENT
DTSTART;TZID=America/Los_Angeles:20220928T090000
DTEND;TZID=America/Los_Angeles:20220928T103000
DTSTAMP:20260424T084812
CREATED:20220919T223055Z
LAST-MODIFIED:20220919T223055Z
UID:9810-1664355600-1664361000@gailbrenner.com
SUMMARY:Coming Home Together Online Gathering—Bringing Wise Inquiry to Early Trauma Patterns
DESCRIPTION:Coming Home Together Online Gathering:\nBringing Wise Inquiry to Early Trauma Patterns \nWednesday\, September 28\, 9:00am – 10:30am Pacific\nNoon Eastern\, 5pm BST\non Zoom \nRecording will be available and sent to all who register. \nThe Coming Home Together online gathering offers a deep dive into the practicalities of awakened living. Your everyday human life will be the laboratory as we explore the myth of the separate self\, unexplored trauma patterns\, and everyday living of the deepest teachings of nondual reality. \nPlease register here. Once you register\, you will be directed to the zoom link—and you will receive it by email one hour prior to our meeting. A sliding scale is offered for those with financial challenges. \n\nChoose the amount you would like to pay.Option 1 $15.00 USDOption 2 $9.00 USDOption 3 $4.00 USD\n\n\nOur focus for this meeting is on giving our compassionate attention to how disruption in our early relationships affects us. If we felt unsafe\, rejected\, unseen\, or disconnected early in our lives\, we develop an identity that we are unworthy\, not good enough\, or wounded beyond repair. And we grow up trying to figure out how to cope with the sense that something is missing. Some of the ways we do that are overachieving\, perfectionism\, people pleasing\, self-judgment\, or hiding from life. \nTogether\, we create a field of safe space to explore these tender parts of ourselves. We’ll delve deeply into the how-to of this inquiry for meeting our experience with acceptance\, compassion\, and care. And we’ll discover the space to realize there is so much more to life than our patterns! \nOur time together includes guided meditation\, teachings for understanding our inner experience\, practical tools\, and heartfelt conversation. We turn our attention inward to find our way through the mind-made limits and the stories that create personal suffering. \nHow do you handle a frustrating encounter with someone? How do you navigate your relationships? What do you do with feeling disappointed\, hurt\, or bored? What about needs\, desires\, and stressful times? We’ll carefully shed the light of awareness on your personal attachments\, bringing a loving perspective and clarity to these common life situations. \nFinally\, we realize that we can’t go it alone. Our disconnection from our divine nature happened in the context of relationship so we need to practice together—in a supportive and loving community—to find our way home. Come with your fears\, doubts\, shame\, and questions—and simply to share sacred space together in community with like-minded friends. \nTogether\, we lovingly embrace our humanness as we expand into overflowing appreciation\, vibrant joy\, and deep connection with all of Life. \nQuestions? Please contact Gail here. \nDetails \nWednesday\, September 28\, 2022 9:00am – 10:30am Pacific \nStarts at noon Eastern\, 5pm BST\, 6pm CET \nRecording will be sent to everyone who registers. \nA sliding scale is offered for those with financial challenges.  \n\nChoose the amount you would like to pay.Option 1 $15.00 USDOption 2 $9.00 USDOption 3 $4.00 USD\n\n\nFriends are saying: \n\n“I am now experiencing longer moments of pure awareness and joy. No longer a slave to external circumstances and inner chatter. Loving life the way it is.” ~Susan R. \n“I liked the sense of trust\, profound acceptance\, safety\, unconditional love and support that Gail brought to us. The course made me realize the importance of being involved in a community of people dedicated to the most important thing to me\, Healing and Awakening. I just cannot do it alone!” ~Aline B. \n“Your work is a bridge between practical daily life and Supreme Reality.” ~Henrique N. \n“You radiate such warmth\, kindness\, beauty and wisdom. I had been stuck for so long and by listening to your sage advice\, am finally starting to see and feel the light. Your light helps us to shine our own.” ~Julie Desmarais \n\n“At any moment\, within the field of your own experience\, there is an inner sanctuary of presence and stillness. You access this space by shifting your attention away from the jumble of thoughts\, feelings\, stories\, fears\, and external input such as others’ opinions. You simply turn inward—beyond all mind movement—and be. \nIn no time at all\, you find the ground of being\, the light of living vibration that’s here in every moment. It’s timeless\, which means it’s eternally present\, and all-embracing as the unity of all. Don’t be afraid of this vast love. Fall into its arms…”\n~Gail \nGail Brenner\, Ph.D. is your guide on this journey. She is a clinical psychologist and lover of truth with a fire that burns brightly. She brings to this work years of experience with individuals and groups and is known for creating the safety and trust needed for this deeper exploration.
URL:https://gailbrenner.com/event/coming-home-together-inquiry-early-trauma/
LOCATION:online
END:VEVENT
END:VCALENDAR