BEGIN:VCALENDAR
VERSION:2.0
PRODID:-//Dr. Gail Brenner - ECPv6.15.20//NONSGML v1.0//EN
CALSCALE:GREGORIAN
METHOD:PUBLISH
X-ORIGINAL-URL:https://gailbrenner.com
X-WR-CALDESC:Events for Dr. Gail Brenner
REFRESH-INTERVAL;VALUE=DURATION:PT1H
X-Robots-Tag:noindex
X-PUBLISHED-TTL:PT1H
BEGIN:VTIMEZONE
TZID:America/Los_Angeles
BEGIN:DAYLIGHT
TZOFFSETFROM:-0800
TZOFFSETTO:-0700
TZNAME:PDT
DTSTART:20210314T100000
END:DAYLIGHT
BEGIN:STANDARD
TZOFFSETFROM:-0700
TZOFFSETTO:-0800
TZNAME:PST
DTSTART:20211107T090000
END:STANDARD
BEGIN:DAYLIGHT
TZOFFSETFROM:-0800
TZOFFSETTO:-0700
TZNAME:PDT
DTSTART:20220313T100000
END:DAYLIGHT
BEGIN:STANDARD
TZOFFSETFROM:-0700
TZOFFSETTO:-0800
TZNAME:PST
DTSTART:20221106T090000
END:STANDARD
BEGIN:DAYLIGHT
TZOFFSETFROM:-0800
TZOFFSETTO:-0700
TZNAME:PDT
DTSTART:20230312T100000
END:DAYLIGHT
BEGIN:STANDARD
TZOFFSETFROM:-0700
TZOFFSETTO:-0800
TZNAME:PST
DTSTART:20231105T090000
END:STANDARD
END:VTIMEZONE
BEGIN:VEVENT
DTSTART;TZID=America/Los_Angeles:20221103T090000
DTEND;TZID=America/Los_Angeles:20221105T120000
DTSTAMP:20260424T065455
CREATED:20221002T012113Z
LAST-MODIFIED:20221003T032307Z
UID:9886-1667466000-1667649600@gailbrenner.com
SUMMARY:3-day Online Retreat—Deep Trauma Healing: Tending the Ground for Awakened Living
DESCRIPTION:Deep Trauma Healing: Tending the Ground for Awakened Living \nRetreat online on zoom: November 3\, 4\, and 5\,\n9am-noon Pacific each day\nNoon-3pm Eastern\, 4-7pm BST \nSponsored by Open Circle Center \nPlease click the link to register: https://opencirclecenter.org/event/gail-brenner-retreat-nov-2022/ \nAddressing trauma and how we hold it is essential to seeing through the illusion of the separate self. Join this powerful 3-session retreat as we create a safe and supportive healing community to do this deeper work that unfolds on the path of awakening. \nUnexamined trauma is at the root of conditioned patterns and keeps you feeling stuck\, limited\, and unable to be free. You long for freedom and maybe have had a taste of your true nature\, but somehow these patterns keep getting played out automatically in your mind\, emotions\, relationships\, and choices in life. You feel caught in the painful sense of separation…from yourself and the sacredness of all of Life. \nYou are welcome just as you are with your fears\, doubts\, shame\, and questions. Through practices\, inquiries\, and experiments during and between our sessions\, we’ll learn to untangle these patterns and find our way home to the ever present\, relaxed\, open space of inner aliveness. There will be plenty of time for Q&A with Gail. \n• Session 1\, Thursday: We’ll cultivate a sense of safety for those hidden\, cut off parts of ourselves to come out into the light of loving awareness. This is what heals shame and separation.\n• Session 2\, Friday: We’ll bring skillful means to how we experience conditioned patterns—in our bodies\, nervous systems\, emotions\, and beliefs.\n• Session 3\, Saturday: We’ll explore devotion\, surrender\, and the practicalities of awakened living. \nAnd we’ll discover\, over and over\, the ground of being\, your spacious true home that has never been touched by these experiences. \nStress and worry…people pleasing…persistent relationship struggles…proving yourself through accomplishments…the inner critic…these longstanding patterns are profound invitations into liberation from the sense of separation. Together\, we discover being fully alive in our humanness as we expand into overflowing gratitude\, vibrant joy\, and deep connection with all of Life. \nPlease click the link to register: https://opencirclecenter.org/event/gail-brenner-retreat-nov-2022/ \nGail is offering a free information session on Tuesday\, November 1 from 9-10am Pacific. You’ll learn more about the course\, and there will be time for Q&A. Please click here for details and to join the session.  \nIf you have any questions or would like to know more about this course\, please email Gail directly at gail@gailbrenner.com. \nFriends are saying: \n\n“I am now experiencing longer moments of pure awareness and joy. No longer a slave to external circumstances and inner chatter. Loving life the way it is.” ~Susan R. \n“I liked the sense of trust\, profound acceptance\, safety\, unconditional love and support that Gail brought to us. The course made me realize the importance of being involved in a community of people dedicated to the most important thing to me\, Healing and Awakening. I just cannot do it alone!” ~Aline B. \n“Your work is a bridge between practical daily life and Supreme Reality.” ~Henrique N. \n“You radiate such warmth\, kindness\, beauty and wisdom. I had been stuck for so long and by listening to your sage advice\, am finally starting to see and feel the light. Your light helps us to shine our own.” ~Julie Desmarais \n\nFor more testimonials\, please click here. \nGail Brenner\, Ph.D. is your guide on this journey. She is a clinical psychologist and lover of truth with a fire that burns brightly. She brings to this work years of experience with individuals and groups and is known for creating the sense of safety and trust needed for this deeper exploration. She is the author of three books\, including the award-winning\, The End of Self-Help.
URL:https://gailbrenner.com/event/3-day-online-retreat-deep-trauma-healing-tending-the-ground-for-awakened-living/
LOCATION:online
ORGANIZER;CN="Open Circle Center":MAILTO:web@opencirclecenter.org
END:VEVENT
END:VCALENDAR