BEGIN:VCALENDAR
VERSION:2.0
PRODID:-//Dr. Gail Brenner - ECPv6.15.20//NONSGML v1.0//EN
CALSCALE:GREGORIAN
METHOD:PUBLISH
X-WR-CALNAME:Dr. Gail Brenner
X-ORIGINAL-URL:https://gailbrenner.com
X-WR-CALDESC:Events for Dr. Gail Brenner
REFRESH-INTERVAL;VALUE=DURATION:PT1H
X-Robots-Tag:noindex
X-PUBLISHED-TTL:PT1H
BEGIN:VTIMEZONE
TZID:America/Los_Angeles
BEGIN:DAYLIGHT
TZOFFSETFROM:-0800
TZOFFSETTO:-0700
TZNAME:PDT
DTSTART:20220313T100000
END:DAYLIGHT
BEGIN:STANDARD
TZOFFSETFROM:-0700
TZOFFSETTO:-0800
TZNAME:PST
DTSTART:20221106T090000
END:STANDARD
BEGIN:DAYLIGHT
TZOFFSETFROM:-0800
TZOFFSETTO:-0700
TZNAME:PDT
DTSTART:20230312T100000
END:DAYLIGHT
BEGIN:STANDARD
TZOFFSETFROM:-0700
TZOFFSETTO:-0800
TZNAME:PST
DTSTART:20231105T090000
END:STANDARD
BEGIN:DAYLIGHT
TZOFFSETFROM:-0800
TZOFFSETTO:-0700
TZNAME:PDT
DTSTART:20240310T100000
END:DAYLIGHT
BEGIN:STANDARD
TZOFFSETFROM:-0700
TZOFFSETTO:-0800
TZNAME:PST
DTSTART:20241103T090000
END:STANDARD
END:VTIMEZONE
BEGIN:VEVENT
DTSTART;TZID=America/Los_Angeles:20230413T090000
DTEND;TZID=America/Los_Angeles:20230413T100000
DTSTAMP:20260423T223339
CREATED:20230401T155453Z
LAST-MODIFIED:20230411T022622Z
UID:10411-1681376400-1681380000@gailbrenner.com
SUMMARY:Bringing Heaven to Earth: Fully Alive in Everyday Life—Free Information Call
DESCRIPTION:Bringing Heaven to Earth: Fully Alive in Everyday Life \nCourse on zoom: April 15\, 18\, and 20\, 9-11:30am Pacific each day\nStarts at noon Eastern\, 5pm BST\, 6pm \nSponsored by Open Circle Center \nFree Information Call\nThursday\, April 13\n9-10am Pacific\nNoon Eastern\, 5pm BST\, 6pm CET \n You are most welcome to join the free information call about this upcoming course. You’ll learn more about the course\, and there will be time for Q&A. \nPlease click here to register for this free call. \nAfter registering\, you will receive a confirmation email containing information about joining the meeting. \nLet’s gather in loving community to explore living everyday life with nothing in the way…endlessly available to all that is… \nThis 3-session course offers you an invitation to open to a fresh way of being\, fully aligned with your natural essence as whole\, peaceful\, primed for joy\, and lacking nothing. You’ll learn to untangle the limited ways you think about yourself and find your way home to the ever present space of inner aliveness\, the sacredness of all of Life. \nEach session includes guided meditation\, clarifying wisdom\, small group sharing\, Q&A\, and joyful celebration together. You’ll come away with skills to feel grounded\, safe\, and connected within yourself and in your life. You’ll experience more space for the natural arising of intimacy\, generosity\, inspiration\, and delight. \n• Session 1\, Saturday: How We Show Up for Ourselves and for Life. We’ll name and explore essential qualities of awakened awareness: openness\, curiosity\, humility\, compassion\, and devotion. How do we embody these qualities in everyday life?\n• Session 2\, Tuesday: Insight Into Conditioned Patterns. We’ll understand how we contract into limiting ideas about ourselves and forget the truth of our being. We’ll practice wise and kind ways to be with emotions and the nervous system.\n• Session 3\, Thursday: Awake in Everyday Life. We’ll get practical about relationships\, resentments\, hurts\, frustrations of daily life\, and anything else you’re struggling with. How do we navigate these situations without losing our authentic Being? How can you\, more and more\, step into your full magnificence as you were meant to be? \n Please click here to register for the free information call. \nAnd please click here if you’re ready to register for the course. \n You are welcome just as you are with your fears\, doubts\, shame\, and questions. Through practices\, inquiries\, and experiments during and between our sessions\, over and over we’ll find our way home to the ever present\, relaxed\, open space of inner aliveness. There will be plenty of time for Q&A with Gail. \n If you have any questions or would like to know more about this course\, please email Gail directly at gail@gailbrenner.com. \nFriends are saying: \n\n“I am now experiencing longer moments of pure awareness and joy. No longer a slave to external circumstances and inner chatter. Loving life the way it is.” ~Susan R. \n“I liked the sense of trust\, profound acceptance\, safety\, unconditional love and support that Gail brought to us. The course made me realize the importance of being involved in a community of people dedicated to the most important thing to me\, Healing and Awakening. I just cannot do it alone!” ~Aline B. \n“Your work is a bridge between practical daily life and Supreme Reality.” ~Henrique N. \n“You radiate such warmth\, kindness\, beauty and wisdom. I had been stuck for so long and by listening to your sage advice\, am finally starting to see and feel the light. Your light helps us to shine our own.” ~Julie Desmarais \n\n For more testimonials\, please click here. \n Gail Brenner\, Ph.D. is your guide on this journey. She is a clinical psychologist and lover of truth with a fire that burns brightly. She brings to this work years of experience with individuals and groups and is known for creating the sense of safety and trust needed for this deeper exploration. She is the author of three books\, including the award-winning\, The End of Self-Help and Suffering Is Optional.
URL:https://gailbrenner.com/event/fully-alive-free-call/
LOCATION:online
END:VEVENT
END:VCALENDAR