BEGIN:VCALENDAR
VERSION:2.0
PRODID:-//Dr. Gail Brenner - ECPv6.15.20//NONSGML v1.0//EN
CALSCALE:GREGORIAN
METHOD:PUBLISH
X-ORIGINAL-URL:https://gailbrenner.com
X-WR-CALDESC:Events for Dr. Gail Brenner
REFRESH-INTERVAL;VALUE=DURATION:PT1H
X-Robots-Tag:noindex
X-PUBLISHED-TTL:PT1H
BEGIN:VTIMEZONE
TZID:America/Los_Angeles
BEGIN:DAYLIGHT
TZOFFSETFROM:-0800
TZOFFSETTO:-0700
TZNAME:PDT
DTSTART:20220313T100000
END:DAYLIGHT
BEGIN:STANDARD
TZOFFSETFROM:-0700
TZOFFSETTO:-0800
TZNAME:PST
DTSTART:20221106T090000
END:STANDARD
BEGIN:DAYLIGHT
TZOFFSETFROM:-0800
TZOFFSETTO:-0700
TZNAME:PDT
DTSTART:20230312T100000
END:DAYLIGHT
BEGIN:STANDARD
TZOFFSETFROM:-0700
TZOFFSETTO:-0800
TZNAME:PST
DTSTART:20231105T090000
END:STANDARD
BEGIN:DAYLIGHT
TZOFFSETFROM:-0800
TZOFFSETTO:-0700
TZNAME:PDT
DTSTART:20240310T100000
END:DAYLIGHT
BEGIN:STANDARD
TZOFFSETFROM:-0700
TZOFFSETTO:-0800
TZNAME:PST
DTSTART:20241103T090000
END:STANDARD
END:VTIMEZONE
BEGIN:VEVENT
DTSTART;TZID=America/Los_Angeles:20230705T090000
DTEND;TZID=America/Los_Angeles:20230705T103000
DTSTAMP:20260423T180623
CREATED:20230626T171801Z
LAST-MODIFIED:20230626T171801Z
UID:10585-1688547600-1688553000@gailbrenner.com
SUMMARY:Coming Home Together Online Gathering—Direct Knowing of the Infinite Now
DESCRIPTION:Coming Home Together Online Gathering:\nDirect Knowing of the Infinite Now \nWednesday\, July 5\, 9:00am – 10:30am Pacific\nNoon Eastern\, 5pm BST\, 6pm CET\non Zoom \nRecording will be available and sent to all who register. \nThe Coming Home Together online gathering offers a deep dive into the practicalities of awakened living. Your everyday human life will be the laboratory as we explore the myth of the separate self\, unexplored trauma patterns\, and everyday living of the deepest teachings of nondual reality. \nPlease register here. Once you register\, you will be directed to the zoom link—and you will receive it by email one hour prior to our meeting. A sliding scale is offered for those with financial challenges. \n\nChoose the amount you would like to pay.Option 1 $15.00 USDOption 2 $9.00 USDOption 3 $4.00 USD\n\n\nOur focus for this meeting is on direct knowing of the infinite now. \nThe freedom of our true nature is open to everything with no attachment or resistance—and is here to be experienced right now and in every moment. What gets in the way of knowing this truth? \nWhen we reflect deeply on our in-the-moment experience\, we find that our view is clouded by beliefs\, stories\, projections from the past\, needs\, desires\, hopes\, expectations…the list is endless… \nIt’s like we’re looking through a window filled with smudges so we can’t see clearly. And we live in our precious human lives according to these distorted views. No wonder we suffer. \nThe poet William Blake says: “If the doors of perception were cleansed everything would appear to man as it is\, infinite.” \nLet’s come together to explore the infinite nature of reality. We’ll turn toward our inner experience with great precision so we can see how our attention gets attached to the objects in our minds. \nAnd we’ll bring the clarity of inner knowing to these mental attachments so we can experience and live what is actually true. \nThe untouched mind is unclouded\, brilliant\, free of all content\, and vibrating with aliveness. And this reality is here to be lived in any moment. \nOver and over\, the invitation is know this freedom directly…in your own right now experience. \nAll are welcome to join us for guided meditation\, teachings\, and conversation as we open to the possibility of freedom…right here…in the silent overflowing fullness of the infinite now… \nQuestions? Please contact Gail here. \nDetails \nWednesday\, July 5\, 2023 9:00am – 10:30am Pacific \nStarts at noon Eastern\, 5pm BST\, 6pm CET \nRecording will be sent to everyone who registers. \nA sliding scale is offered for those with financial challenges.  \n\nChoose the amount you would like to pay.Option 1 $15.00 USDOption 2 $9.00 USDOption 3 $4.00 USD\n\n\nFriends are saying: \n\n“I am now experiencing longer moments of pure awareness and joy. No longer a slave to external circumstances and inner chatter. Loving life the way it is.” ~Susan R. \n“I liked the sense of trust\, profound acceptance\, safety\, unconditional love and support that Gail brought to us. The course made me realize the importance of being involved in a community of people dedicated to the most important thing to me\, Healing and Awakening. I just cannot do it alone!” ~Aline B. \n“Your work is a bridge between practical daily life and Supreme Reality.” ~Henrique N. \n“You radiate such warmth\, kindness\, beauty and wisdom. I had been stuck for so long and by listening to your sage advice\, am finally starting to see and feel the light. Your light helps us to shine our own.” ~Julie Desmarais \n  \n\n“At any moment\, within the field of your own experience\, there is an inner sanctuary of presence and stillness. You access this space by shifting your attention away from the jumble of thoughts\, feelings\, stories\, fears\, and external input such as others’ opinions. You simply turn inward—beyond all mind movement—and be. \nIn no time at all\, you find the ground of being\, the light of living vibration that’s here in every moment. It’s timeless\, which means it’s eternally present\, and all-embracing as the unity of all. Don’t be afraid of this vast love. Fall into its arms…”\n~Gail \nGail Brenner\, Ph.D. is your guide on this journey. She is a clinical psychologist and lover of truth with a fire that burns brightly. She brings to this work years of experience with individuals and groups and is known for creating the safety and trust needed for this deeper exploration.
URL:https://gailbrenner.com/event/coming-home-together-infinite-now/
LOCATION:online
END:VEVENT
END:VCALENDAR