BEGIN:VCALENDAR
VERSION:2.0
PRODID:-//Dr. Gail Brenner - ECPv6.15.20//NONSGML v1.0//EN
CALSCALE:GREGORIAN
METHOD:PUBLISH
X-WR-CALNAME:Dr. Gail Brenner
X-ORIGINAL-URL:https://gailbrenner.com
X-WR-CALDESC:Events for Dr. Gail Brenner
REFRESH-INTERVAL;VALUE=DURATION:PT1H
X-Robots-Tag:noindex
X-PUBLISHED-TTL:PT1H
BEGIN:VTIMEZONE
TZID:America/Los_Angeles
BEGIN:DAYLIGHT
TZOFFSETFROM:-0800
TZOFFSETTO:-0700
TZNAME:PDT
DTSTART:20230312T100000
END:DAYLIGHT
BEGIN:STANDARD
TZOFFSETFROM:-0700
TZOFFSETTO:-0800
TZNAME:PST
DTSTART:20231105T090000
END:STANDARD
BEGIN:DAYLIGHT
TZOFFSETFROM:-0800
TZOFFSETTO:-0700
TZNAME:PDT
DTSTART:20240310T100000
END:DAYLIGHT
BEGIN:STANDARD
TZOFFSETFROM:-0700
TZOFFSETTO:-0800
TZNAME:PST
DTSTART:20241103T090000
END:STANDARD
BEGIN:DAYLIGHT
TZOFFSETFROM:-0800
TZOFFSETTO:-0700
TZNAME:PDT
DTSTART:20250309T100000
END:DAYLIGHT
BEGIN:STANDARD
TZOFFSETFROM:-0700
TZOFFSETTO:-0800
TZNAME:PST
DTSTART:20251102T090000
END:STANDARD
END:VTIMEZONE
BEGIN:VEVENT
DTSTART;TZID=America/Los_Angeles:20240117T090000
DTEND;TZID=America/Los_Angeles:20240117T100000
DTSTAMP:20260423T075832
CREATED:20240107T194420Z
LAST-MODIFIED:20240111T043746Z
UID:10935-1705482000-1705485600@gailbrenner.com
SUMMARY:Coming Home Together Online Gathering: Bringing Heaven to Earth: Fully Alive in Everyday Life
DESCRIPTION:Coming Home Together Online Gathering:\nBringing Heaven to Earth: Fully Alive in Everyday Life\n \nWednesday\, January 17\, 9:00am – 10:30am Pacific\nNoon Eastern\, 5pm BST\non Zoom \nRecording will be available and sent to all who register. \nThe Coming Home Together online gathering offers a deep dive into the practicalities of awakened living. Your everyday human life will be the laboratory as we explore the myth of the separate self\, unexplored trauma patterns\, and everyday living of the deepest teachings of nondual reality. \nOur focus for this gathering is on meeting everyday life with freshness\, aligned with your natural essence as whole\, peaceful\, primed for joy\, and lacking nothing. \nWe’ll get practical about relationships\, resentments\, hurts\, and frustrations of daily life. How do we navigate these situations without losing our authentic Being? How can you\, more and more\, step into your full magnificence as you were meant to be? \nPlease register here. Once you register\, you will be directed to the zoom link—and you will receive it by email one hour prior to our meeting. A sliding scale is offered for those with financial challenges. \n\nChoose the amount you would like to pay.Option 1 $15.00 USDOption 2 $9.00 USDOption 3 $4.00 USD\n\n\nWe’ll bring inquiry to our experience to ground in our heart’s desire and invite a greater level of consciousness in common life situations. We’ll reflect with precision on how we can bring our inner knowing into the moments of our lives. \nIn our sacred time together\, we’ll explore the limiting patterns we live by and offer insights to untangle them.  We are so much more than our imagined limits! \nThrough guided meditation and heartfelt conversation\, you’ll come away with practical skills to feel grounded\, safe\, and connected within yourself and in your life. You’ll experience more space for the natural arising of intimacy\, generosity\, inspiration\, and delight. \n You are welcome just as you are with your fears\, doubts\, shame\, and questions. We honor our humanness as we expand into overflowing appreciation\, vibrant joy\, and deep connection with all of Life. I look forward to being with you! \nQuestions? Please contact Gail here. \nDetails \nWednesday\, January 17\, 2024 9:00am – 10:30am Pacific \nStarts at noon Eastern\, 5pm BST\, 6pm CET \nRecording will be sent to everyone who registers. \nA sliding scale is offered for those with financial challenges.  \n\nChoose the amount you would like to pay.Option 1 $15.00 USDOption 2 $9.00 USDOption 3 $4.00 USD\n\n\nFriends are saying: \n\n“I am now experiencing longer moments of pure awareness and joy. No longer a slave to external circumstances and inner chatter. Loving life the way it is.” ~Susan R. \n“I liked the sense of trust\, profound acceptance\, safety\, unconditional love and support that Gail brought to us. The course made me realize the importance of being involved in a community of people dedicated to the most important thing to me\, Healing and Awakening. I just cannot do it alone!” ~Aline B. \n“Your work is a bridge between practical daily life and Supreme Reality.” ~Henrique N. \n“You radiate such warmth\, kindness\, beauty and wisdom. I had been stuck for so long and by listening to your sage advice\, am finally starting to see and feel the light. Your light helps us to shine our own.” ~Julie Desmarais \n  \n\n“At any moment\, within the field of your own experience\, there is an inner sanctuary of presence and stillness. You access this space by shifting your attention away from the jumble of thoughts\, feelings\, stories\, fears\, and external input such as others’ opinions. You simply turn inward—beyond all mind movement—and be. \nIn no time at all\, you find the ground of being\, the light of living vibration that’s here in every moment. It’s timeless\, which means it’s eternally present\, and all-embracing as the unity of all. Don’t be afraid of this vast love. Fall into its arms…”\n~Gail \nGail Brenner\, Ph.D. is your guide on this journey. She is a clinical psychologist and lover of truth with a fire that burns brightly. She brings to this work years of experience with individuals and groups and is known for creating the safety and trust needed for this deeper exploration. \nimage
URL:https://gailbrenner.com/event/coming-home-together-fully-alive/
LOCATION:online
END:VEVENT
END:VCALENDAR