BEGIN:VCALENDAR
VERSION:2.0
PRODID:-//Dr. Gail Brenner - ECPv6.15.20//NONSGML v1.0//EN
CALSCALE:GREGORIAN
METHOD:PUBLISH
X-ORIGINAL-URL:https://gailbrenner.com
X-WR-CALDESC:Events for Dr. Gail Brenner
REFRESH-INTERVAL;VALUE=DURATION:PT1H
X-Robots-Tag:noindex
X-PUBLISHED-TTL:PT1H
BEGIN:VTIMEZONE
TZID:America/Los_Angeles
BEGIN:DAYLIGHT
TZOFFSETFROM:-0800
TZOFFSETTO:-0700
TZNAME:PDT
DTSTART:20230312T100000
END:DAYLIGHT
BEGIN:STANDARD
TZOFFSETFROM:-0700
TZOFFSETTO:-0800
TZNAME:PST
DTSTART:20231105T090000
END:STANDARD
BEGIN:DAYLIGHT
TZOFFSETFROM:-0800
TZOFFSETTO:-0700
TZNAME:PDT
DTSTART:20240310T100000
END:DAYLIGHT
BEGIN:STANDARD
TZOFFSETFROM:-0700
TZOFFSETTO:-0800
TZNAME:PST
DTSTART:20241103T090000
END:STANDARD
BEGIN:DAYLIGHT
TZOFFSETFROM:-0800
TZOFFSETTO:-0700
TZNAME:PDT
DTSTART:20250309T100000
END:DAYLIGHT
BEGIN:STANDARD
TZOFFSETFROM:-0700
TZOFFSETTO:-0800
TZNAME:PST
DTSTART:20251102T090000
END:STANDARD
END:VTIMEZONE
BEGIN:VEVENT
DTSTART;TZID=America/Los_Angeles:20240619T100000
DTEND;TZID=America/Los_Angeles:20240619T113000
DTSTAMP:20260422T223652
CREATED:20240611T045322Z
LAST-MODIFIED:20240611T045322Z
UID:11197-1718791200-1718796600@gailbrenner.com
SUMMARY:Intergenerational Trauma: Healing Practices Workshop
DESCRIPTION:Intergenerational Trauma: Healing Practices Workshop \nWednesday\, June 19\, 10:00am – 11:30am Pacific\n1pm Eastern\, 6pm BST\, 7pm CET\non Zoom \nwith Mays Imad\, Ph.D. \nhttps://whereolivetreesweep.com/ \nThis event is sponsored by my friends at SAND (Science and Nonduality) and is part of the 21-day online premiere of the film\, Where Olive Trees Weep. The premiere includes panels\, music\, poetry\, and more. Please click here to have access to the film and join all the events. \nMays Imad\, Ph.D. and I will lead a workshop on healing practices for intergenerational trauma to offer a safe space to open to and digest our reactions to the film and the current situation in Palestine. We will include breakout rooms for group sharing. All are welcome. \nThis newly released documentary is a heartbreakingly beautiful and poignant film about the struggles and resilience of Palestinian people living under Israeli occupation. It explores themes of loss\, trauma\, and the quest for justice. It features Dr. Gabor Maté offering trauma healing work for Palestinian women who were detained in Israeli prisons. Please join us.
URL:https://gailbrenner.com/event/healing-practices-workshop/
LOCATION:online
END:VEVENT
END:VCALENDAR