BEGIN:VCALENDAR
VERSION:2.0
PRODID:-//Dr. Gail Brenner - ECPv6.15.20//NONSGML v1.0//EN
CALSCALE:GREGORIAN
METHOD:PUBLISH
X-WR-CALNAME:Dr. Gail Brenner
X-ORIGINAL-URL:https://gailbrenner.com
X-WR-CALDESC:Events for Dr. Gail Brenner
REFRESH-INTERVAL;VALUE=DURATION:PT1H
X-Robots-Tag:noindex
X-PUBLISHED-TTL:PT1H
BEGIN:VTIMEZONE
TZID:America/Los_Angeles
BEGIN:DAYLIGHT
TZOFFSETFROM:-0800
TZOFFSETTO:-0700
TZNAME:PDT
DTSTART:20230312T100000
END:DAYLIGHT
BEGIN:STANDARD
TZOFFSETFROM:-0700
TZOFFSETTO:-0800
TZNAME:PST
DTSTART:20231105T090000
END:STANDARD
BEGIN:DAYLIGHT
TZOFFSETFROM:-0800
TZOFFSETTO:-0700
TZNAME:PDT
DTSTART:20240310T100000
END:DAYLIGHT
BEGIN:STANDARD
TZOFFSETFROM:-0700
TZOFFSETTO:-0800
TZNAME:PST
DTSTART:20241103T090000
END:STANDARD
BEGIN:DAYLIGHT
TZOFFSETFROM:-0800
TZOFFSETTO:-0700
TZNAME:PDT
DTSTART:20250309T100000
END:DAYLIGHT
BEGIN:STANDARD
TZOFFSETFROM:-0700
TZOFFSETTO:-0800
TZNAME:PST
DTSTART:20251102T090000
END:STANDARD
END:VTIMEZONE
BEGIN:VEVENT
DTSTART;TZID=America/Los_Angeles:20240818T140000
DTEND;TZID=America/Los_Angeles:20240818T160000
DTSTAMP:20260422T191156
CREATED:20240807T032104Z
LAST-MODIFIED:20240807T032104Z
UID:11276-1723989600-1723996800@gailbrenner.com
SUMMARY:In-Person Gathering: Melting Into Being
DESCRIPTION:Melting Into Being \nIn-Person Gathering\nSponsored by Open Circle Center \nSunday\, August 18\, 2024\nSatsang 2:00-4:00PM\, refreshments until 5pm \n8476 Sonoma Avenue\, Sebastopol\, CA \nAll are welcome! \nSliding scale $10-$20\nNo registration\, pay at the door \nIn our time together\, we’ll relax into effortless being\, marinating in the luminescent knowing of our true nature. \nWe’ll leave the limitations of our personal stories and attachments to discover liberation—already here—timeless\, boundless\, and free. This is you…who you’ve always been despite any beliefs that tell you otherwise. \nAt the same time\, we bow to our humanness—meeting our conditioned and fear-based patterns with understanding and compassion. And we know that who we are is unlimited\, overflowing with love\, and infinitely peaceful. \nYou are welcome just as you are with your fears\, doubts\, shame\, and questions—or simply to share sacred space. With guided meditation\, quotes from our beloved masters\, and open conversation\, we’ll celebrate together\, discovering peace and happiness right at the heart of our everyday human lives. I look forward to being with you! \nGail Brenner\, Ph.D. is your guide. As a psychologist\, author\, and teacher\, she transmits a love of truth with a fire that burns brightly. Gail is an expert in healing from early trauma and brings to this work years of experience with individuals and groups. She is known for creating the safe space needed for deep inner exploration. Gail is the author of the award-winning The End of Self-Help and Suffering Is Optional. \nimage
URL:https://gailbrenner.com/event/melting-into-being/
LOCATION:online
ORGANIZER;CN="Open Circle Center":MAILTO:web@opencirclecenter.org
END:VEVENT
END:VCALENDAR