BEGIN:VCALENDAR
VERSION:2.0
PRODID:-//Dr. Gail Brenner - ECPv6.15.20//NONSGML v1.0//EN
CALSCALE:GREGORIAN
METHOD:PUBLISH
X-WR-CALNAME:Dr. Gail Brenner
X-ORIGINAL-URL:https://gailbrenner.com
X-WR-CALDESC:Events for Dr. Gail Brenner
REFRESH-INTERVAL;VALUE=DURATION:PT1H
X-Robots-Tag:noindex
X-PUBLISHED-TTL:PT1H
BEGIN:VTIMEZONE
TZID:America/Los_Angeles
BEGIN:DAYLIGHT
TZOFFSETFROM:-0800
TZOFFSETTO:-0700
TZNAME:PDT
DTSTART:20240310T100000
END:DAYLIGHT
BEGIN:STANDARD
TZOFFSETFROM:-0700
TZOFFSETTO:-0800
TZNAME:PST
DTSTART:20241103T090000
END:STANDARD
BEGIN:DAYLIGHT
TZOFFSETFROM:-0800
TZOFFSETTO:-0700
TZNAME:PDT
DTSTART:20250309T100000
END:DAYLIGHT
BEGIN:STANDARD
TZOFFSETFROM:-0700
TZOFFSETTO:-0800
TZNAME:PST
DTSTART:20251102T090000
END:STANDARD
BEGIN:DAYLIGHT
TZOFFSETFROM:-0800
TZOFFSETTO:-0700
TZNAME:PDT
DTSTART:20260308T100000
END:DAYLIGHT
BEGIN:STANDARD
TZOFFSETFROM:-0700
TZOFFSETTO:-0800
TZNAME:PST
DTSTART:20261101T090000
END:STANDARD
END:VTIMEZONE
BEGIN:VEVENT
DTSTART;TZID=America/Los_Angeles:20250611T090000
DTEND;TZID=America/Los_Angeles:20250611T103000
DTSTAMP:20260422T001720
CREATED:20250604T025632Z
LAST-MODIFIED:20250604T025729Z
UID:11727-1749632400-1749637800@gailbrenner.com
SUMMARY:Coming Home Together Online Gathering—Sharing Presence in Our Relationships
DESCRIPTION:Coming Home Together Online Gathering:\nSharing Presence in Our Relationships \nWednesday\, June 11\, 9:00am – 10:30am Pacific\nNoon Eastern\, 5pm BST\, 6pm CET\non Zoom \nRecording will be available and sent to all who register. \nThe Coming Home Together online gathering offers a deep dive into the practicalities of awakened living. Your everyday human life will be the laboratory as we explore the myth of the separate self\, unexplored trauma patterns\, and everyday living of the deepest teachings of nondual reality. \nOur focus for this meeting is on  bringing awareness to the shared field of presence in our relationships.  \nIn any interaction\, there is the energy of the shared field that is created by the people who are present. Often\, the field contains contractions and relational habits\, leading to resistance\, discomfort\, and longing for real connection.  \nAnd when we are consciously aware in the field\, there is the potential of just being together in presence\, holding whatever arises in openness and love…being infinite awareness together beyond any separation. This is the medicine for our experiences very early in life of feeling alone and disconnected—when we most needed others for safety and care. \nPlease register here. Once you register\, you will be directed to the zoom link—and you will receive it by email one hour prior to our meeting. A sliding scale is offered for those with financial challenges. \n\nChoose the amount you would like to pay.Option 1 $15.00 USDOption 2 $9.00 USDOption 3 $4.00 USD\n\n\nIn our time together\, we’ll begin to more deeply feel ourselves\, others\, and the shared relational field we create together. We’ll turn toward ourselves to recognize how we close off from authentic connection and the strategies we use to get our needs met. These are signs that a conditioned pattern has taken hold. \nWhen that happens\, we’re identifying with the limiting story that tells us we’re not good enough or need to be in control. Then we project our fears and needs onto others\, hoping for things to improve\, but getting familiar results such as abandonment\, rejection\, and not being seen. \nWe’ll also open to how we feel inside when we’re with others who are triggered or disconnected. When they project their fears and needs onto us\, we may end up in a relationship dance that feels unfulfilling. And with awareness\, we can hold even those contractions in love. \nCome and explore the invitation to see through the veils of conditioning that appear in our relationships. With attention to our shared relational field\, we’ll turn inward to lovingly welcome the tender places in us that we’re afraid to express. \nThen we’ll feel into the possibility of showing up with others—innocent and free—having the courage to inhabit what is naturally true and alive in us. \nThrough guided meditation\, practical guidance\, and heartfelt conversation\, we’ll explore the possibility of intimate connection by bringing attention the shared space of pure being. Together\, we lovingly embrace our humanness as we expand into overflowing appreciation\, vibrant joy\, and deep connection with all of Life. \nQuestions? Please contact Gail here. \nDetails \nWednesday\, June 11\, 2025 9:00am – 10:30am Pacific \nStarts at noon Eastern\, 5pm BST\, 6pm CET \nRecording will be sent to everyone who registers. \nA sliding scale is offered for those with financial challenges.  \n\nChoose the amount you would like to pay.Option 1 $15.00 USDOption 2 $9.00 USDOption 3 $4.00 USD\n\n\nFriends are saying: \n\n“I am now experiencing longer moments of pure awareness and joy. No longer a slave to external circumstances and inner chatter. Loving life the way it is.” ~Susan R. \n“I liked the sense of trust\, profound acceptance\, safety\, unconditional love and support that Gail brought to us. The course made me realize the importance of being involved in a community of people dedicated to the most important thing to me\, Healing and Awakening. I just cannot do it alone!” ~Aline B. \n“Your work is a bridge between practical daily life and Supreme Reality.” ~Henrique N. \n“You radiate such warmth\, kindness\, beauty and wisdom. I had been stuck for so long and by listening to your sage advice\, am finally starting to see and feel the light. Your light helps us to shine our own.” ~Julie Desmarais \n  \n\n“At any moment\, within the field of your own experience\, there is an inner sanctuary of presence and stillness. You access this space by shifting your attention away from the jumble of thoughts\, feelings\, stories\, fears\, and external input such as others’ opinions. You simply turn inward—beyond all mind movement—and be. \nIn no time at all\, you find the ground of being\, the light of living vibration that’s here in every moment. It’s timeless\, which means it’s eternally present\, and all-embracing as the unity of all. Don’t be afraid of this vast love. Fall into its arms…”\n~Gail \nGail Brenner\, Ph.D. is your guide on this journey. She is a clinical psychologist and lover of truth with a fire that burns brightly. She brings to this work years of experience with individuals and groups and is known for creating the safety and trust needed for this deeper exploration. \nimage
URL:https://gailbrenner.com/event/coming-home-together-sharing-presence/
LOCATION:online
END:VEVENT
END:VCALENDAR