BEGIN:VCALENDAR
VERSION:2.0
PRODID:-//Dr. Gail Brenner - ECPv6.15.20//NONSGML v1.0//EN
CALSCALE:GREGORIAN
METHOD:PUBLISH
X-WR-CALNAME:Dr. Gail Brenner
X-ORIGINAL-URL:https://gailbrenner.com
X-WR-CALDESC:Events for Dr. Gail Brenner
REFRESH-INTERVAL;VALUE=DURATION:PT1H
X-Robots-Tag:noindex
X-PUBLISHED-TTL:PT1H
BEGIN:VTIMEZONE
TZID:America/Los_Angeles
BEGIN:DAYLIGHT
TZOFFSETFROM:-0800
TZOFFSETTO:-0700
TZNAME:PDT
DTSTART:20240310T100000
END:DAYLIGHT
BEGIN:STANDARD
TZOFFSETFROM:-0700
TZOFFSETTO:-0800
TZNAME:PST
DTSTART:20241103T090000
END:STANDARD
BEGIN:DAYLIGHT
TZOFFSETFROM:-0800
TZOFFSETTO:-0700
TZNAME:PDT
DTSTART:20250309T100000
END:DAYLIGHT
BEGIN:STANDARD
TZOFFSETFROM:-0700
TZOFFSETTO:-0800
TZNAME:PST
DTSTART:20251102T090000
END:STANDARD
BEGIN:DAYLIGHT
TZOFFSETFROM:-0800
TZOFFSETTO:-0700
TZNAME:PDT
DTSTART:20260308T100000
END:DAYLIGHT
BEGIN:STANDARD
TZOFFSETFROM:-0700
TZOFFSETTO:-0800
TZNAME:PST
DTSTART:20261101T090000
END:STANDARD
END:VTIMEZONE
BEGIN:VEVENT
DTSTART;TZID=America/Los_Angeles:20250820T090000
DTEND;TZID=America/Los_Angeles:20250820T103000
DTSTAMP:20260421T204408
CREATED:20250811T160552Z
LAST-MODIFIED:20250811T160552Z
UID:11064-1755680400-1755685800@gailbrenner.com
SUMMARY:Coming Home Together Online Gathering—Feeling Safe: Gateway to Awakening
DESCRIPTION:Coming Home Together Online Gathering:\nFeeling Safe: Gateway to Awakening \nWednesday\, August 20\, 9:00am – 10:30am Pacific\nNoon Eastern\, 5pm BST\, 6pm CET\non Zoom \nRecording will be available and sent to all who register. \nThe Coming Home Together online gathering offers a deep dive into the practicalities of awakened living. Your everyday human life will be the laboratory as we explore the myth of the separate self\, unexplored trauma patterns\, and everyday living of the deepest teachings of nondual reality. \nPlease register here. Once you register\, you will be directed to the zoom link—and you will receive it by email one hour prior to our meeting. A sliding scale is offered for those with financial challenges. \n\nChoose the amount you would like to pay.Option 1 $15.00 USDOption 2 $9.00 USDOption 3 $4.00 USD\n\n\nOur focus for this meeting is on  what it means to feel safe and the role of safety in realizing our true nature. \nMany of us grow up not feeling emotionally safe in our families. The effects of this lack of safety can be far-reaching. We resort to strategies to cope and survive such as trying to figure everything out in our heads\, judging ourselves and others (the inner critic)\, people pleasing\, addiction\, and perfectionism.  \nAnd with no way of learning how to care for the emotions that naturally arise\, we disconnect from the most tender parts of our experience.  \nOver time\, we develop entrenched views of ourselves and others that are fear-based and limited. This is how we feel separate from ourselves and from life…and as we all know\, this is not a satisfying way to live. \nTrapped in these identities\, we long for wholeness\, but our search gets derailed by the inner mistrust we carry. \nThe realization of our true nature involves a shift of identification from a contracted sense of the personal self into the boundless field of alive presence. The tensions around fear and mistrust relax completely…and if they temporarily arise\, they come and go without attachment. We remain as peace.  \nIn our time together\, in loving community\, we’ll explore emotional safety. What is it? How do we find it? And how does it support the realization of who we are beyond any mind-made patterns? \nYou are welcome with your fears\, doubts\, shame\, and questions—and simply to share sacred space in community with like-minded friends. Together\, we lovingly embrace our humanness as we expand into overflowing appreciation and deep connection with all of Life. I look forward to being with you! \nQuestions? Please contact Gail here. \nDetails \nWednesday\, August 20\, 2025 9:00am – 10:30am Pacific \nStarts at noon Eastern\, 5pm BST\, 6pm CET \nRecording will be sent to everyone who registers. \nA sliding scale is offered for those with financial challenges.  \n\nChoose the amount you would like to pay.Option 1 $15.00 USDOption 2 $9.00 USDOption 3 $4.00 USD\n\n\nFriends are saying: \n\n“I am now experiencing longer moments of pure awareness and joy. No longer a slave to external circumstances and inner chatter. Loving life the way it is.” ~Susan R. \n“I liked the sense of trust\, profound acceptance\, safety\, unconditional love and support that Gail brought to us. The course made me realize the importance of being involved in a community of people dedicated to the most important thing to me\, Healing and Awakening. I just cannot do it alone!” ~Aline B. \n“Your work is a bridge between practical daily life and Supreme Reality.” ~Henrique N. \n“You radiate such warmth\, kindness\, beauty and wisdom. I had been stuck for so long and by listening to your sage advice\, am finally starting to see and feel the light. Your light helps us to shine our own.” ~Julie Desmarais \n  \n\n“At any moment\, within the field of your own experience\, there is an inner sanctuary of presence and stillness. You access this space by shifting your attention away from the jumble of thoughts\, feelings\, stories\, fears\, and external input such as others’ opinions. You simply turn inward—beyond all mind movement—and be. \nIn no time at all\, you find the ground of being\, the light of living vibration that’s here in every moment. It’s timeless\, which means it’s eternally present\, and all-embracing as the unity of all. Don’t be afraid of this vast love. Fall into its arms…”\n~Gail \nGail Brenner\, Ph.D. is your guide on this journey. She is a clinical psychologist and lover of truth with a fire that burns brightly. She brings to this work years of experience with individuals and groups and is known for creating the safety and trust needed for this deeper exploration.
URL:https://gailbrenner.com/event/coming-home-together-safe/
LOCATION:online
END:VEVENT
END:VCALENDAR