BEGIN:VCALENDAR
VERSION:2.0
PRODID:-//Dr. Gail Brenner - ECPv6.15.20//NONSGML v1.0//EN
CALSCALE:GREGORIAN
METHOD:PUBLISH
X-WR-CALNAME:Dr. Gail Brenner
X-ORIGINAL-URL:https://gailbrenner.com
X-WR-CALDESC:Events for Dr. Gail Brenner
REFRESH-INTERVAL;VALUE=DURATION:PT1H
X-Robots-Tag:noindex
X-PUBLISHED-TTL:PT1H
BEGIN:VTIMEZONE
TZID:America/Los_Angeles
BEGIN:DAYLIGHT
TZOFFSETFROM:-0800
TZOFFSETTO:-0700
TZNAME:PDT
DTSTART:20240310T100000
END:DAYLIGHT
BEGIN:STANDARD
TZOFFSETFROM:-0700
TZOFFSETTO:-0800
TZNAME:PST
DTSTART:20241103T090000
END:STANDARD
BEGIN:DAYLIGHT
TZOFFSETFROM:-0800
TZOFFSETTO:-0700
TZNAME:PDT
DTSTART:20250309T100000
END:DAYLIGHT
BEGIN:STANDARD
TZOFFSETFROM:-0700
TZOFFSETTO:-0800
TZNAME:PST
DTSTART:20251102T090000
END:STANDARD
BEGIN:DAYLIGHT
TZOFFSETFROM:-0800
TZOFFSETTO:-0700
TZNAME:PDT
DTSTART:20260308T100000
END:DAYLIGHT
BEGIN:STANDARD
TZOFFSETFROM:-0700
TZOFFSETTO:-0800
TZNAME:PST
DTSTART:20261101T090000
END:STANDARD
END:VTIMEZONE
BEGIN:VEVENT
DTSTART;TZID=America/Los_Angeles:20251015T090000
DTEND;TZID=America/Los_Angeles:20251015T103000
DTSTAMP:20260421T172841
CREATED:20251005T222755Z
LAST-MODIFIED:20251006T184812Z
UID:11860-1760518800-1760524200@gailbrenner.com
SUMMARY:Coming Home Together FREE Gathering—Core Practices for Peace and Happiness
DESCRIPTION:Coming Home Together FREE Online Gathering:\nCore Practices for Peace and Happiness\n \nEvent is free; all are welcome \nWednesday\, October 15\, 9:00am – 10:30am Pacific\nNoon Eastern\, 5pm BST\non Zoom \nRecording will be available and sent to all who register. \nThere is usually a charge for these gatherings\, but this one is free as an offering to you. \nThe Coming Home Together online gathering offers safe space for trauma healing and awakened living\, informed by the deepest teachings of nondual reality. \n~~~~~~~~~~~~~~~ \n Please register in advance for this free gathering by clicking here:\nhttps://us06web.zoom.us/meeting/register/7edoaGqDQdqTBM9bE8ytrw  \nAfter registering\, you will receive a confirmation email with information about how to join the gathering. \n~~~~~~~~~~~~~~~ \nOur focus for this meeting is on practices for peace and happiness in everyday life. These are the five core practices I describe in my book Suffering Is Optional. Practices give us tools to rely on when strong conditioned patterns take hold and help us to embody our deep love for freedom in the moments of our actual human lives.  \nWith practices\, we become conscious\, aware\, and loving\, feeling more connected in our relationships with ourselves and others.  \nHere are the five core practices: \n\nTurning toward your experience;\nThe safe haven of being aware;\nLosing interest in thoughts;\nWelcoming feelings; and\nThe sacred return to loving aware presence.\n\nThese practices are like breadcrumbs on the spiritual path to support you in finding your way back from the illusion of made-up\, limiting stories to the realization of the truth of your essential self. \nDo you want peace and freedom to be your living reality? Do you want to authentically connect with yourself and others? Then practice now with whatever habitual reactions appear. Let every story\, emotion\, and identity come into the light of awareness so you know exactly how you end up feeling limited and triggered. \nYou discover that who you are has always been whole\, fully alive\, and overflowing as love… You discover the freedom to be yourself fully. No longer veiled by conditioning\, you’ll expand into spaciousness\, fresh responding\, and an infinite capacity for love. \nIn our time together\, we’ll unpack these five practices so they feel accessible to all. Through guided meditation\, practical guidance\, and heartfelt conversation\, we’ll open to all that is with kindness and compassion as we find our way home.  \nCome with your fears\, doubts\, shame\, and questions—and simply to share sacred space together in community with like-minded friends. \nTogether\, we lovingly embrace our humanness as we expand into appreciation\, vibrant joy\, and deep connection with all of Life. \nQuestions? Please contact Gail here. \nDetails \nWednesday\, October 15\, 2025 9:00am – 10:30am Pacific \nStarts at noon Eastern\, 5pm BST\, 6pm CET \nRecording will be sent to everyone who registers. \n~~~~~~~~~~~~~~~ \n Please register in advance for this free gathering by clicking here:\nhttps://us06web.zoom.us/meeting/register/7edoaGqDQdqTBM9bE8ytrw  \nAfter registering\, you will receive a confirmation email with information about how to join the gathering. \n~~~~~~~~~~~~~~~ \nFriends are saying: \n\n“I am now experiencing longer moments of pure awareness and joy. No longer a slave to external circumstances and inner chatter. Loving life the way it is.” ~Susan R. \n“I liked the sense of trust\, profound acceptance\, safety\, unconditional love and support that Gail brought to us. The course made me realize the importance of being involved in a community of people dedicated to the most important thing to me\, Healing and Awakening. I just cannot do it alone!” ~Aline B. \n“Your work is a bridge between practical daily life and Supreme Reality.” ~Henrique N. \n“You radiate such warmth\, kindness\, beauty and wisdom. I had been stuck for so long and by listening to your sage advice\, am finally starting to see and feel the light. Your light helps us to shine our own.” ~Julie Desmarais \n\n“At any moment\, within the field of your own experience\, there is an inner sanctuary of presence and stillness. You access this space by shifting your attention away from the jumble of thoughts\, feelings\, stories\, fears\, and external input such as others’ opinions. You simply turn inward—beyond all mind movement—and be. \nIn no time at all\, you find the ground of being\, the light of living vibration that’s here in every moment. It’s timeless\, which means it’s eternally present\, and all-embracing as the unity of all. Don’t be afraid of this vast love. Fall into its arms…”\n~Gail \nGail Brenner\, Ph.D. is your guide on this journey. She is a clinical psychologist and lover of truth with a fire that burns brightly. She brings to this work years of experience with individuals and groups and is known for creating the sense of safety and trust needed for this deeper exploration. \nimage credit
URL:https://gailbrenner.com/event/coming-home-together-core-practices-peace-happiness/
LOCATION:online
END:VEVENT
END:VCALENDAR