BEGIN:VCALENDAR
VERSION:2.0
PRODID:-//Dr. Gail Brenner - ECPv6.15.20//NONSGML v1.0//EN
CALSCALE:GREGORIAN
METHOD:PUBLISH
X-WR-CALNAME:Dr. Gail Brenner
X-ORIGINAL-URL:https://gailbrenner.com
X-WR-CALDESC:Events for Dr. Gail Brenner
REFRESH-INTERVAL;VALUE=DURATION:PT1H
X-Robots-Tag:noindex
X-PUBLISHED-TTL:PT1H
BEGIN:VTIMEZONE
TZID:America/Los_Angeles
BEGIN:DAYLIGHT
TZOFFSETFROM:-0800
TZOFFSETTO:-0700
TZNAME:PDT
DTSTART:20240310T100000
END:DAYLIGHT
BEGIN:STANDARD
TZOFFSETFROM:-0700
TZOFFSETTO:-0800
TZNAME:PST
DTSTART:20241103T090000
END:STANDARD
BEGIN:DAYLIGHT
TZOFFSETFROM:-0800
TZOFFSETTO:-0700
TZNAME:PDT
DTSTART:20250309T100000
END:DAYLIGHT
BEGIN:STANDARD
TZOFFSETFROM:-0700
TZOFFSETTO:-0800
TZNAME:PST
DTSTART:20251102T090000
END:STANDARD
BEGIN:DAYLIGHT
TZOFFSETFROM:-0800
TZOFFSETTO:-0700
TZNAME:PDT
DTSTART:20260308T100000
END:DAYLIGHT
BEGIN:STANDARD
TZOFFSETFROM:-0700
TZOFFSETTO:-0800
TZNAME:PST
DTSTART:20261101T090000
END:STANDARD
END:VTIMEZONE
BEGIN:VEVENT
DTSTART;TZID=America/Los_Angeles:20251029T090000
DTEND;TZID=America/Los_Angeles:20251029T103000
DTSTAMP:20260421T155500
CREATED:20251022T150601Z
LAST-MODIFIED:20251022T152145Z
UID:11883-1761728400-1761733800@gailbrenner.com
SUMMARY:Coming Home Together Online Gathering—Opening to Curiosity\, Humility\, Compassion\, and Devotion
DESCRIPTION:Coming Home Together Online Gathering:\nOpening to Curiosity\, Humility\, Compassion\, and Devotion\n \nWednesday\, October 29\, 9:00am – 10:30am Pacific\nNoon Eastern\, 5pm BST\, 6pm CET\non Zoom \n\nPLEASE NOTE START TIME IS ONE HOUR EARLIER THIS WEEK IN THE UK AND MAINLAND EUROPE \n\nRecording will be available and sent to all who register. \nThe Coming Home Together online gathering is a safe space and loving community for trauma healing and awakened living\, informed by the deepest teachings of nondual reality. \nOur focus for this meeting is on exploring ways to celebrate and remember the sacred knowing of our true nature. No matter how deep our experience is of endless openness beyond time and space\, we find ourselves living the challenges and joys of daily life. How can we live these moments aligned with the truth of reality\, informed by the revelation that who we are is not limited and lacking?  \nPlease register here. Once you register\, you will be directed to the zoom link—and you will receive it by email one hour prior to our meeting. A sliding scale is offered for those with financial challenges. \n\nChoose the amount you would like to pay.Option 1 $15.00 USDOption 2 $9.00 USDOption 3 $4.00 USD\n\n\nWe will shine the light of our inquiry on curiosity\, humility\, compassion\, and devotion. What is our experience when we deeply feel into these qualities of being? How can we infuse them into our relationships with ourselves\, other people\, nature\, and life? What is it like to live without the illusion of the separate self and knowing our connection to all? \nIn a supportive field of shared presence\, we’ll open to these essential qualities in our own experience. We’ll explore how our view expands as we let go of limited ways of being and embody spaciousness\, aliveness\, and love. This is your natural being\, who you have always been… \nOur time together includes guided meditation\, teachings\, helpful tools\, and Q&A. Come with your fears\, doubts\, shame\, and questions—and simply to share sacred space together in community with like-minded friends.  \nTogether\, we lovingly embrace our humanness as we expand into overflowing appreciation\, vibrant joy\, and deep connection with all of Life. \nQuestions? Please contact Gail here. \nDetails \nWednesday\, October 29\, 2025 9:00am – 10:30am Pacific \nStarts at noon Eastern\, 5pm BST\, 6pm CET \n\nPLEASE NOTE START TIME IS ONE HOUR EARLIER THIS WEEK IN THE UK AND MAINLAND EUROPE \n\nRecording will be sent to everyone who registers. \nA sliding scale is offered for those with financial challenges.  \n\nChoose the amount you would like to pay.Option 1 $15.00 USDOption 2 $9.00 USDOption 3 $4.00 USD\n\n\nFriends are saying: \n\n“I am now experiencing longer moments of pure awareness and joy. No longer a slave to external circumstances and inner chatter. Loving life the way it is.” ~Susan R. \n“I liked the sense of trust\, profound acceptance\, safety\, unconditional love and support that Gail brought to us. The course made me realize the importance of being involved in a community of people dedicated to the most important thing to me\, Healing and Awakening. I just cannot do it alone!” ~Aline B \n“Your work is a bridge between practical daily life and Supreme Reality.” ~Henrique N. \n“You radiate such warmth\, kindness\, beauty and wisdom. I had been stuck for so long and by listening to your sage advice\, am finally starting to see and feel the light. Your light helps us to shine our own.” ~Julie Desmarais \n\n“At any moment\, within the field of your own experience\, there is an inner sanctuary of presence and stillness. You access this space by shifting your attention away from the jumble of thoughts\, feelings\, stories\, fears\, and external input such as others’ opinions. You simply turn inward—beyond all mind movement—and be. \nIn no time at all\, you find the ground of being\, the light of living vibration that’s here in every moment. It’s timeless\, which means it’s eternally present\, and all-embracing as the unity of all. Don’t be afraid of this vast love. Fall into its arms…”\n~Gail \nGail Brenner\, Ph.D. is your guide on this journey. She is a clinical psychologist and lover of truth with a fire that burns brightly. She brings to this work years of experience with individuals and groups and is known for creating the safety and trust needed for this deeper exploration.
URL:https://gailbrenner.com/event/coming-home-together-opening/
LOCATION:online
END:VEVENT
END:VCALENDAR