BEGIN:VCALENDAR
VERSION:2.0
PRODID:-//Dr. Gail Brenner - ECPv6.15.20//NONSGML v1.0//EN
CALSCALE:GREGORIAN
METHOD:PUBLISH
X-WR-CALNAME:Dr. Gail Brenner
X-ORIGINAL-URL:https://gailbrenner.com
X-WR-CALDESC:Events for Dr. Gail Brenner
REFRESH-INTERVAL;VALUE=DURATION:PT1H
X-Robots-Tag:noindex
X-PUBLISHED-TTL:PT1H
BEGIN:VTIMEZONE
TZID:America/Los_Angeles
BEGIN:DAYLIGHT
TZOFFSETFROM:-0800
TZOFFSETTO:-0700
TZNAME:PDT
DTSTART:20240310T100000
END:DAYLIGHT
BEGIN:STANDARD
TZOFFSETFROM:-0700
TZOFFSETTO:-0800
TZNAME:PST
DTSTART:20241103T090000
END:STANDARD
BEGIN:DAYLIGHT
TZOFFSETFROM:-0800
TZOFFSETTO:-0700
TZNAME:PDT
DTSTART:20250309T100000
END:DAYLIGHT
BEGIN:STANDARD
TZOFFSETFROM:-0700
TZOFFSETTO:-0800
TZNAME:PST
DTSTART:20251102T090000
END:STANDARD
BEGIN:DAYLIGHT
TZOFFSETFROM:-0800
TZOFFSETTO:-0700
TZNAME:PDT
DTSTART:20260308T100000
END:DAYLIGHT
BEGIN:STANDARD
TZOFFSETFROM:-0700
TZOFFSETTO:-0800
TZNAME:PST
DTSTART:20261101T090000
END:STANDARD
END:VTIMEZONE
BEGIN:VEVENT
DTSTART;TZID=America/Los_Angeles:20251105T090000
DTEND;TZID=America/Los_Angeles:20251105T103000
DTSTAMP:20260421T155505
CREATED:20251028T162536Z
LAST-MODIFIED:20251028T164426Z
UID:11894-1762333200-1762338600@gailbrenner.com
SUMMARY:Coming Home Together Online Gathering—The Art of Intimate and Authentic Relationships
DESCRIPTION:Coming Home Together Online Gathering:\nThe Art of Intimate and Authentic Relationships \nWednesday\, November 5\, 9:00am – 10:30am Pacific\nNoon Eastern\, 5pm BST\, 6pm CET\non Zoom \nRecording will be available and sent to all who register. \nThe Coming Home Together online gathering is a safe space and loving community for trauma healing and awakened living\, informed by the deepest teachings of nondual reality. \nOur focus for this meeting is on the art of intimate and authentic connecting in our relationships. And yes\, it’s an art! We’ll open to the messiness\, confusion\, and ever present possibility for presence and heart. \nPlease register here. Once you register\, you will be directed to the zoom link—and you will receive it by email one hour prior to our meeting. A sliding scale is offered for those with financial challenges. \n\nChoose the amount you would like to pay.Option 1 $15.00 USDOption 2 $9.00 USDOption 3 $4.00 USD\n\n\nOur connections with others offer the precious opportunity for sharing the beingness of our true nature and embodying infinite compassion that welcomes all. How open can we be? \nIf we don’t feel free to be our authentic selves in our relationships\, then a conditioned pattern has taken hold. We lose our grounding in love and openness\, and we feel the pain of disconnection. \nWe’re identifying with limiting stories that tell us we’re not good enough or need to protect ourselves. Then we project our fears and needs onto others\, hoping for things to improve\, but getting familiar results such as abandonment\, rejection\, and not being seen. \nAt the same time\, others may be projecting their fears and needs onto us. That’s how we end up in a relationship dance that feels unfulfilling. \nNo wonder we feel lonely and isolated. We’re relating through patterns and not actually meeting each other for the intimate and loving connection we long for. \nWe learn about relating with others early on in our lives\, and for some of us\, the message is that we need to suppress our authenticity in order to feel safe. Instead\, we try to connect by pleasing others\, or we give up altogether and settle for disconnection. Navigating relationships can be confusing—and frustrating! \nCome and explore the invitation to see through the veils of our conditioning that appear in our relationships. We’ll turn inward to lovingly meet the tender places in us that we’re afraid to express. \nThen we’ll feel into the possibility of showing up with others—innocent and free—having the courage to inhabit what is naturally true and alive in us. \nThrough guided meditation\, practical guidance\, and heartfelt conversation\, we’ll explore the limiting narratives we bring to our relationships and practice how to move beyond them—into freedom and authenticity. \nTogether\, we lovingly embrace our humanness as we expand into overflowing appreciation\, vibrant joy\, and deep connection with all of Life. \nQuestions? Please contact Gail here. \nDetails \nWednesday\, November 5\, 2025 9:00am – 10:30am Pacific \nStarts at noon Eastern\, 5pm BST\, 6pm CET \nRecording will be sent to everyone who registers. \nA sliding scale is offered for those with financial challenges.  \n\nChoose the amount you would like to pay.Option 1 $15.00 USDOption 2 $9.00 USDOption 3 $4.00 USD\n\n\nFriends are saying: \n\n“I am now experiencing longer moments of pure awareness and joy. No longer a slave to external circumstances and inner chatter. Loving life the way it is.” ~Susan R. \n“I liked the sense of trust\, profound acceptance\, safety\, unconditional love and support that Gail brought to us. The course made me realize the importance of being involved in a community of people dedicated to the most important thing to me\, Healing and Awakening. I just cannot do it alone!” ~Aline B. \n“Your work is a bridge between practical daily life and Supreme Reality.” ~Henrique N. \n“You radiate such warmth\, kindness\, beauty and wisdom. I had been stuck for so long and by listening to your sage advice\, am finally starting to see and feel the light. Your light helps us to shine our own.” ~Julie Desmarais \n  \n\n“At any moment\, within the field of your own experience\, there is an inner sanctuary of presence and stillness. You access this space by shifting your attention away from the jumble of thoughts\, feelings\, stories\, fears\, and external input such as others’ opinions. You simply turn inward—beyond all mind movement—and be. \nIn no time at all\, you find the ground of being\, the light of living vibration that’s here in every moment. It’s timeless\, which means it’s eternally present\, and all-embracing as the unity of all. Don’t be afraid of this vast love. Fall into its arms…”\n~Gail \nGail Brenner\, Ph.D. is your guide on this journey. She is a clinical psychologist and lover of truth with a fire that burns brightly. She brings to this work years of experience with individuals and groups and is known for creating the safety and trust needed for this deeper exploration. \nimage
URL:https://gailbrenner.com/event/coming-home-together-intimate-authentic/
LOCATION:online
END:VEVENT
END:VCALENDAR