BEGIN:VCALENDAR
VERSION:2.0
PRODID:-//Dr. Gail Brenner - ECPv6.15.20//NONSGML v1.0//EN
CALSCALE:GREGORIAN
METHOD:PUBLISH
X-ORIGINAL-URL:https://gailbrenner.com
X-WR-CALDESC:Events for Dr. Gail Brenner
REFRESH-INTERVAL;VALUE=DURATION:PT1H
X-Robots-Tag:noindex
X-PUBLISHED-TTL:PT1H
BEGIN:VTIMEZONE
TZID:America/Los_Angeles
BEGIN:DAYLIGHT
TZOFFSETFROM:-0800
TZOFFSETTO:-0700
TZNAME:PDT
DTSTART:20240310T100000
END:DAYLIGHT
BEGIN:STANDARD
TZOFFSETFROM:-0700
TZOFFSETTO:-0800
TZNAME:PST
DTSTART:20241103T090000
END:STANDARD
BEGIN:DAYLIGHT
TZOFFSETFROM:-0800
TZOFFSETTO:-0700
TZNAME:PDT
DTSTART:20250309T100000
END:DAYLIGHT
BEGIN:STANDARD
TZOFFSETFROM:-0700
TZOFFSETTO:-0800
TZNAME:PST
DTSTART:20251102T090000
END:STANDARD
BEGIN:DAYLIGHT
TZOFFSETFROM:-0800
TZOFFSETTO:-0700
TZNAME:PDT
DTSTART:20260308T100000
END:DAYLIGHT
BEGIN:STANDARD
TZOFFSETFROM:-0700
TZOFFSETTO:-0800
TZNAME:PST
DTSTART:20261101T090000
END:STANDARD
END:VTIMEZONE
BEGIN:VEVENT
DTSTART;TZID=America/Los_Angeles:20251119T090000
DTEND;TZID=America/Los_Angeles:20251119T103000
DTSTAMP:20260421T155846
CREATED:20251112T220541Z
LAST-MODIFIED:20251113T170148Z
UID:11925-1763542800-1763548200@gailbrenner.com
SUMMARY:Coming Home Together Online Gathering—Who Are You? The Essential Question for Trauma Healing and Awakening
DESCRIPTION:Coming Home Together Online Gathering:\nWho Are You? The Essential Question for Trauma Healing and Awakening \nWednesday\, November 19\, 9:00am – 10:30am Pacific\nNoon Eastern\, 5pm BST\, 6pm CET\non Zoom \nRecording will be available and sent to all who register. \nThe Coming Home Together is a safe space and loving community for trauma healing and awakened living\, informed by the deepest teachings of nondual reality.. \nOur focus for this meeting is on the essential spiritual question\, “Who am I?” and why it matters to explore it.  \nPlease register here. Once you register\, you will be directed to the zoom link—and you will receive it by email one hour prior to our meeting. A sliding scale is offered for those with financial challenges. \n\nChoose the amount you would like to pay.Option 1 $15.00 USDOption 2 $9.00 USDOption 3 $4.00 USD\n\n\nAt the root of personal suffering lies the belief that who we are is a person with a history\, story\, needs\, preferences\, fears\, and a sense of lack. As long as we identify as this core belief\, we will view ourselves\, others\, and situations through the lens of these limited and distorted filters. \nWhat does this mean for you and your life? Say that you’ve learned to define yourself as unworthy or inadequate. This belief will lead you to override your authentic dreams and desires. Your focus is on seeking approval from others in an attempt to feel whole\, and you’ll believe that happiness and fulfillment are not meant for you.  \nThis is how it works for any fear- or lack-based belief we think defines us. If we’re attached to stories\, emotions\, and ideas about the past or future\, we’ll contract into a false sense of self that affects everything about our human experience in life. \nThe release from suffering occurs when we disconnect our identity from the contents of our minds. We no longer feed our habits of thinking. We stop going to our familiar stories to know who we are or how to act. We don’t buy into hopes\, expectations\, should’s—or any thought that limits us. \nWe take loving care of our young parts and know they don’t define us. \n This is a radical shift into freedom\, expansion\, and not knowing—and into the pure aliveness that has always been here and available.  \nAre you interested in suffering less? We come together in the sacred space of loving community to explore the nature of identity and the freedom that’s possible when you know who you are—and who you’re not. Bring all of you—your fears\, doubt\, shame\, questions—and joy. All is welcome! \nTogether\, we lovingly embrace our humanness as we expand into overflowing appreciation and deep connection with all of Life. \nQuestions? Please contact Gail here. \nDetails \nWednesday\, November 19\, 2025 9:00am – 10:30am Pacific \nStarts at noon Eastern\, 5pm BST\, 6pm CET \nRecording will be sent to everyone who registers. \nA sliding scale is offered for those with financial challenges.  \n\nChoose the amount you would like to pay.Option 1 $15.00 USDOption 2 $9.00 USDOption 3 $4.00 USD\n\n\nFriends are saying: \n\n“I am now experiencing longer moments of pure awareness and joy. No longer a slave to external circumstances and inner chatter. Loving life the way it is.” ~Susan R. \n“I liked the sense of trust\, profound acceptance\, safety\, unconditional love and support that Gail brought to us. The course made me realize the importance of being involved in a community of people dedicated to the most important thing to me\, Healing and Awakening. I just cannot do it alone!” ~Aline B. \n“Your work is a bridge between practical daily life and Supreme Reality.” ~Henrique N. \n“You radiate such warmth\, kindness\, beauty and wisdom. I had been stuck for so long and by listening to your sage advice\, am finally starting to see and feel the light. Your light helps us to shine our own.” ~Julie Desmarais \n\n“At any moment\, within the field of your own experience\, there is an inner sanctuary of presence and stillness. You access this space by shifting your attention away from the jumble of thoughts\, feelings\, stories\, fears\, and external input such as others’ opinions. You simply turn inward—beyond all mind movement—and be. \nIn no time at all\, you find the ground of being\, the light of living vibration that’s here in every moment. It’s timeless\, which means it’s eternally present\, and all-embracing as the unity of all. Don’t be afraid of this vast love. Fall into its arms…”\n~Gail \nGail Brenner\, Ph.D. is your guide on this journey. She is a clinical psychologist and lover of truth with a fire that burns brightly. She brings to this work years of experience with individuals and groups and is known for creating the safety and trust needed for this deeper exploration.
URL:https://gailbrenner.com/event/coming-home-together-who-are-you/
LOCATION:online
END:VEVENT
END:VCALENDAR