BEGIN:VCALENDAR
VERSION:2.0
PRODID:-//Dr. Gail Brenner - ECPv6.15.20//NONSGML v1.0//EN
CALSCALE:GREGORIAN
METHOD:PUBLISH
X-WR-CALNAME:Dr. Gail Brenner
X-ORIGINAL-URL:https://gailbrenner.com
X-WR-CALDESC:Events for Dr. Gail Brenner
REFRESH-INTERVAL;VALUE=DURATION:PT1H
X-Robots-Tag:noindex
X-PUBLISHED-TTL:PT1H
BEGIN:VTIMEZONE
TZID:America/Los_Angeles
BEGIN:DAYLIGHT
TZOFFSETFROM:-0800
TZOFFSETTO:-0700
TZNAME:PDT
DTSTART:20240310T100000
END:DAYLIGHT
BEGIN:STANDARD
TZOFFSETFROM:-0700
TZOFFSETTO:-0800
TZNAME:PST
DTSTART:20241103T090000
END:STANDARD
BEGIN:DAYLIGHT
TZOFFSETFROM:-0800
TZOFFSETTO:-0700
TZNAME:PDT
DTSTART:20250309T100000
END:DAYLIGHT
BEGIN:STANDARD
TZOFFSETFROM:-0700
TZOFFSETTO:-0800
TZNAME:PST
DTSTART:20251102T090000
END:STANDARD
BEGIN:DAYLIGHT
TZOFFSETFROM:-0800
TZOFFSETTO:-0700
TZNAME:PDT
DTSTART:20260308T100000
END:DAYLIGHT
BEGIN:STANDARD
TZOFFSETFROM:-0700
TZOFFSETTO:-0800
TZNAME:PST
DTSTART:20261101T090000
END:STANDARD
END:VTIMEZONE
BEGIN:VEVENT
DTSTART;TZID=America/Los_Angeles:20251217T090000
DTEND;TZID=America/Los_Angeles:20251217T103000
DTSTAMP:20260421T142204
CREATED:20251201T190847Z
LAST-MODIFIED:20251216T055800Z
UID:11935-1765962000-1765967400@gailbrenner.com
SUMMARY:Coming Home Together Online Gathering—Loving Attention to the Inner Critic
DESCRIPTION:Coming Home Together Online Gathering:\nLoving Attention to the Inner Critic \nWednesday\, December 17\, 9:00am – 10:30am Pacific\nNoon Eastern\, 5pm BST\non Zoom \nRecording will be available and sent to all who register. \nThe Coming Home Together online gathering offers a deep dive into the practicalities of awakened living.  \n“I watched and listened to yesterday’s session today. I’m very grateful for this community. Even though I couldn’t be there in person\, I feel the strong heart connection. I so appreciate your presence and the loving compassionate space that is created. It’s a healing salve to my heart 🙏🏼💝”\n~From a recent participant \nOur focus for this meeting is on the harsh voice and false identity of the inner critic. Many of us are aware of this strong and negative habitual voice that appears in our minds. This voice can be shaming\, militant\, perfectionistic\, and demanding. \nAlthough its intention is often to protect us\, it makes us contract into a separate and limited identity\, turns us against our truth\, and traps us by its high standards. We may not realize how stressful it is to live under its control. \nPlease register here. Once you register\, you will be directed to the zoom link—and you will receive it by email one hour prior to our meeting. A sliding scale is offered for those with financial challenges. \n\nChoose the amount you would like to pay.Option 1 $15.00 USDOption 2 $9.00 USDOption 3 $4.00 USD\n\n\nIn our time together\, we’ll unpack the inner critic thought pattern with understanding and compassion. We’ll learn to identify when it has taken hold\, and feel into the fear\, grief\, anger\, and shame that lie at its core.  \nWe’ll practice untangling our attention from what it tells us so we have the space to connect with what is true and alive in us. As our attachment to this voice softens\, we’ll relax into ways of living that are kind and loving toward all that arises…and more aligned with the unity of all. \nHow do you work toward goals without the inner critic driving you? How do you function when when this critical and negative noise subsides? When the inner critic is in charge\, we’re out of touch with our vulnerability\, truth\, and deep knowing. We’ll welcome these suppressed parts of ourselves into the light of loving awareness where they can flourish\, innocent and free… \n Through guided meditation\, practical guidance\, and heartfelt conversation\, we’ll explore the freedom that’s possible\, here and now\, beyond the contraction of the inner critic. \nTogether\, we lovingly embrace our humanness as we expand into overflowing appreciation\, vibrant joy\, and deep connection with all of Life. \nQuestions? Please contact Gail here. \nDetails \nWednesday\, December 17\, 2025 9:00am – 10:30am Pacific \nStarts at noon Eastern\, 5pm BST\, 6pm CET \nRecording will be sent to everyone who registers. \nA sliding scale is offered for those with financial challenges.  \n\nChoose the amount you would like to pay.Option 1 $15.00 USDOption 2 $9.00 USDOption 3 $4.00 USD\n\n\nFriends are saying: \n\n“I am now experiencing longer moments of pure awareness and joy. No longer a slave to external circumstances and inner chatter. Loving life the way it is.” ~Susan R. \n“I liked the sense of trust\, profound acceptance\, safety\, unconditional love and support that Gail brought to us. The course made me realize the importance of being involved in a community of people dedicated to the most important thing to me\, Healing and Awakening. I just cannot do it alone!” ~Aline B. \n“Your work is a bridge between practical daily life and Supreme Reality.” ~Henrique N. \n“You radiate such warmth\, kindness\, beauty and wisdom. I had been stuck for so long and by listening to your sage advice\, am finally starting to see and feel the light. Your light helps us to shine our own.” ~Julie Desmarais \n\n“At any moment\, within the field of your own experience\, there is an inner sanctuary of presence and stillness. You access this space by shifting your attention away from the jumble of thoughts\, feelings\, stories\, fears\, and external input such as others’ opinions. You simply turn inward—beyond all mind movement—and be. \nIn no time at all\, you find the ground of being\, the light of living vibration that’s here in every moment. It’s timeless\, which means it’s eternally present\, and all-embracing as the unity of all. Don’t be afraid of this vast love. Fall into its arms…”\n~Gail \nGail Brenner\, Ph.D. is your guide on this journey. She is a clinical psychologist and lover of truth with a fire that burns brightly. She brings to this work years of experience with individuals and groups and is known for creating the safety and trust needed for this deeper exploration.
URL:https://gailbrenner.com/event/coming-home-together-loving-attention/
LOCATION:online
END:VEVENT
END:VCALENDAR