BEGIN:VCALENDAR
VERSION:2.0
PRODID:-//Dr. Gail Brenner - ECPv6.15.20//NONSGML v1.0//EN
CALSCALE:GREGORIAN
METHOD:PUBLISH
X-ORIGINAL-URL:https://gailbrenner.com
X-WR-CALDESC:Events for Dr. Gail Brenner
REFRESH-INTERVAL;VALUE=DURATION:PT1H
X-Robots-Tag:noindex
X-PUBLISHED-TTL:PT1H
BEGIN:VTIMEZONE
TZID:America/Los_Angeles
BEGIN:DAYLIGHT
TZOFFSETFROM:-0800
TZOFFSETTO:-0700
TZNAME:PDT
DTSTART:20240310T100000
END:DAYLIGHT
BEGIN:STANDARD
TZOFFSETFROM:-0700
TZOFFSETTO:-0800
TZNAME:PST
DTSTART:20241103T090000
END:STANDARD
BEGIN:DAYLIGHT
TZOFFSETFROM:-0800
TZOFFSETTO:-0700
TZNAME:PDT
DTSTART:20250309T100000
END:DAYLIGHT
BEGIN:STANDARD
TZOFFSETFROM:-0700
TZOFFSETTO:-0800
TZNAME:PST
DTSTART:20251102T090000
END:STANDARD
BEGIN:DAYLIGHT
TZOFFSETFROM:-0800
TZOFFSETTO:-0700
TZNAME:PDT
DTSTART:20260308T100000
END:DAYLIGHT
BEGIN:STANDARD
TZOFFSETFROM:-0700
TZOFFSETTO:-0800
TZNAME:PST
DTSTART:20261101T090000
END:STANDARD
END:VTIMEZONE
BEGIN:VEVENT
DTSTART;TZID=America/Los_Angeles:20251230T090000
DTEND;TZID=America/Los_Angeles:20251230T103000
DTSTAMP:20260421T125011
CREATED:20251225T160903Z
LAST-MODIFIED:20251225T162013Z
UID:11966-1767085200-1767090600@gailbrenner.com
SUMMARY:Coming Home Together Online Gathering—Starting Fresh: From Darkness to Light
DESCRIPTION:Coming Home Together Online Gathering:\nStarting Fresh: From Darkness to Light \nTUESDAY\, December 30\, 9:00am – 10:30am Pacific\nNoon Eastern\, 5pm BST\, 6pm CET\non Zoom \n\nPLEASE NOTE THIS GATHERING IS ON TUESDAY \n\nRecording will be available and sent to all who register. \nThe Coming Home Together online gathering is a safe space and loving community for trauma healing and awakened living\, informed by the deepest teachings of nondual reality. \nOur focus for this gathering is on honoring the path of awakening awareness from darkness to light.  \nWhat was previously in the shadow of our unconsciousness is\, more and more\, illuminated by the light of awareness. And\, as this light\, we’re invited to embody the knowing that every moment is a fresh beginning.  \nPlease register here. Once you register\, you will be directed to the zoom link—and you will receive it by email one hour prior to our meeting. A sliding scale is offered for those with financial challenges. \n\nChoose the amount you would like to pay.Option 1 $15.00 USDOption 2 $9.00 USDOption 3 $4.00 USD\n\n\nLeaving our inner experience unexamined creates division and leads to continued suffering and isolation. \nAvoiding the pain of disconnection\, we blame others or ourselves\, which makes us feel even more disconnected. Turning away from any discomfort that arises within\, we abandon ourselves with busyness\, self-judgment\, compulsive behavior\, and seeking approval from others.  \nWe bring the past into the present and forget the absolute freshness of our present moment experience. \nOpening to everything that arises is a glorious and heartfelt practice that softens our edges and invites us into deeper connection with ourselves\, others\, and all of Life. It’s the healing balm for our human reactions of shame\, worry\, and the need to fix ourselves. \nWith the fire for freedom\, we align ourselves with awareness that\, by its very nature\, always welcomes everything. In our time together\, we’ll feel into the qualities that invite this welcoming—curiosity\, safety\, courage\, the desire for divine union. And we’ll honor the ways we stay in darkness\, turning away from the tender places in us and the fear of meeting them. \nOur gatherings offer guided meditation\, practical teachings\, helpful tools\, and heartfelt conversation. Together we share the pathless path of discovering clarity\, freedom\, and the simple joy of being alive—always fresh and available right now! \nI’m excited to be with you in this time of transition and fresh beginnings… \nQuestions? Please contact Gail here. \nDetails \nTUESDAY\, December 30\, 2025 9:00am – 10:30am Pacific \nStarts at noon Eastern\, 5pm BST\, 6pm CET \nRecording will be sent to everyone who registers. \nA sliding scale is offered for those with financial challenges.  \n\nChoose the amount you would like to pay.Option 1 $15.00 USDOption 2 $9.00 USDOption 3 $4.00 USD\n\n\nFriends are saying: \n\n“I am now experiencing longer moments of pure awareness and joy. No longer a slave to external circumstances and inner chatter. Loving life the way it is.” ~Susan R. \n“I liked the sense of trust\, profound acceptance\, safety\, unconditional love and support that Gail brought to us. The course made me realize the importance of being involved in a community of people dedicated to the most important thing to me\, Healing and Awakening. I just cannot do it alone!” ~Aline B. \n“Your work is a bridge between practical daily life and Supreme Reality.” ~Henrique N. \n“You radiate such warmth\, kindness\, beauty and wisdom. I had been stuck for so long and by listening to your sage advice\, am finally starting to see and feel the light. Your light helps us to shine our own.” ~Julie Desmarais \n\n“At any moment\, within the field of your own experience\, there is an inner sanctuary of presence and stillness. You access this space by shifting your attention away from the jumble of thoughts\, feelings\, stories\, fears\, and external input such as others’ opinions. You simply turn inward—beyond all mind movement—and be. \nIn no time at all\, you find the ground of being\, the light of living vibration that’s here in every moment. It’s timeless\, which means it’s eternally present\, and all-embracing as the unity of all. Don’t be afraid of this vast love. Fall into its arms…”\n~Gail \nGail Brenner\, Ph.D. is your guide on this journey. She is a clinical psychologist and lover of truth with a fire that burns brightly. She brings to this work years of experience with individuals and groups and is known for creating the safety and trust needed for this deeper exploration.
URL:https://gailbrenner.com/event/coming-home-together-darkness-to-light/
LOCATION:online
END:VEVENT
END:VCALENDAR