BEGIN:VCALENDAR
VERSION:2.0
PRODID:-//Dr. Gail Brenner - ECPv6.15.20//NONSGML v1.0//EN
CALSCALE:GREGORIAN
METHOD:PUBLISH
X-WR-CALNAME:Dr. Gail Brenner
X-ORIGINAL-URL:https://gailbrenner.com
X-WR-CALDESC:Events for Dr. Gail Brenner
REFRESH-INTERVAL;VALUE=DURATION:PT1H
X-Robots-Tag:noindex
X-PUBLISHED-TTL:PT1H
BEGIN:VTIMEZONE
TZID:America/Los_Angeles
BEGIN:DAYLIGHT
TZOFFSETFROM:-0800
TZOFFSETTO:-0700
TZNAME:PDT
DTSTART:20250309T100000
END:DAYLIGHT
BEGIN:STANDARD
TZOFFSETFROM:-0700
TZOFFSETTO:-0800
TZNAME:PST
DTSTART:20251102T090000
END:STANDARD
BEGIN:DAYLIGHT
TZOFFSETFROM:-0800
TZOFFSETTO:-0700
TZNAME:PDT
DTSTART:20260308T100000
END:DAYLIGHT
BEGIN:STANDARD
TZOFFSETFROM:-0700
TZOFFSETTO:-0800
TZNAME:PST
DTSTART:20261101T090000
END:STANDARD
BEGIN:DAYLIGHT
TZOFFSETFROM:-0800
TZOFFSETTO:-0700
TZNAME:PDT
DTSTART:20270314T100000
END:DAYLIGHT
BEGIN:STANDARD
TZOFFSETFROM:-0700
TZOFFSETTO:-0800
TZNAME:PST
DTSTART:20271107T090000
END:STANDARD
END:VTIMEZONE
BEGIN:VEVENT
DTSTART;TZID=America/Los_Angeles:20260114T090000
DTEND;TZID=America/Los_Angeles:20260114T103000
DTSTAMP:20260421T124303
CREATED:20260105T042938Z
LAST-MODIFIED:20260105T042938Z
UID:11981-1768381200-1768386600@gailbrenner.com
SUMMARY:Coming Home Together Online Gathering—Inner Silence Is a Superpower
DESCRIPTION:Coming Home Together Online Gathering:\nInner Silence Is a Superpower \nWednesday\, January 14\, 9:00am – 10:30am Pacific\nNoon Eastern\, 5pm BST\non Zoom \nRecording will be available and sent to all who register. \nThe Coming Home Together online gathering is a safe space and loving community for trauma healing and awakened living\, informed by the deepest teachings of nondual reality. \nOur focus for this meeting is on cultivating inner silence. Beneath the swirling mind\, beneath emotions\, beneath the pull of our reactions is a field of silence…the calm center that is always here. \n\nChoose the amount you would like to pay.Option 1 $15.00 USDOption 2 $9.00 USDOption 3 $4.00 USD\n\n\nDiscover this silence just for a moment\, and it becomes a sanctuary\, a safe place to rest. Silence offers the possibility of a reset; it’s the space of awareness that gives us insight into our thinking minds and conditioned patterns instead of being absorbed in them. \nDuring my first silent meditation retreat years ago\, I discovered the well of silence beneath my thinking mind. Settling into this deep quiet led me to the shocking realization of negative thoughts running nonstop. The reason for my suffering became crystal clear—I had believed these thoughts without question and they formed my experience of my everyday reality. \nNo wonder I was unhappy! \nThis insight that changed everything for me became available only by knowing inner silence. \nIn our time together\, we’ll explore the direct experience of inner silence. We slow down…get quiet…turn our attention away from our thinking minds…and connect with the alive presence that’s here as the foundation of any moment. \nFrom this silent field\, we study how our minds work and feel into the urge to move into our conditioned patterns. And we rest in open Beingness\, free of any defined personal identity. Inner silence is presence that deepens our connection with everything and everyone. It’s the field from which awe\, joy\, and creativity flow. \nOur gatherings offer safe and loving community for guided meditation\, practical teachings\, helpful tools\, and heartfelt conversation. Together we share inner silence and our love of freedom! I look forward to being with you… \nQuestions? Please contact Gail here. \nDetails \nWednesday\, January 14\, 2026 9:00am – 10:30am Pacific \nStarts at noon Eastern\, 5pm BST\, 6pm CET \nRecording will be sent to everyone who registers. \nA sliding scale is offered for those with financial challenges.  \nPlease register here. Once you register\, you will be directed to the zoom link—and you will receive it by email one hour prior to our meeting. A sliding scale is offered for those with financial challenges. \n\nChoose the amount you would like to pay.Option 1 $15.00 USDOption 2 $9.00 USDOption 3 $4.00 USD\n\n\nFriends are saying: \n\n“I am now experiencing longer moments of pure awareness and joy. No longer a slave to external circumstances and inner chatter. Loving life the way it is.” ~Susan R. \n“I liked the sense of trust\, profound acceptance\, safety\, unconditional love and support that Gail brought to us. The course made me realize the importance of being involved in a community of people dedicated to the most important thing to me\, Healing and Awakening. I just cannot do it alone!” ~Aline B. \n“Your work is a bridge between practical daily life and Supreme Reality.” ~Henrique N. \n“You radiate such warmth\, kindness\, beauty and wisdom. I had been stuck for so long and by listening to your sage advice\, am finally starting to see and feel the light. Your light helps us to shine our own.” ~Julie Desmarais \n  \n\n“At any moment\, within the field of your own experience\, there is an inner sanctuary of presence and stillness. You access this space by shifting your attention away from the jumble of thoughts\, feelings\, stories\, fears\, and external input such as others’ opinions. You simply turn inward—beyond all mind movement—and be. \nIn no time at all\, you find the ground of being\, the light of living vibration that’s here in every moment. It’s timeless\, which means it’s eternally present\, and all-embracing as the unity of all. Don’t be afraid of this vast love. Fall into its arms…”\n~Gail \nGail Brenner\, Ph.D. is your guide on this journey. She is a clinical psychologist and lover of truth with a fire that burns brightly. She brings to this work years of experience with individuals and groups and is known for creating the safety and trust needed for this deeper exploration. \nimage
URL:https://gailbrenner.com/event/coming-home-together-inner-silence/
LOCATION:online
END:VEVENT
END:VCALENDAR