BEGIN:VCALENDAR
VERSION:2.0
PRODID:-//Dr. Gail Brenner - ECPv6.15.20//NONSGML v1.0//EN
CALSCALE:GREGORIAN
METHOD:PUBLISH
X-ORIGINAL-URL:https://gailbrenner.com
X-WR-CALDESC:Events for Dr. Gail Brenner
REFRESH-INTERVAL;VALUE=DURATION:PT1H
X-Robots-Tag:noindex
X-PUBLISHED-TTL:PT1H
BEGIN:VTIMEZONE
TZID:America/Los_Angeles
BEGIN:DAYLIGHT
TZOFFSETFROM:-0800
TZOFFSETTO:-0700
TZNAME:PDT
DTSTART:20250309T100000
END:DAYLIGHT
BEGIN:STANDARD
TZOFFSETFROM:-0700
TZOFFSETTO:-0800
TZNAME:PST
DTSTART:20251102T090000
END:STANDARD
BEGIN:DAYLIGHT
TZOFFSETFROM:-0800
TZOFFSETTO:-0700
TZNAME:PDT
DTSTART:20260308T100000
END:DAYLIGHT
BEGIN:STANDARD
TZOFFSETFROM:-0700
TZOFFSETTO:-0800
TZNAME:PST
DTSTART:20261101T090000
END:STANDARD
BEGIN:DAYLIGHT
TZOFFSETFROM:-0800
TZOFFSETTO:-0700
TZNAME:PDT
DTSTART:20270314T100000
END:DAYLIGHT
BEGIN:STANDARD
TZOFFSETFROM:-0700
TZOFFSETTO:-0800
TZNAME:PST
DTSTART:20271107T090000
END:STANDARD
END:VTIMEZONE
BEGIN:VEVENT
DTSTART;TZID=America/Los_Angeles:20260218T090000
DTEND;TZID=America/Los_Angeles:20260218T103000
DTSTAMP:20260421T105801
CREATED:20260211T012149Z
LAST-MODIFIED:20260211T012149Z
UID:11893-1771405200-1771410600@gailbrenner.com
SUMMARY:Coming Home Together Online Gathering—Deep Listening: A Portal to Connection and Embodied Freedom
DESCRIPTION:Coming Home Together Online Gathering:\nDeep Listening: A Portal to Connection and Embodied Freedom \nWednesday\, February 18 9:00am – 10:30am Pacific\nNoon Eastern\, 5pm BST\non Zoom \nRecording will be available and sent to all who register. \nThe Coming Home Together online gathering is a safe space and loving community for trauma healing and awakened living\, informed by the deepest teachings of nondual reality. \nOur focus for this meeting is on deep listening as a way to be. Do you feel lonely and disconnected? Separate from your true nature? Then consider listening as a portal into divine connection with all things. \nPlease register here. Once you register\, you will be directed to the zoom link—and you will receive it by email one hour prior to our meeting. A sliding scale is offered for those with financial challenges. \n\nChoose the amount you would like to pay.Option 1 $15.00 USDOption 2 $9.00 USDOption 3 $4.00 USD\n\nHow often are we in our heads in a conversation\, not actually connected to the person in front of us. And how much do we miss out on our here-and-now experience\, when we’re not actually alive to it? \nIf we’re driven by unexplored fear or need\, we’re looking for guidance in our thoughts about how to live and be. Our programmed patterns are in charge as we get caught in endlessly trying to make decisions\, navigate our relationships\, and find our way in life. It’s stressful…and fruitless as a path to happiness… \nGreat news! There’s another completely different way to be\, which is to stop\, relax\, open\, and get curious. We listen\, not through veils of fear or lack\, but with every cell in our bodies\, with our hearts and minds wide open\, alive and receptive in the deepest place in us that trusts life’s unfolding. \nThis way invites us to shift away from our thinking minds so we’re available to all that’s here now—discovering intimate connection with each other\, the aliveness of the moment\, and life’s intelligence. \nIn our time together\, we’ll explore the practice of deep listening\, first to strengthen our connections with each other\, and then to open to knowing the truth of reality as one with life\, unity with all…clear seeing with nothing in the way. \nWhen you let fear- and need-based tendencies be\, what does life have in store for you? What is on the horizon itching to be expressed through you? What truth have you been avoiding? How intimate can your relationships be? \nThrough guided meditation\, practical guidance\, and heartfelt conversation\, we’ll explore the possibility of being fully available to the river of life as it’s flowing right now… \nWe lovingly embrace our humanness as we expand into overflowing appreciation\, vibrant joy\, and deep connection with all of Life. \nQuestions? Please contact Gail here. \nDetails \nWednesday\, February 18\, 2026 9:00am – 10:30am Pacific \nStarts at noon Eastern\, 5pm BST\, 6pm CET \nRecording will be sent to everyone who registers. \nA sliding scale is offered for those with financial challenges.  \n\nChoose the amount you would like to pay.Option 1 $15.00 USDOption 2 $9.00 USDOption 3 $4.00 USD\n\n\nFriends are saying: \n\n“I am now experiencing longer moments of pure awareness and joy. No longer a slave to external circumstances and inner chatter. Loving life the way it is.” ~Susan R. \n“I liked the sense of trust\, profound acceptance\, safety\, unconditional love and support that Gail brought to us. The course made me realize the importance of being involved in a community of people dedicated to the most important thing to me\, Healing and Awakening. I just cannot do it alone!” ~Aline B. \n“Your work is a bridge between practical daily life and Supreme Reality.” ~Henrique N. \n“You radiate such warmth\, kindness\, beauty and wisdom. I had been stuck for so long and by listening to your sage advice\, am finally starting to see and feel the light. Your light helps us to shine our own.” ~Julie Desmarais \n\n“At any moment\, within the field of your own experience\, there is an inner sanctuary of presence and stillness. You access this space by shifting your attention away from the jumble of thoughts\, feelings\, stories\, fears\, and external input such as others’ opinions. You simply turn inward—beyond all mind movement—and be. \nIn no time at all\, you find the ground of being\, the light of living vibration that’s here in every moment. It’s timeless\, which means it’s eternally present\, and all-embracing as the unity of all. Don’t be afraid of this vast love. Fall into its arms…”\n~Gail \nGail Brenner\, Ph.D. is your guide on this journey. She is a clinical psychologist and lover of truth with a fire that burns brightly. She brings to this work years of experience with individuals and groups and is known for creating the safety and trust needed for this deeper exploration. \nimage
URL:https://gailbrenner.com/event/coming-home-together-deep-listening-portal/
LOCATION:online
END:VEVENT
END:VCALENDAR