BEGIN:VCALENDAR
VERSION:2.0
PRODID:-//Dr. Gail Brenner - ECPv6.15.20//NONSGML v1.0//EN
CALSCALE:GREGORIAN
METHOD:PUBLISH
X-ORIGINAL-URL:https://gailbrenner.com
X-WR-CALDESC:Events for Dr. Gail Brenner
REFRESH-INTERVAL;VALUE=DURATION:PT1H
X-Robots-Tag:noindex
X-PUBLISHED-TTL:PT1H
BEGIN:VTIMEZONE
TZID:America/Los_Angeles
BEGIN:DAYLIGHT
TZOFFSETFROM:-0800
TZOFFSETTO:-0700
TZNAME:PDT
DTSTART:20250309T100000
END:DAYLIGHT
BEGIN:STANDARD
TZOFFSETFROM:-0700
TZOFFSETTO:-0800
TZNAME:PST
DTSTART:20251102T090000
END:STANDARD
BEGIN:DAYLIGHT
TZOFFSETFROM:-0800
TZOFFSETTO:-0700
TZNAME:PDT
DTSTART:20260308T100000
END:DAYLIGHT
BEGIN:STANDARD
TZOFFSETFROM:-0700
TZOFFSETTO:-0800
TZNAME:PST
DTSTART:20261101T090000
END:STANDARD
BEGIN:DAYLIGHT
TZOFFSETFROM:-0800
TZOFFSETTO:-0700
TZNAME:PDT
DTSTART:20270314T100000
END:DAYLIGHT
BEGIN:STANDARD
TZOFFSETFROM:-0700
TZOFFSETTO:-0800
TZNAME:PST
DTSTART:20271107T090000
END:STANDARD
END:VTIMEZONE
BEGIN:VEVENT
DTSTART;TZID=America/Los_Angeles:20260318T090000
DTEND;TZID=America/Los_Angeles:20260318T103000
DTSTAMP:20260421T162818
CREATED:20260309T180902Z
LAST-MODIFIED:20260309T180902Z
UID:12068-1773824400-1773829800@gailbrenner.com
SUMMARY:Coming Home Together Online Gathering—Trauma Healing and Awakening in the Body
DESCRIPTION:Coming Home Together Online Gathering:\nTrauma Healing and Awakening in the Body \nWednesday\, March 18\, 9:00am – 10:30am Pacific\nNoon Eastern\, 4pm BST\non Zoom \n\nPLEASE NOTE START TIME IS ONE HOUR EARLIER THIS WEEK IN THE UK AND MAINLAND EUROPE \n\nRecording will be available and sent to all who register. \nThe Coming Home Together online gathering is a safe space and loving community for trauma healing and awakened living\, informed by the deepest teachings of nondual reality. \nOur focus for this meeting is on the body as a gateway for healing and awakening. What is your relationship to your body? Your body image? The physical sensations and energies that arise? Numbness and dissociation? Your nervous system? \nPlease register here. Once you register\, you will be directed to the zoom link—and you will receive it by email one hour prior to our meeting. A sliding scale is offered for those with financial challenges. \n\nChoose the amount you would like to pay.Option 1 $15.00 USDOption 2 $9.00 USDOption 3 $4.00 USD\n\n\nThere is much to be explored when we bring our attention to the physical realm of our experience. We find the root of emotions\, the residue of old habits and traumas…and the possibility for the free flow of the vibration of life as it appears through the body. We realize we can live in daily life in our bodies\, fully experiencing all that is.  \nMany of us live in our heads—without much awareness of our physicality. And when we open to experiences occurring in our bodies\, we find hidden contractions\, habitual ways of being\, and places that feel stuck or shut down. \nLet’s explore how we disconnect from life…how does the sense of separation live in our bodies and nervous systems? Then we’ll bring awareness to these body experiences to liberate them from unconsciousness and the limits of our stories. \nBecause sensation without a story is simply life energy…without interpretation\, past\, or future. We begin to enjoy this embodied aliveness! \nIn our sacred time together\, we’ll bring space\, breath\, and deep compassion to our body experiences. Through guided meditation\, practical guidance\, and heartfelt conversation\, we’ll turn toward our bodies\, holding all that arises in the infinite freedom of loving presence. We’ll discuss specific tools and practices for body awareness\, informed by wisdom traditions. \nAll are welcome as we lovingly embrace our humanness…and expand into overflowing appreciation\, vibrant joy\, and deep connection with all of Life. I look forward to being with you! \nQuestions? Please contact Gail here. \nDetails \nWednesday\, March 18\, 2026 9:00am – 10:30am Pacific \nStarts at noon Eastern\, 4pm BST\, 5pm CET \n\nPLEASE NOTE START TIME IS ONE HOUR EARLIER THIS WEEK IN THE UK AND MAINLAND EUROPE \n\nRecording will be sent to everyone who registers. \nA sliding scale is offered for those with financial challenges.  \n\nChoose the amount you would like to pay.Option 1 $15.00 USDOption 2 $9.00 USDOption 3 $4.00 USD\n\n\nFriends are saying: \n\n“I am now experiencing longer moments of pure awareness and joy. No longer a slave to external circumstances and inner chatter. Loving life the way it is.” ~Susan R. \n“I liked the sense of trust\, profound acceptance\, safety\, unconditional love and support that Gail brought to us. The course made me realize the importance of being involved in a community of people dedicated to the most important thing to me\, Healing and Awakening. I just cannot do it alone!” ~Aline B. \n“Your work is a bridge between practical daily life and Supreme Reality.” ~Henrique N. \n“You radiate such warmth\, kindness\, beauty and wisdom. I had been stuck for so long and by listening to your sage advice\, am finally starting to see and feel the light. Your light helps us to shine our own.” ~Julie Desmarais \n  \n\n“At any moment\, within the field of your own experience\, there is an inner sanctuary of presence and stillness. You access this space by shifting your attention away from the jumble of thoughts\, feelings\, stories\, fears\, and external input such as others’ opinions. You simply turn inward—beyond all mind movement—and be. \nIn no time at all\, you find the ground of being\, the light of living vibration that’s here in every moment. It’s timeless\, which means it’s eternally present\, and all-embracing as the unity of all. Don’t be afraid of this vast love. Fall into its arms…”\n~Gail \nGail Brenner\, Ph.D. is your guide on this journey. She is a clinical psychologist and lover of truth with a fire that burns brightly. She brings to this work years of experience with individuals and groups and is known for creating the safety and trust needed for this deeper exploration. \nimage
URL:https://gailbrenner.com/event/coming-home-together-awakening-body/
LOCATION:online
END:VEVENT
BEGIN:VEVENT
DTSTART;TZID=America/Los_Angeles:20260415T090000
DTEND;TZID=America/Los_Angeles:20260415T103000
DTSTAMP:20260421T162818
CREATED:20260412T120040Z
LAST-MODIFIED:20260330T020429Z
UID:11974-1776243600-1776249000@gailbrenner.com
SUMMARY:Coming Home Together Online Gathering—The Secret to Happiness
DESCRIPTION:Coming Home Together Online Gathering:\nThe Secret to Happiness\n \nWednesday\, April 15\, 9:00am – 10:30am Pacific\nNoon Eastern\, 5pm BST\non Zoom \nRecording will be available and sent to all who register. \nThe Coming Home Together online gathering is a safe space and loving community for trauma healing and awakened living\, informed by the deepest teachings of nondual reality. \n“This is my secret. I don’t mind what happens.”\nJ. Krishnamurti on the secret to a happy\, content life \nOur focus for this meeting is on the secret to happiness\, which is to want what we have. We’re invited to discover the capacity within for unconditional acceptance of all that arises. \n\nChoose the amount you would like to pay.Option 1 $15.00 USDOption 2 $9.00 USDOption 3 $4.00 USD\n\nIf we’re focused on wanting what we don’t have\, we’re living in a state of lack. It’s an “if only” way of being…”if only I get what I want\, then I’ll be happy.” This mindset focuses on the imagined future and distracts us from opening to the direct experience of reality present now.  \nFor some of us\, longing for what we don’t have is a habitual state. We’re pulled into the mind’s stories of lack and we’re familiar with feeling dissatisfied and inadequate in our bodies.  \nIn our time together\, we’ll explore need\, lack\, longing\, and the fullness of what is. We’ll identify the stories that keep us hoping for something better…and open to the simple joy of meeting what is with a deep and heartfelt “yes!”. It’s such a lovely way to walk in life… \nCome with your fears\, doubts\, shame\, and questions—and simply to share sacred space together in community with like-minded friends. \nTogether\, we lovingly embrace our humanness as we expand into appreciation\, vibrant joy\, and deep connection with all of Life. \nDetails \nWednesday\, April 15\, 2026 9:00am – 10:30am Pacific \nStarts at noon Eastern\, 5pm BST\, 6pm CET \nRecording will be sent to everyone who registers. \nA sliding scale is offered for those with financial challenges.  \n\nChoose the amount you would like to pay.Option 1 $15.00 USDOption 2 $9.00 USDOption 3 $4.00 USD\n\n\nFriends are saying: \n\n“I am now experiencing longer moments of pure awareness and joy. No longer a slave to external circumstances and inner chatter. Loving life the way it is.” ~Susan R. \n“I liked the sense of trust\, profound acceptance\, safety\, unconditional love and support that Gail brought to us. The course made me realize the importance of being involved in a community of people dedicated to the most important thing to me\, Healing and Awakening. I just cannot do it alone!” ~Aline B. \n“Your work is a bridge between practical daily life and Supreme Reality.” ~Henrique N. \n“You radiate such warmth\, kindness\, beauty and wisdom. I had been stuck for so long and by listening to your sage advice\, am finally starting to see and feel the light. Your light helps us to shine our own.” ~Julie Desmarais \n\n“At any moment\, within the field of your own experience\, there is an inner sanctuary of presence and stillness. You access this space by shifting your attention away from the jumble of thoughts\, feelings\, stories\, fears\, and external input such as others’ opinions. You simply turn inward—beyond all mind movement—and be. \nIn no time at all\, you find the ground of being\, the light of living vibration that’s here in every moment. It’s timeless\, which means it’s eternally present\, and all-embracing as the unity of all. Don’t be afraid of this vast love. Fall into its arms…”\n~Gail \nGail Brenner\, Ph.D. is your guide on this journey. She is a clinical psychologist and lover of truth with a fire that burns brightly. She brings to this work years of experience with individuals and groups and is known for creating the sense of safety and trust needed for this deeper exploration.
URL:https://gailbrenner.com/event/coming-home-together-secret-to-happiness/
LOCATION:online
END:VEVENT
BEGIN:VEVENT
DTSTART;TZID=America/Los_Angeles:20260422T090000
DTEND;TZID=America/Los_Angeles:20260422T103000
DTSTAMP:20260421T162818
CREATED:20260414T170008Z
LAST-MODIFIED:20260414T164206Z
UID:11485-1776848400-1776853800@gailbrenner.com
SUMMARY:Coming Home Together Online Gathering—The Direct Path to Inner Freedom
DESCRIPTION:Coming Home Together Online Gathering:\nThe Direct Path to Inner Freedom \nWednesday\, April 22\, 9:00am – 10:30am Pacific\nNoon Eastern\, 5pm BST\non Zoom \nRecording will be available and sent to all who register. \nThe Coming Home Together is a safe space and loving community for trauma healing and awakened living\, informed by the deepest teachings of nondual reality. \nPlease register here. Once you register\, you will be directed to the zoom link—and you will receive it by email one hour prior to our meeting. A sliding scale is offered for those with financial challenges. \n\nChoose the amount you would like to pay.Option 1 $15.00 USDOption 2 $9.00 USDOption 3 $4.00 USD\n\n\nOur focus for this meeting is on  the spiritual path. What is the path? What are we looking for? How can we meet the twists and turns along the way? \nIn this gathering\, we will take a bird’s eye view of the spiritual path to understand what it is…and isn’t. If you are on the path of awakening\, something has lit up in your being that invites you into a deep exploration of all that is. We take all blinders off\, and bring everything that arises under the microscope of awareness\, integrity\, and truth. We’re motivated to see things clearly as they are and not clouded by the mind’s illusions.  \nThis is the path to inner freedom. \nWe call this passion for inner freedom the pathless path. You’re not getting something you don’t already have. You’re not fixing what you think might be broken within you. You’re not waiting for divine intervention.  \nThe pathless path means that your attention turns inward\, over and over\, opening to all of your inner experience so you can discover that what you’re looking for is already here. When you go beyond the familiar stories and mental patterns\, you find\, shining brilliantly\, the timeless essence of peace\, freedom\, and boundless love. This is you…who you’ve always been despite any beliefs that tell you otherwise.  \nCome and explore the pathless path to inner freedom in safe and supportive community. With guided meditation\, teachings\, quotes from the masters\, and conversation\, we’ll lovingly open to the mind’s structures that convince you you’re not free and the ever-present possibility of the deepest peace beyond imagination.  \nYou are welcome with your fears\, doubts\, shame\, and questions—and simply to share sacred space in community with like-minded friends. Together\, we lovingly embrace our humanness as we expand into overflowing appreciation and deep connection with all of Life. I look forward to being with you! \nQuestions? Please contact Gail here. \nDetails \nWednesday\, April 22\, 2026 9:00am – 10:30am Pacific \nStarts at noon Eastern\, 5pm BST\, 6pm CET \nRecording will be sent to everyone who registers. \nA sliding scale is offered for those with financial challenges.  \n\nChoose the amount you would like to pay.Option 1 $15.00 USDOption 2 $9.00 USDOption 3 $4.00 USD\n\n\nFriends are saying: \n\n“I am now experiencing longer moments of pure awareness and joy. No longer a slave to external circumstances and inner chatter. Loving life the way it is.” ~Susan R. \n“I liked the sense of trust\, profound acceptance\, safety\, unconditional love and support that Gail brought to us. The course made me realize the importance of being involved in a community of people dedicated to the most important thing to me\, Healing and Awakening. I just cannot do it alone!” ~Aline B. \n“Your work is a bridge between practical daily life and Supreme Reality.” ~Henrique N. \n“You radiate such warmth\, kindness\, beauty and wisdom. I had been stuck for so long and by listening to your sage advice\, am finally starting to see and feel the light. Your light helps us to shine our own.” ~Julie Desmarais \n  \n\n“At any moment\, within the field of your own experience\, there is an inner sanctuary of presence and stillness. You access this space by shifting your attention away from the jumble of thoughts\, feelings\, stories\, fears\, and external input such as others’ opinions. You simply turn inward—beyond all mind movement—and be. \nIn no time at all\, you find the ground of being\, the light of living vibration that’s here in every moment. It’s timeless\, which means it’s eternally present\, and all-embracing as the unity of all. Don’t be afraid of this vast love. Fall into its arms…”\n~Gail \nGail Brenner\, Ph.D. is your guide on this journey. She is a clinical psychologist and lover of truth with a fire that burns brightly. She brings to this work years of experience with individuals and groups and is known for creating the safety and trust needed for this deeper exploration.
URL:https://gailbrenner.com/event/coming-home-together-direct-path/
LOCATION:online
END:VEVENT
BEGIN:VEVENT
DTSTART;TZID=America/Los_Angeles:20260429T090000
DTEND;TZID=America/Los_Angeles:20260429T103000
DTSTAMP:20260421T162818
CREATED:20260417T233757Z
LAST-MODIFIED:20260417T233757Z
UID:12089-1777453200-1777458600@gailbrenner.com
SUMMARY:Coming Home Together Online Gathering—The Sacred Work of Trauma Healing and Awakening
DESCRIPTION:Coming Home Together Online Gathering:\nThe Sacred Work of Trauma Healing and Awakening \nWednesday\, April 29\, 9:00am – 10:30am Pacific\nNoon Eastern\, 5pm BST\, 6pm CET\non Zoom \nRecording will be available and sent to all who register. \nThe Coming Home Together online gathering is a safe space and loving community for trauma healing and awakened living\, informed by the deepest teachings of nondual reality. \nOur focus for this meeting is on turning toward our early trauma patterns—with compassionate and loving hearts—to explore how disruption in our family environments when were young creates limiting ways of being that we carry into adulthood. \nAnd we’ll shine the light of our awareness on the truth of who we are\, our essential wholeness that has never been touched by anything that’s happened… \nPlease register here. Once you register\, you will be directed to the zoom link—and you will receive it by email one hour prior to our meeting. A sliding scale is offered for those with financial challenges. \n\nChoose the amount you would like to pay.Option 1 $15.00 USDOption 2 $9.00 USDOption 3 $4.00 USD\n\n  \nIf you felt unsafe\, rejected\, unseen\, or disconnected early in your life\, it’s common to develop a conditioned identity that you are not good enough or broken beyond repair. Your attention goes into your mind and away from your body and heart\, trying to figure out how to cope with the sense that something is wrong or missing.  \nA seed starts growing in us when we realize how much our conditioned patterns mask our happiness. Many of these patterns have plagued us for years. We hear about freedom as a possibility\, but we just don’t know how to find our way there. We feel stuck in the painful sense of separation…from ourselves\, others\, and the sacredness of all of Life. \nAs we deepen in the holy work of trauma healing\, we learn to care for the painful places that live in us. As the contractions of our trauma soften\, there’s space to blossom into ourselves. Almost like a miracle\, we begin to experience happiness\, wonder\, creativity\, and authentic relationships. \n Together\, we create a field of safe space to explore the ways we get stuck. We’ll turn toward our inner experience with compassion\, care\, and unconditional acceptance. And we’ll realize there is so much more to life than our patterns! \n Our time together includes guided meditation\, teachings\, practical tools\, and heartfelt conversation. \nFinally\, we realize that we can’t go it alone. Our disconnection from our divine nature happened in the context of relationship so we need to practice together—in a supportive and loving community—to find our way home. Come with your fears\, doubts\, shame\, and questions—and simply to share sacred space together in community with like-minded friends. \nTogether\, we lovingly embrace our humanness as we expand into overflowing appreciation\, vibrant joy\, and deep connection with all of Life. \nQuestions? Please contact Gail here. \nDetails \nWednesday\, April 29\, 2026 9:00am – 10:30am Pacific \nStarts at noon Eastern\, 5pm BST\, 6pm CET \nRecording will be sent to everyone who registers. \nA sliding scale is offered for those with financial challenges.  \n\nChoose the amount you would like to pay.Option 1 $15.00 USDOption 2 $9.00 USDOption 3 $4.00 USD\n\n\nFriends are saying: \n\n“I am now experiencing longer moments of pure awareness and joy. No longer a slave to external circumstances and inner chatter. Loving life the way it is.” ~Susan R. \n“I liked the sense of trust\, profound acceptance\, safety\, unconditional love and support that Gail brought to us. The course made me realize the importance of being involved in a community of people dedicated to the most important thing to me\, Healing and Awakening. I just cannot do it alone!” ~Aline B. \n“Your work is a bridge between practical daily life and Supreme Reality.” ~Henrique N. \n“You radiate such warmth\, kindness\, beauty and wisdom. I had been stuck for so long and by listening to your sage advice\, am finally starting to see and feel the light. Your light helps us to shine our own.” ~Julie Desmarais \n\n“At any moment\, within the field of your own experience\, there is an inner sanctuary of presence and stillness. You access this space by shifting your attention away from the jumble of thoughts\, feelings\, stories\, fears\, and external input such as others’ opinions. You simply turn inward—beyond all mind movement—and be. \nIn no time at all\, you find the ground of being\, the light of living vibration that’s here in every moment. It’s timeless\, which means it’s eternally present\, and all-embracing as the unity of all. Don’t be afraid of this vast love. Fall into its arms…”\n~Gail \nGail Brenner\, Ph.D. is your guide on this journey. She is a clinical psychologist and lover of truth with a fire that burns brightly. She brings to this work years of experience with individuals and groups and is known for creating the safety and trust needed for this deeper exploration.
URL:https://gailbrenner.com/event/coming-home-together-sacred-work-trauma-healing-awakening/
LOCATION:online
END:VEVENT
END:VCALENDAR