BEGIN:VCALENDAR
VERSION:2.0
PRODID:-//Dr. Gail Brenner - ECPv6.15.20//NONSGML v1.0//EN
CALSCALE:GREGORIAN
METHOD:PUBLISH
X-WR-CALNAME:Dr. Gail Brenner
X-ORIGINAL-URL:https://gailbrenner.com
X-WR-CALDESC:Events for Dr. Gail Brenner
REFRESH-INTERVAL;VALUE=DURATION:PT1H
X-Robots-Tag:noindex
X-PUBLISHED-TTL:PT1H
BEGIN:VTIMEZONE
TZID:America/Los_Angeles
BEGIN:DAYLIGHT
TZOFFSETFROM:-0800
TZOFFSETTO:-0700
TZNAME:PDT
DTSTART:20190310T100000
END:DAYLIGHT
BEGIN:STANDARD
TZOFFSETFROM:-0700
TZOFFSETTO:-0800
TZNAME:PST
DTSTART:20191103T090000
END:STANDARD
BEGIN:DAYLIGHT
TZOFFSETFROM:-0800
TZOFFSETTO:-0700
TZNAME:PDT
DTSTART:20200308T100000
END:DAYLIGHT
BEGIN:STANDARD
TZOFFSETFROM:-0700
TZOFFSETTO:-0800
TZNAME:PST
DTSTART:20201101T090000
END:STANDARD
BEGIN:DAYLIGHT
TZOFFSETFROM:-0800
TZOFFSETTO:-0700
TZNAME:PDT
DTSTART:20210314T100000
END:DAYLIGHT
BEGIN:STANDARD
TZOFFSETFROM:-0700
TZOFFSETTO:-0800
TZNAME:PST
DTSTART:20211107T090000
END:STANDARD
END:VTIMEZONE
BEGIN:VTIMEZONE
TZID:America/Denver
BEGIN:DAYLIGHT
TZOFFSETFROM:-0700
TZOFFSETTO:-0600
TZNAME:MDT
DTSTART:20160313T090000
END:DAYLIGHT
BEGIN:STANDARD
TZOFFSETFROM:-0600
TZOFFSETTO:-0700
TZNAME:MST
DTSTART:20161106T080000
END:STANDARD
BEGIN:DAYLIGHT
TZOFFSETFROM:-0700
TZOFFSETTO:-0600
TZNAME:MDT
DTSTART:20170312T090000
END:DAYLIGHT
BEGIN:STANDARD
TZOFFSETFROM:-0600
TZOFFSETTO:-0700
TZNAME:MST
DTSTART:20171105T080000
END:STANDARD
BEGIN:DAYLIGHT
TZOFFSETFROM:-0700
TZOFFSETTO:-0600
TZNAME:MDT
DTSTART:20180311T090000
END:DAYLIGHT
BEGIN:STANDARD
TZOFFSETFROM:-0600
TZOFFSETTO:-0700
TZNAME:MST
DTSTART:20181104T080000
END:STANDARD
END:VTIMEZONE
BEGIN:VTIMEZONE
TZID:Europe/London
BEGIN:DAYLIGHT
TZOFFSETFROM:+0000
TZOFFSETTO:+0100
TZNAME:BST
DTSTART:20160327T010000
END:DAYLIGHT
BEGIN:STANDARD
TZOFFSETFROM:+0100
TZOFFSETTO:+0000
TZNAME:GMT
DTSTART:20161030T010000
END:STANDARD
BEGIN:DAYLIGHT
TZOFFSETFROM:+0000
TZOFFSETTO:+0100
TZNAME:BST
DTSTART:20170326T010000
END:DAYLIGHT
BEGIN:STANDARD
TZOFFSETFROM:+0100
TZOFFSETTO:+0000
TZNAME:GMT
DTSTART:20171029T010000
END:STANDARD
BEGIN:DAYLIGHT
TZOFFSETFROM:+0000
TZOFFSETTO:+0100
TZNAME:BST
DTSTART:20180325T010000
END:DAYLIGHT
BEGIN:STANDARD
TZOFFSETFROM:+0100
TZOFFSETTO:+0000
TZNAME:GMT
DTSTART:20181028T010000
END:STANDARD
END:VTIMEZONE
BEGIN:VEVENT
DTSTART;VALUE=DATE:20200814
DTEND;VALUE=DATE:20200817
DTSTAMP:20260425T091748
CREATED:20200810T182417Z
LAST-MODIFIED:20200810T182417Z
UID:7014-1597363200-1597622399@gailbrenner.com
SUMMARY:Quintessence Online Retreat - Speaker
DESCRIPTION:I would like to invite you to Quintessence Virtual Retreat: Embrace Healing. \nTo sign up visit www.quintessenceretreat.org! ⁣ \nI am thrilled to be inviting you into this empowering community. \n“Ultimately\, there can be no complete healing until we have restored our primal trust in life.”\nGeorg Feuerstein \nQuintessence is the fifth and highest element in ancient and medieval philosophy that permeates all nature and is the substance composing the celestial bodies. \nIt is also the essence of a thing in its purest and most concentrated form. Quintessence is Spirit. \nCreating a culture of vitality through the journey of a heroine. Forgiveness\, healing\, spiritual journeys\, heart/mind connection\, grounded manifestation\, clearing and trusting the teacher within are the quintessence of feminine power. \nWe have certainly been releasing and healing our traumas…but what is next? How do we trust our inner knowing from the voices of fear and doubt that can run rampant in our minds? How do we live from a place of wholeness? \nThat is where Quintessence comes into play. It is the creative spirit that permeates the elements of life and the divine spark in us all. Through these seven activations on the heroine’s journey we embody ourselves so fully that our knowingness is unwavered. \nThe universe is expanding at an accelerated rate. Are you expanding with it? \nThe women that you will be gleaming wisdom from have all achieved greatness in their respective fields. They will share with you their stories and offer an intimate understanding of how embracing healing has rejuvenated their lives and careers. \nYour personal journey of expansion may elevate and flourish as you embrace healing. \nConnect with a community of female game changers from all over the world from the comfort of your own home. \nTogether\, we will create an astral retreat that provides a sacred space for our time together\, as well as a live community discussion during the presentations. \nDuring the Quintessence 3- Day Virtual Retreat you will learn: \n\n\n\nSpiritual modalities that will help you expand your energy further into the universe.\nHow to fully heal our suffering and open the doors to your heart-center\nSacred grounding tools that will help you to evoke your divine blueprint\nHealing Alchemy\nHow to activate co-creative powers that have been dormant inside of us\nLate summer – nourishing our body\, mind and soul\nHow to dissolve our limitations and soul contracts through healing work\n\n\n\nPotent daily practices that clear your energy channels and create the foundation for divine communication and downloads \n…All of this and much more! \nWe look forward to connecting with you at Quintessence Virtual Retreat. \nA 3-Day Virtual Retreat August 14th-16th\, 2020 \nEmbark on your heroine’s journey.\nEvoke your divine blueprint.\nEmbrace true Healing. \nTo sign up visit www.quintessenceretreat.org! ⁣ \nJoin now and become a member of our exclusive Embrace Healing Facebook Group! \n“Healing is an art. It takes time\, it takes practice. It takes love.” – Maza Dohta
URL:https://gailbrenner.com/event/quintessence-online-retreat-speaker/
LOCATION:online
END:VEVENT
BEGIN:VEVENT
DTSTART;TZID=America/Los_Angeles:20200804T090000
DTEND;TZID=America/Los_Angeles:20200804T103000
DTSTAMP:20260425T091748
CREATED:20200728T193522Z
LAST-MODIFIED:20200731T171337Z
UID:6992-1596531600-1596537000@gailbrenner.com
SUMMARY:Coming Home Together—Ongoing Zoom Conversations
DESCRIPTION:Coming Home Together:\nThe Sacred Work of Trauma and Awakening \nTuesday\, August 4 9:00am – 10:30am Pacific\non Zoom \nThis week’s focus: how we resist surrendering into the flow of life \nYou are most welcome to join as we create a safe and supportive space online to explore the deeper work that unfolds on the path of awakening. We are a supportive and loving community\, and you are welcome just as you are. \nCome with your fears\, doubts\, shame\, and questions—and simply to share sacred space together in community with like-minded friends. Our time together will include guided meditation\, clarifying teachings\, practical tools\, and heartfelt conversation. Our meeting on August 4 will explore how we resist surrendering into the flow of life. \nA seed starts growing in us when we realize how much our conditioned patterns mask our happiness. Many of these patterns have plagued us for years. We hear about freedom as a possibility\, but we just don’t know how to find our way there. We feel stuck in the painful sense of separation…from ourselves and the sacredness of all of Life. \nFinally\, we realize that we can’t go it alone. Our disconnection from our divine nature happened in the context of relationship so we need to practice together—in a supportive and loving community—to find our way home. \nTogether\, we lovingly embrace our humanness as we expand into overflowing appreciation\, vibrant joy\, and deep connection with all of Life. \nDetails \nTuesday\, August 4\, 2020 9:00am – 10:30am Pacific\nStarts at noon Eastern\, 5:00pm UK\nRecording will be sent to everyone who registers. \nPlease register here. Once you register\, you will receive the Zoom link and invitation in an email. \n\n\nChoose the amount you would like to pay.Option 1 $15.00 USDOption 2 $9.00 USDOption 3 $4.00 USD\n\n\n\nFriends are saying: \n“Gail was a wonderful loving and attentive presence; I felt seen and heard.”\n~A.C.\n“I liked the sense of trust\, profound acceptance\, safety\, unconditional love and support that Gail brought to us. The course made me realize the importance of being involved in a community of people dedicated to the most important thing to me\, Healing and Awakening. I just cannot do it alone!”\n~Aline B\n“I appreciated Gail’s ability to guide us in areas that are difficult to even put words to\, as well as her ability to transmit such presence and lovingkindness. Somehow she was able to guide me around the resistance(s) to a more loving acceptance of what is. Gail is able to transform through her presence and I think anyone open to healing would benefit.”\n~Erica C.\nPlease register here. Once you register\, you will receive the Zoom link and invitation in an email. \n\n\nChoose the amount you would like to pay.Option 1 $15.00 USDOption 2 $9.00 USDOption 3 $4.00 USD\n\n\n\n“At any moment\, within the field of your own experience\, there is an inner sanctuary of presence and stillness. You access this space by shifting your attention away from the jumble of thoughts\, feelings\, stories\, fears\, and external input such as others’ opinions. You simply turn inward—beyond all mind movement—and be. \nIn no time at all\, you find the ground of being\, the light of living vibration that’s here in every moment. It’s timeless\, which means it’s eternally present\, and all-embracing as the unity of all. Don’t be afraid of this vast love. Fall into its arms…”\n~Gail \nGail Brenner\, Ph.D. is your guide on this journey. She is a clinical psychologist and lover of truth with a fire that burns brightly. She brings to this work years of experience with individuals and groups and is known for creating the sense of safety and trust needed for this deeper exploration.
URL:https://gailbrenner.com/event/coming-home-together-8-4/
LOCATION:online
END:VEVENT
BEGIN:VEVENT
DTSTART;TZID=America/Los_Angeles:20200728T090000
DTEND;TZID=America/Los_Angeles:20200728T103000
DTSTAMP:20260425T091748
CREATED:20200721T175753Z
LAST-MODIFIED:20200723T174024Z
UID:6979-1595926800-1595932200@gailbrenner.com
SUMMARY:Coming Home Together—Ongoing Zoom Conversations
DESCRIPTION:Coming Home Together:\nThe Sacred Work of Trauma and Awakening \nTuesday\, July 28 9:00am – 10:30am Pacific\non Zoom\nAnd every Tuesday until further notice… \nThis week’s focus: honoring old patterns…and stepping into what’s alive in you \nYou are most welcome to join as we create a safe and supportive space online to explore the deeper work that unfolds on the path of awakening. We are a supportive and loving community\, and you are welcome just as you are. \nCome with your fears\, doubts\, shame\, and questions—and simply to share sacred space together in community with like-minded friends. Our time together will include guided meditation\, clarifying teachings\, practical tools\, and heartfelt conversation. Our meeting on July 28 will explore change: honoring limited patterns as you step into what is new\, fresh\, and alive in you. \nA seed starts growing in us when we realize how much our conditioned patterns mask our happiness. Many of these patterns have plagued us for years. We hear about freedom as a possibility\, but we just don’t know how to find our way there. We feel stuck in the painful sense of separation…from ourselves and the sacredness of all of Life. \nFinally\, we realize that we can’t go it alone. Our disconnection from our divine nature happened in the context of relationship so we need to practice together—in a supportive and loving community—to find our way home. \nTogether\, we lovingly embrace our humanness as we expand into overflowing appreciation\, vibrant joy\, and deep connection with all of Life. \nDetails \nTuesday\, July 28\, 2020 9:00am – 10:30am Pacific\nStarts at noon Eastern\, 5:00pm UK\nRecording will be sent to everyone who registers. \nPlease register here. Once you register\, you will receive the Zoom link and invitation in an email. \n\n\nChoose the amount you would like to pay.Option 1 $15.00 USDOption 2 $9.00 USDOption 3 $4.00 USD\n\n\n\nFriends are saying: \n“Gail was a wonderful loving and attentive presence; I felt seen and heard.”\n~A.C.\n“I liked the sense of trust\, profound acceptance\, safety\, unconditional love and support that Gail brought to us. The course made me realize the importance of being involved in a community of people dedicated to the most important thing to me\, Healing and Awakening. I just cannot do it alone!”\n~Aline B\n“I appreciated Gail’s ability to guide us in areas that are difficult to even put words to\, as well as her ability to transmit such presence and lovingkindness. Somehow she was able to guide me around the resistance(s) to a more loving acceptance of what is. Gail is able to transform through her presence and I think anyone open to healing would benefit.”\n~Erica C.\nPlease register here. Once you register\, you will receive the Zoom link and invitation in an email. \n\n\nChoose the amount you would like to pay.Option 1 $15.00 USDOption 2 $9.00 USDOption 3 $4.00 USD\n\n\n\n“At any moment\, within the field of your own experience\, there is an inner sanctuary of presence and stillness. You access this space by shifting your attention away from the jumble of thoughts\, feelings\, stories\, fears\, and external input such as others’ opinions. You simply turn inward—beyond all mind movement—and be. \nIn no time at all\, you find the ground of being\, the light of living vibration that’s here in every moment. It’s timeless\, which means it’s eternally present\, and all-embracing as the unity of all. Don’t be afraid of this vast love. Fall into its arms…”\n~Gail \nGail Brenner\, Ph.D. is your guide on this journey. She is a clinical psychologist and lover of truth with a fire that burns brightly. She brings to this work years of experience with individuals and groups and is known for creating the sense of safety and trust needed for this deeper exploration.
URL:https://gailbrenner.com/event/coming-home-together-7-28/
LOCATION:online
END:VEVENT
BEGIN:VEVENT
DTSTART;TZID=America/Los_Angeles:20200709T090000
DTEND;TZID=America/Los_Angeles:20200709T130000
DTSTAMP:20260425T091748
CREATED:20200622T154358Z
LAST-MODIFIED:20200707T042416Z
UID:6837-1594285200-1594299600@gailbrenner.com
SUMMARY:Half-Day Retreat: Coming Home Together
DESCRIPTION:The Sacred Work of Trauma and Awakening:\nComing Home Together \nThursday\, July 9 9:00am – 1:00pm Pacific\non Zoom \nThis event is sponsored by Open Circle Center. \nA powerful insight is illuminated when we realize how much our conditioned patterns mask our happiness. Many of these patterns have plagued us for years. We hear about freedom as a possibility—or we’ve had a taste of our true nature—but somehow this programming keeps getting played out in our minds\, our emotions\, our relationships\, and our choices in life. We feel stuck in the painful sense of separation…from ourselves and the sacredness of all of Life. \nFinally\, we realize that we can’t go it alone. Our disconnection from our divine nature happened in the context of relationship so we need to practice together—in a supportive and loving community—to find our way home. \nPlease click here to register.\nJoin us for this 4-hour retreat as we create a safe and supportive healing space to do the deeper work that unfolds on the path of awakening. Through helpful practices\, including guided meditations\, clarifying wisdom\, small group sharing\, and heartfelt conversation\, we’ll learn to untangle these identities and find our way home to the ever present space of inner aliveness. \n\nWe’ll cultivate a sense of safety for those hidden\, cut off parts of ourselves to come out into the light of loving awareness. This is what heals shame.\nWe’ll attend to the nervous system and the body to stay rooted in the world.\nWe’ll learn to identify the inner critic and challenge limiting beliefs about ourselves\, others\, and the world.\nWe’ll practice honoring and embracing difficult emotions so they can be offered the loving attention they so desperately long for.\nAnd we’ll discover\, over and over\, the ground of being\, your true home that has never been touched by these experiences.\n\nStress and worry…people pleasing…persistent relationship struggles…proving yourself through accomplishments…these longstanding patterns are profound invitations into liberation from the sense of separation. Together\, we lovingly embrace our humanness as we expand into overflowing appreciation\, vibrant joy\, and deep connection with all of Life. \nGail Brenner\, Ph.D. is a clinical psychologist and author who who has a passion for embodied conscious living. Her work lovingly illuminates our everyday humanness with the deepest spiritual truths. She meets with individuals and groups and continues to study pathways for healing from early trauma. Gail is the author of the award-winning The End of Self-Help and Suffering Is Optional. \nFriends are saying: \n\n“I liked the sense of trust\, profound acceptance\, safety\, unconditional love and support that Gail brought to us. The course made me realize the importance of being involved in a community of people dedicated to the most important thing to me\, Healing and Awakening. I just cannot do it alone!”~Aline B. \n“I appreciated Gail’s ability to guide us in areas that are difficult to even put words to\, as well as her ability to transmit such presence and lovingkindness. Somehow she was able to guide me around the resistance(s) to a more loving acceptance of what is. Gail is able to transform through her presence and I think anyone open to healing would benefit.”\n~Erica C. \n“Gail was a wonderful loving and attentive presence; I felt seen and heard.”\n~A.C. \n\n“At any moment\, within the field of your own experience\, there is an inner sanctuary of presence and stillness. You access this space by shifting your attention away from the jumble of thoughts\, feelings\, stories\, fears\, and external input such as others’ opinions. You simply turn inward—beyond all mind movement—and be. \nIn no time at all\, you find the ground of being\, the light of living vibration that’s here in every moment. It’s timeless\, which means it’s eternally present\, and all-embracing as the unity of all. Don’t be afraid of this vast love. Fall into its arms…”\n~Gail \nDetails \nThursday\, July 9\, 2020 9:00am – 1:00pm Pacific\, includes a 30-minute break\nStarts at noon Eastern\, 5:00pm UK \nPlease click here to register. \n 
URL:https://gailbrenner.com/event/half-day-retreat-7-9-20/
LOCATION:online
ORGANIZER;CN="Open Circle Center":MAILTO:web@opencirclecenter.org
END:VEVENT
BEGIN:VEVENT
DTSTART;TZID=America/Los_Angeles:20200602T090000
DTEND;TZID=America/Los_Angeles:20200602T110000
DTSTAMP:20260425T091748
CREATED:20200518T022229Z
LAST-MODIFIED:20200519T045926Z
UID:6775-1591088400-1591095600@gailbrenner.com
SUMMARY:Deep Healing of Trauma-Based Patterns: Tending the Fertile Soil for Awakened Living ~ 4-part Course
DESCRIPTION:Deep Healing of Trauma-Based Patterns:\nTending the Fertile Soil for Awakened Living \n4-part Course: June 2\, 5\, 12\, 19\n9:00 – 11:00 am\, Pacific Time\nThe event will be recorded and emailed to participants after each meeting.\nYou are welcome to join even if you are not able to attend all the live sessions. \nPlease click here to register. \nA powerful insight is illuminated when we realize how much our conditioned patterns mask our happiness. Many of these patterns have plagued us for years. We hear about freedom as a possibility\, but we just don’t know how to find our way there. And meanwhile\, the patterns keep getting played out in our minds\, our emotions\, our relationships\, and our choices in life. We feel stuck in the painful sense of separation…from ourselves and the sacredness of all of Life. \nJoin this 4-session series as we create a safe and supportive healing community to do the deeper work that unfolds on the path of awakening. Through helpful practices\, including guided meditations\, clarifying wisdom\, and heartfelt conversation\, we’ll learn to untangle these patterns and find our way home to the ever present space of inner aliveness. \n\nWe’ll cultivate a sense of safety for those hidden\, cut off parts of ourselves to come out into the light of loving awareness. This is what heals shame.\nWe’ll attend to the nervous system and the body to stay rooted in the world.\nWe’ll learn to notice repetitive thought patterns without getting caught in them and challenge limiting beliefs about ourselves\, others\, and the world.\nWe’ll practice honoring and embracing difficult emotions so they can be offered the loving attention they so desperately long for.\nAnd we’ll discover\, over and over\, the ground of being\, your true home that has never been touched by these experiences.\n\nStress and worry…people pleasing…persistent relationship struggles…proving yourself through accomplishments…these longstanding patterns are profound invitations into liberation from the sense of separation. Together\, we lovingly embrace our humanness as we expand into overflowing appreciation\, vibrant joy\, and deep connection with all of Life. \nPlease click here to register. \n“At any moment\, within the field of your own experience\, there is an inner sanctuary of presence and stillness. You access this space by shifting your attention away from the jumble of thoughts\, feelings\, stories\, fears\, and external input such as others’ opinions. You simply turn inward—beyond all mind movement—and be. \nIn no time at all\, you find the ground of being\, the light of living vibration that’s here in every moment. It’s timeless\, which means it’s eternally present\, and all-embracing as the unity of all. Don’t be afraid of this vast love. Fall into its arms…” \nGail Brenner\, Ph.D. is a clinical psychologist and author who who has a passion for embodied conscious living. Her work lovingly illuminates our everyday humanness with the deepest spiritual truths. She meets with individuals and groups and continues to study pathways for healing from early trauma. Gail is the author of the award-winning The End of Self-Help and Suffering Is Optional.
URL:https://gailbrenner.com/event/deep-healing-of-trauma-based/
LOCATION:online
END:VEVENT
BEGIN:VEVENT
DTSTART;TZID=America/Denver:20170816T183000
DTEND;TZID=America/Denver:20170816T200000
DTSTAMP:20260425T091748
CREATED:20170810T040318Z
LAST-MODIFIED:20170810T040318Z
UID:5933-1502908200-1502913600@gailbrenner.com
SUMMARY:Living in Truth\, Peace\, and Happiness
DESCRIPTION:These meetings have been so sweet! What do we do? We’re a community of like-minded friends in a safe and supportive space. We start with guided meditation that illuminates the deepest truth of our being\, then the floor is open for questions—about discovering your true nature as awareness\, getting unstuck\, and awakened\, embodied living. \nSome comments from previous meetings: “This group is a wonderful refuge from the daily routine of so many things pulling at you. Here you can go to that internal space that is not touched by that\, get familiar with it\, and visit anytime.” “It’s a very helpful opportunity to hear teachings and discuss their relevance to daily life.” “I treasure this Meetup and Gail’s guidance. The one constant is that I always leave feeling better than I arrived.” \nPlease come and join us if you’re tired of suffering and open to the practical reality of peace and happiness—or for the simple celebration of joy and freedom. \n• Do you believe that you’re lacking what it takes to be happy? \n• Do you distort reality with your expectations about how things should be—then find yourself frustrated? \n• Are you longing to see through the mind-made barriers that make you think you’re separate and limited? \nTogether\, we see through the ways that our conditioning grabs us and realize our true nature as boundless and free. See how fear derails you\, and love can’t help but overflow. \nAll are welcome! \nQuestions? Please email me at Gail@GailBrenner.com. I look forward to being with you!
URL:https://gailbrenner.com/event/living-truth-peace-happiness-5/
LOCATION:Santa Barbara\, CA
END:VEVENT
BEGIN:VEVENT
DTSTART;TZID=Europe/London:20170526T190000
DTEND;TZID=Europe/London:20170526T210000
DTSTAMP:20260425T091748
CREATED:20170407T033446Z
LAST-MODIFIED:20170407T033446Z
UID:5894-1495825200-1495832400@gailbrenner.com
SUMMARY:Living in Truth—London
DESCRIPTION:Come join a community of like-minded friends in a safe and supportive space. We start with guided meditation that illuminates the deepest truth of our being\, then the floor is open for questions—about discovering your true nature as nondual awareness\, getting unstuck\, and awakened\, embodied living. \nSome comments from previous meetings: “This group is a wonderful refuge from the daily routine of so many things pulling at you-here you can go to that internal space that is not touched by that\, get familiar with it\, and visit anytime.” “Exactly the wisdom and community that I needed in the moment. Thank you Gail (and everyone) — you have my deepest gratitude.” \nPlease come and join us if you’re tired of suffering and open to the practical reality of peace and happiness—or for the simple celebration of joy and freedom. \n• Do you believe that you’re lacking what it takes to be happy? \n• Do you distort reality with your expectations about how things should be—then find yourself frustrated?  \n• Are you longing to see through the mind-made barriers that make you think you’re separate and limited?   \nTogether\, we see through the ways that our conditioning grabs us and realize our true nature as boundless and free. See how fear derails you\, and love can’t help but overflow.
URL:https://gailbrenner.com/event/living-truth-london/
LOCATION:14 Neals Yard\, Covent Place\, London\, WC2H 9DP\, United Kingdom
END:VEVENT
END:VCALENDAR