BEGIN:VCALENDAR
VERSION:2.0
PRODID:-//Dr. Gail Brenner - ECPv6.15.20//NONSGML v1.0//EN
CALSCALE:GREGORIAN
METHOD:PUBLISH
X-ORIGINAL-URL:https://gailbrenner.com
X-WR-CALDESC:Events for Dr. Gail Brenner
REFRESH-INTERVAL;VALUE=DURATION:PT1H
X-Robots-Tag:noindex
X-PUBLISHED-TTL:PT1H
BEGIN:VTIMEZONE
TZID:America/Los_Angeles
BEGIN:DAYLIGHT
TZOFFSETFROM:-0800
TZOFFSETTO:-0700
TZNAME:PDT
DTSTART:20200308T100000
END:DAYLIGHT
BEGIN:STANDARD
TZOFFSETFROM:-0700
TZOFFSETTO:-0800
TZNAME:PST
DTSTART:20201101T090000
END:STANDARD
BEGIN:DAYLIGHT
TZOFFSETFROM:-0800
TZOFFSETTO:-0700
TZNAME:PDT
DTSTART:20210314T100000
END:DAYLIGHT
BEGIN:STANDARD
TZOFFSETFROM:-0700
TZOFFSETTO:-0800
TZNAME:PST
DTSTART:20211107T090000
END:STANDARD
BEGIN:DAYLIGHT
TZOFFSETFROM:-0800
TZOFFSETTO:-0700
TZNAME:PDT
DTSTART:20220313T100000
END:DAYLIGHT
BEGIN:STANDARD
TZOFFSETFROM:-0700
TZOFFSETTO:-0800
TZNAME:PST
DTSTART:20221106T090000
END:STANDARD
END:VTIMEZONE
BEGIN:VEVENT
DTSTART;TZID=America/Los_Angeles:20210619T090000
DTEND;TZID=America/Los_Angeles:20210619T100000
DTSTAMP:20260425T194507
CREATED:20210515T211353Z
LAST-MODIFIED:20210519T034145Z
UID:7683-1624093200-1624096800@gailbrenner.com
SUMMARY:Embodied Awakening in Everyday Life—Free Information Call
DESCRIPTION:Embodied Awakening Intensive:\nFree Information Call with Q&A \nSaturday\, June 19 9:00am – 10:00am Pacific\non Zoom\nNoon Eastern\, 5pm UTC \nRecording will be sent to all who register. \nThis event is a free information call for my upcoming course\, Embodied Awakening in Everyday Life presented by Open Circle Center.  \nRegister here for the free call on June 19 from 9-10am Pacific:\nhttps://zoom.us/meeting/register/tJIrceuurz4oE9Kw62wSNCFRghUPq8jhbGQa \nAfter registering\, you will receive a confirmation email containing information about joining the meeting. The recording will be sent to everyone who registers. \nIn this gathering\, you will learn details about the course\, including what we will cover and some of the practices we will play with. You’ll begin to experience the safe space of loving community as we embark on these deeper\, practical explorations. Come with your questions and your desire to be deeply connected in the moments of your life. You are most welcome! \n~~~~~~~~~~~~~~~~~ \nThe course\, Embodied Awakening Intensive\, offers a deep dive into the practicalities of awakened living. Your everyday human life will be the laboratory as we explore the myth of the separate self and how to live the deepest nondual teachings of infinite oneness. \nFor more information about the course and to register\, please click here. Course dates are: June 21\, 24\, 28 and July 1\, 8\, 15\, 2021 from 9-11am Pacific. \nHow do you handle a frustrating encounter with someone? How do you navigate your relationships? What about money\, sexuality\, work\, and life purpose? What do you do with feeling disappointed or hurt or bored? What about needs\, desires\, and stressful times? We’ll carefully shed the light of awareness on your personal attachments\, bringing a loving perspective and clarity to these common life situations. \nWe’ll use explorations\, practices\, and experiments in our sessions and between sessions to study the living reality of non-separation. You’ll get the felt direct experience of being in life open\, without defenses\, and free of the mind’s need to control. This is the foundation you need for openhearted awakened living. \nHere’s what we’ll cover in the course: \n\nSessions 1 and 2: No self\, no problem; aliveness in everyday life;\nSessions 3 and 4: Early trauma and conditioned patterns; waking up in your relationships;\nSession 5: Freedom beyond the mind-driven life; awakened action;\nSession 6: Emptiness\, surrender\, devotion\, intimacy with Life.\n\n~~~~~~~~~~~~~~~~~ \nDetails for the Free Call \nSaturday\, June 19\, 2021 9:00am – 10:0am Pacific\nStarts at noon Eastern\, 5:00pm UK \nRecording will be sent to everyone who registers. \nRegister here for this meeting:\nhttps://zoom.us/meeting/register/tJIrceuurz4oE9Kw62wSNCFRghUPq8jhbGQa \nAfter registering\, you will receive a confirmation email containing information about joining the meeting. \nFriends are saying: \n\n“I have found your approach really works for me. It gives me hope\, and I actually believe that that I can live\, think and feel differently\, no matter what the situation.” ~ F.C. \n“I love the meetings; I feel so safe and connected in the group. The community experience through Zoom is a treasure from the COVID-19 experience for me.” ~Judy F. \n“Gail was a wonderful loving and attentive presence; I felt seen and heard.” ~A.C. \n“I liked the sense of trust\, profound acceptance\, safety\, unconditional love and support that Gail brought to us. The course made me realize the importance of being involved in a community of people dedicated to the most important thing to me\, Healing and Awakening. I just cannot do it alone!” ~Aline B \n\n“At any moment\, within the field of your own experience\, there is an inner sanctuary of presence and stillness. You access this space by shifting your attention away from the jumble of thoughts\, feelings\, stories\, fears\, and external input such as others’ opinions. You simply turn inward—beyond all mind movement—and be. \nIn no time at all\, you find the ground of being\, the light of living vibration that’s here in every moment. It’s timeless\, which means it’s eternally present\, and all-embracing as the unity of all. Don’t be afraid of this vast love. Fall into its arms…”\n~Gail \nGail Brenner\, Ph.D. is your guide on this journey. She is a clinical psychologist and lover of truth with a fire that burns brightly. She brings to this work years of experience with individuals and groups and is known for creating the sense of safety and trust needed for this deeper exploration.
URL:https://gailbrenner.com/event/embodied-awakening-intensive-free-information-call/
LOCATION:online
END:VEVENT
BEGIN:VEVENT
DTSTART;TZID=America/Los_Angeles:20210621T090000
DTEND;TZID=America/Los_Angeles:20210621T110000
DTSTAMP:20260425T194507
CREATED:20210515T205341Z
LAST-MODIFIED:20210519T034049Z
UID:7646-1624266000-1624273200@gailbrenner.com
SUMMARY:Embodied Awakening in Everyday Life—6-Session Intensive
DESCRIPTION:Embodied Awakening in Everyday Life\n \nJune 21\, 24\, 28 and July 1\, 8\, 15\, 2021\n9:00 am – 11:00 am Pacific Time\, each day\non Zoom\nNoon Eastern\, 5pm UTC \nRecordings will be available and sent to all who register. \nThe Embodied Awakening Intensive offers a deep dive into the practicalities of awakened living. Your everyday human life will be the laboratory as we explore the myth of the separate self and how to live the deepest nondual teachings of infinite oneness. \nFor course details and registration\, please click here. \nHow do you handle a frustrating encounter with someone? How do you navigate your relationships? What about money\, sexuality\, work\, and life purpose? What do you do with feeling disappointed or hurt or bored? What about needs\, desires\, and stressful times? We’ll carefully shed the light of awareness on your personal attachments\, bringing a loving perspective and clarity to these common life situations. \nTogether\, we’ll create a safe and supportive community of pure intention for peace and freedom. \nWe’ll use explorations\, practices\, and experiments in our sessions and between sessions to study the living reality of non-separation. You’ll get the felt direct experience of being in life open\, without defenses\, and free of the mind’s need to control. This is the foundation you need for openhearted awakened living. \nThroughout our six sessions together\, you’ll practice staying deeply grounded in your present moment experience. From this grounded awareness\, you’ll learn to meet your programmed patterns—the inner critic\, long-standing shame\, feelings of fear and insecurity—with intelligence and loving acceptance. This is how you begin to shed the feeling of separation so you are free to be fully alive in your life as it is right now. \nHere’s what we’ll cover: \n\nSessions 1 and 2: No self\, no problem; aliveness in everyday life;\nSessions 3 and 4: Early trauma and conditioned patterns; waking up in your relationships;\nSession 5: Freedom beyond the mind-driven life; awakened action;\nSession 6: Emptiness\, surrender\, devotion\, intimacy with Life.\n\nCome prepared to move out of your comfort zone in all areas of your life. You’ll discover the brilliance of embodying love\, awareness\, and deep connection with all…available in every moment. \n“I have found your approach really works for me. It gives me hope\, and I actually believe that that I can live\, think and feel differently\, no matter what the situation.” ~ F.C. \nFor course details and registration\, please click here. \nA free information session with Gail is offered on Saturday\, June 19 from 9-10am Pacific. You’ll learn more about the course\, and there will be time for Q&A. Please click here for details and to join the session. \nFriends are saying: \n\n“I have found your approach really works for me. It gives me hope\, and I actually believe that that I can live\, think and feel differently\, no matter what the situation.” ~ F.C. \n“I love the meetings; I feel so safe and connected in the group. The community experience through Zoom is a treasure from the COVID-19 experience for me.” ~Judy F. \n“Gail was a wonderful loving and attentive presence; I felt seen and heard.” ~A.C. \n“I liked the sense of trust\, profound acceptance\, safety\, unconditional love and support that Gail brought to us. The course made me realize the importance of being involved in a community of people dedicated to the most important thing to me\, Healing and Awakening. I just cannot do it alone!” ~Aline B \n\nGail Brenner\, Ph.D. is your guide on this journey. She is a clinical psychologist and lover of truth with a fire that burns brightly. She brings to this work years of experience with individuals and groups and is known for creating the sense of safety and trust needed for this deeper exploration. \nIf you have further questions\, please email Gail directly at gail@gailbrenner.com.
URL:https://gailbrenner.com/event/embodied-awakening-everyday-life-june-2021/
LOCATION:online
ORGANIZER;CN="Open Circle Center":MAILTO:web@opencirclecenter.org
END:VEVENT
END:VCALENDAR