BEGIN:VCALENDAR
VERSION:2.0
PRODID:-//Dr. Gail Brenner - ECPv6.15.20//NONSGML v1.0//EN
CALSCALE:GREGORIAN
METHOD:PUBLISH
X-WR-CALNAME:Dr. Gail Brenner
X-ORIGINAL-URL:https://gailbrenner.com
X-WR-CALDESC:Events for Dr. Gail Brenner
REFRESH-INTERVAL;VALUE=DURATION:PT1H
X-Robots-Tag:noindex
X-PUBLISHED-TTL:PT1H
BEGIN:VTIMEZONE
TZID:America/Los_Angeles
BEGIN:DAYLIGHT
TZOFFSETFROM:-0800
TZOFFSETTO:-0700
TZNAME:PDT
DTSTART:20210314T100000
END:DAYLIGHT
BEGIN:STANDARD
TZOFFSETFROM:-0700
TZOFFSETTO:-0800
TZNAME:PST
DTSTART:20211107T090000
END:STANDARD
BEGIN:DAYLIGHT
TZOFFSETFROM:-0800
TZOFFSETTO:-0700
TZNAME:PDT
DTSTART:20220313T100000
END:DAYLIGHT
BEGIN:STANDARD
TZOFFSETFROM:-0700
TZOFFSETTO:-0800
TZNAME:PST
DTSTART:20221106T090000
END:STANDARD
BEGIN:DAYLIGHT
TZOFFSETFROM:-0800
TZOFFSETTO:-0700
TZNAME:PDT
DTSTART:20230312T100000
END:DAYLIGHT
BEGIN:STANDARD
TZOFFSETFROM:-0700
TZOFFSETTO:-0800
TZNAME:PST
DTSTART:20231105T090000
END:STANDARD
END:VTIMEZONE
BEGIN:VEVENT
DTSTART;TZID=America/Los_Angeles:20220414T090000
DTEND;TZID=America/Los_Angeles:20220414T130000
DTSTAMP:20260424T185257
CREATED:20220404T170753Z
LAST-MODIFIED:20220407T045025Z
UID:8167-1649926800-1649941200@gailbrenner.com
SUMMARY:Awakening in Relationships: A Mini-Retreat
DESCRIPTION:Awakening in Relationships: A Mini-Retreat \nThursday\, April 14\, 2022 @ 9:00am – 1:00pm Pacific \nOnline retreat on zoom \nEvent will be recorded and emailed to participants.\nYou’re welcome to join even if you can’t attend the whole live session. \nEvent is sponsored by Open Circle Center. To register\, please click here. https://opencirclecenter.org/event/gail-brenner-apr-14-2022/ \nCurious about embodying awakened consciousness in everyday life? Then let’s explore our relationships. Because when we can show up with others unveiled and free\, we find no end to the intimacy that is possible. \nIn this mini-retreat\, we’ll identify the patterns we play out that create a sense of separation—from ourselves\, others\, and all of life. These are fear-based programmed ways of being that include people-pleasing\, withdrawal\, inflating or deflating ourselves in comparison to others\, holding grudges\, and defensiveness. Together\, we’ll untangle the distorted assumptions we hold about the world and learn to meet our tender emotions with loving acceptance. \nUntying the knots that lie at the core of our relationship struggles brings freshness\, ease\, and space for new and authentic ways of being. We realize our shared humanness\, which brings compassion for ourselves and others\, melting into the one boundless heart beyond our personal selves. \nWe learn about relationships from our first connections with our caregivers early on in life. Fear of rejection\, hurt from feeling unseen\, mistrust\, the need to please—these are signs of unexamined contractions that are waiting for liberation. \nDo you feel separate in your relationships? With guided inner reflection\, a journaling exercise\, small group experiences\, and Q&A\, we’ll practice creating safe space for authentic connection. You’ll leave with new insights\, ways to experiment in daily life\, and tools for being in your relationships as a pathway for awakening. I look forward to being with you! \nPlease feel free to contact Gail with any questions about the program at gail@gailbrenner.com.\nFor technical questions please reach out to web@opencirclecenter.org. \nTo register\, please click here. https://opencirclecenter.org/event/gail-brenner-apr-14-2022/ \n“You radiate such warmth\, kindness\, beauty and wisdom. I had been stuck for so long and by listening to your sage advice\, am finally starting to see and feel the light. Thank you for being a beacon in tumultuous times. Your light helps us to shine our own.” ~Julie Desmarais \n“What you’re pointing to is so difficult to talk about in words\, but you describe it so brilliantly and give such practical\, actionable steps to follow that I truly\, deeply get it. I just cannot express to you how transformative your approach has been for me.” ~Sandra Joseph\, Broadway star and author of Unmasking What Matters \nGail Brenner\, Ph.D. is your guide on this journey. She is a clinical psychologist and lover of truth with a fire that burns brightly. She brings to this work years of experience with individuals and groups and is known for creating the sense of safety and trust needed for this deeper exploration.
URL:https://gailbrenner.com/event/awakening-in-relationships-a-mini-retreat/
LOCATION:online
ORGANIZER;CN="Open Circle Center":MAILTO:web@opencirclecenter.org
END:VEVENT
BEGIN:VEVENT
DTSTART;TZID=America/Los_Angeles:20220419T090000
DTEND;TZID=America/Los_Angeles:20220419T103000
DTSTAMP:20260424T185257
CREATED:20220412T225016Z
LAST-MODIFIED:20220412T225335Z
UID:8189-1650358800-1650364200@gailbrenner.com
SUMMARY:Coming Home Together—Online Gathering
DESCRIPTION:Coming Home Together:\nEmbodied Awakening in Everyday Life \nTuesday\, April 19\, 9:00am – 10:30am Pacific\non Zoom\nNoon Eastern\, 5pm GMT \nRecording will be available and sent to all who register. \nThe Embodied Awakening gathering offers a deep dive into the practicalities of awakened living. Your everyday human life will be the laboratory as we explore the myth of the separate self\, unexplored trauma patterns\, and how to live the deepest nondual teachings of infinite oneness. \nHow do you handle a frustrating encounter with someone? How do you navigate your relationships? What do you do with feeling disappointed\, hurt\, or bored? What about longstanding conditioned patterns that feel stuck? What about needs\, desires\, and stressful times? We’ll carefully shed the light of awareness on your personal attachments\, bringing a loving perspective and clarity to these common life situations. \nYou’ll practice staying grounded in your present moment experience\, and from here we explore the programmed patterns that bring struggle to your life. Many of these patterns have plagued us for years. We hear about freedom as a possibility\, but we just don’t know how to find our way there. We feel stuck in the painful sense of separation…from ourselves and the sacredness of all of Life. \nFinally\, we realize that we can’t go it alone. Our disconnection from our divine nature happened in the context of relationship so we need to practice together—in a supportive and loving community—to find our way home. Come with your fears\, doubts\, shame\, and questions—and simply to share sacred space together in community with like-minded friends. Our time together will include guided meditation\, clarifying teachings\, practical tools\, and heartfelt conversation. \nTogether\, we lovingly embrace our humanness as we expand into overflowing appreciation\, vibrant joy\, and deep connection with all of Life. \nDetails \nTuesday\, April 19\, 2021 9:00am – 10:30am Pacific\nStarts at noon Eastern\, 5:00pm UK \nRecording will be sent to everyone who registers.\nPlease register here. Once you register\, you will be directed to the zoom link — and you will receive it by email one hour prior to our meeting. \n\nChoose the amount you would like to pay.Option 1 $15.00 USDOption 2 $9.00 USDOption 3 $4.00 USD\n\n\nFriends are saying: \n\n“I am now experiencing longer moments of pure awareness and joy. No longer a slave to external circumstances and inner chatter. Loving life the way it is.” ~Susan R. \n“I liked the sense of trust\, profound acceptance\, safety\, unconditional love and support that Gail brought to us. The course made me realize the importance of being involved in a community of people dedicated to the most important thing to me\, Healing and Awakening. I just cannot do it alone!” ~Aline B \n“Your work is a bridge between practical daily life and Supreme Reality.” ~Henrique N. \n“You radiate such warmth\, kindness\, beauty and wisdom. I had been stuck for so long and by listening to your sage advice\, am finally starting to see and feel the light. Your light helps us to shine our own.” ~Julie Desmarais \nPlease register here. Once you register\, you will be directed to the zoom link — and you will receive it by email one hour prior to our meeting. \n\nChoose the amount you would like to pay.Option 1 $15.00 USDOption 2 $9.00 USDOption 3 $4.00 USD\n\n\nAt any moment\, within the field of your own experience\, there is an inner sanctuary of presence and stillness. You access this space by shifting your attention away from the jumble of thoughts\, feelings\, stories\, fears\, and external input such as others’ opinions. You simply turn inward—beyond all mind movement—and be. \nIn no time at all\, you find the ground of being\, the light of living vibration that’s here in every moment. It’s timeless\, which means it’s eternally present\, and all-embracing as the unity of all. Don’t be afraid of this vast love. Fall into its arms…”\n~Gail \nGail Brenner\, Ph.D. is your guide on this journey. She is a clinical psychologist and lover of truth with a fire that burns brightly. She brings to this work years of experience with individuals and groups and is known for creating the sense of safety and trust needed for this deeper exploration.
URL:https://gailbrenner.com/event/coming-home-together-4-19-22/
LOCATION:online
END:VEVENT
BEGIN:VEVENT
DTSTART;TZID=America/Los_Angeles:20220423T090000
DTEND;TZID=America/Los_Angeles:20220423T110000
DTSTAMP:20260424T185257
CREATED:20220412T224415Z
LAST-MODIFIED:20220412T224415Z
UID:8196-1650704400-1650711600@gailbrenner.com
SUMMARY:Facing the Cascade of Crises—Event with SAND
DESCRIPTION:Facing the Cascade of Crises \nWith Michael Meade and Gail Brenner \nApril 23\, 2022 9–11am PDT \nA Live Online Community Conversation\nIn partnership with SAND (Science and Nonduality) \nAs the shocking war in Ukraine adds to the already daunting array of worldwide crises\, events can feel increasingly out of control. No matter where we live\, we are caught in the shattering of the world and the broken heart of tragedy. Being soulfully present in our own lives helps settle the psyche in these unsettled times. In the long run\, what moves and heals and stirs the individual soul can also move and heal the world. \nJoin mythologist/storyteller Michael Meade and therapist/teacher Gail Brenner for a live online community conversation\, where we will share and reflect on ways to cope with our troubled and unsettled world through storytelling\, ancient myths\, and small groups inquiry. \nPlease click here to register: https://www.scienceandnonduality.com/webinar/facing-the-cascade-of-crisis#overview \nMichael Meade\nMichael Meade\, D.H.L.\, is a renowned storyteller\, author\, and scholar of mythology\, anthropology\, and psychology. He combines hypnotic storytelling\, street-savvy perceptiveness\, and spellbinding interpretations of ancient myths with a deep knowledge of cross-cultural rituals. He has an unusual ability to distill and synthesize these disciplines\, tapping into ancestral sources of wisdom and connecting them to the stories we are living today. \nHe is the author of The Genius Myth\, Fate and Destiny: The Two Agreements of The Soul\, Why the World Doesn’t End\, The Water of Life: Initiation and the Tempering of the Soul; editor\, with James Hillman and Robert Bly\, of Rag and Bone Shop of the Heart; and editor of Crossroads: A Quest for Contemporary Rites of Passage. Meade is the founder of Mosaic Multicultural Foundation\, a nonprofit network of artist\, activists\, and community builders that encourages greater understanding between diverse peoples. \nGail Brenner\nGail Brenner\, Ph.D. is a psychologist\, author\, teacher\, and lover of truth with a fire that burns brightly. She is an expert in healing from early trauma and brings to this work years of experience with individuals and groups. Her work lovingly illuminates our everyday humanness with the deepest spiritual truths\, and she is known for creating the safe space needed for  inner exploration. \nGail has special expertise working with older adults and their families in the transitions of aging\, death\, and dying. She was an assistant clinical professor at the University of California San Francisco where she trained physicians and maintained a clinical practice. She has published numerous professional articles on coping with stress and chronic medical illness and is the author of the award-winning The End of Self-Help and Suffering Is Optional. She loves exploring different cultures through international volunteering. \nEvent is in partnership with Science and Nonduality (SAND). Please click here to register: https://www.scienceandnonduality.com/webinar/facing-the-cascade-of-crisis#overview \nimage
URL:https://gailbrenner.com/event/facing-the-cascade-of-crises-event-with-sand/
LOCATION:online
END:VEVENT
BEGIN:VEVENT
DTSTART;TZID=America/Los_Angeles:20220426T090000
DTEND;TZID=America/Los_Angeles:20220426T103000
DTSTAMP:20260424T185257
CREATED:20220412T230239Z
LAST-MODIFIED:20220412T230239Z
UID:8212-1650963600-1650969000@gailbrenner.com
SUMMARY:Coming Home Together—Online Gathering
DESCRIPTION:Coming Home Together:\nEmbodied Awakening in Everyday Life \nTuesday\, April 26\, 9:00am – 10:30am Pacific\non Zoom\nNoon Eastern\, 5pm GMT \nRecording will be available and sent to all who register. \nThe Embodied Awakening gathering offers a deep dive into the practicalities of awakened living. Your everyday human life will be the laboratory as we explore the myth of the separate self\, unexplored trauma patterns\, and how to live the deepest nondual teachings of infinite oneness. \nHow do you handle a frustrating encounter with someone? How do you navigate your relationships? What do you do with feeling disappointed\, hurt\, or bored? What about longstanding conditioned patterns that feel stuck? What about needs\, desires\, and stressful times? We’ll carefully shed the light of awareness on your personal attachments\, bringing a loving perspective and clarity to these common life situations. \nYou’ll practice staying grounded in your present moment experience\, and from here we explore the programmed patterns that bring struggle to your life. Many of these patterns have plagued us for years. We hear about freedom as a possibility\, but we just don’t know how to find our way there. We feel stuck in the painful sense of separation…from ourselves and the sacredness of all of Life. \nFinally\, we realize that we can’t go it alone. Our disconnection from our divine nature happened in the context of relationship so we need to practice together—in a supportive and loving community—to find our way home. Come with your fears\, doubts\, shame\, and questions—and simply to share sacred space together in community with like-minded friends. Our time together will include guided meditation\, clarifying teachings\, practical tools\, and heartfelt conversation. \nTogether\, we lovingly embrace our humanness as we expand into overflowing appreciation\, vibrant joy\, and deep connection with all of Life. \nDetails \nTuesday\, April 26\, 2021 9:00am – 10:30am Pacific\nStarts at noon Eastern\, 5:00pm UK \nRecording will be sent to everyone who registers.\nPlease register here. Once you register\, you will be directed to the zoom link — and you will receive it by email one hour prior to our meeting. \n\nChoose the amount you would like to pay.Option 1 $15.00 USDOption 2 $9.00 USDOption 3 $4.00 USD\n\n\nFriends are saying: \n\n“I am now experiencing longer moments of pure awareness and joy. No longer a slave to external circumstances and inner chatter. Loving life the way it is.” ~Susan R. \n“I liked the sense of trust\, profound acceptance\, safety\, unconditional love and support that Gail brought to us. The course made me realize the importance of being involved in a community of people dedicated to the most important thing to me\, Healing and Awakening. I just cannot do it alone!” ~Aline B \n“Your work is a bridge between practical daily life and Supreme Reality.” ~Henrique N. \n“You radiate such warmth\, kindness\, beauty and wisdom. I had been stuck for so long and by listening to your sage advice\, am finally starting to see and feel the light. Your light helps us to shine our own.” ~Julie Desmarais \nPlease register here. Once you register\, you will be directed to the zoom link — and you will receive it by email one hour prior to our meeting. \n\nChoose the amount you would like to pay.Option 1 $15.00 USDOption 2 $9.00 USDOption 3 $4.00 USD\n\n\nAt any moment\, within the field of your own experience\, there is an inner sanctuary of presence and stillness. You access this space by shifting your attention away from the jumble of thoughts\, feelings\, stories\, fears\, and external input such as others’ opinions. You simply turn inward—beyond all mind movement—and be. \nIn no time at all\, you find the ground of being\, the light of living vibration that’s here in every moment. It’s timeless\, which means it’s eternally present\, and all-embracing as the unity of all. Don’t be afraid of this vast love. Fall into its arms…”\n~Gail \nGail Brenner\, Ph.D. is your guide on this journey. She is a clinical psychologist and lover of truth with a fire that burns brightly. She brings to this work years of experience with individuals and groups and is known for creating the sense of safety and trust needed for this deeper exploration.
URL:https://gailbrenner.com/event/coming-home-together-4-26-22/
LOCATION:online
END:VEVENT
END:VCALENDAR