BEGIN:VCALENDAR
VERSION:2.0
PRODID:-//Dr. Gail Brenner - ECPv6.15.20//NONSGML v1.0//EN
CALSCALE:GREGORIAN
METHOD:PUBLISH
X-WR-CALNAME:Dr. Gail Brenner
X-ORIGINAL-URL:https://gailbrenner.com
X-WR-CALDESC:Events for Dr. Gail Brenner
REFRESH-INTERVAL;VALUE=DURATION:PT1H
X-Robots-Tag:noindex
X-PUBLISHED-TTL:PT1H
BEGIN:VTIMEZONE
TZID:America/Los_Angeles
BEGIN:DAYLIGHT
TZOFFSETFROM:-0800
TZOFFSETTO:-0700
TZNAME:PDT
DTSTART:20210314T100000
END:DAYLIGHT
BEGIN:STANDARD
TZOFFSETFROM:-0700
TZOFFSETTO:-0800
TZNAME:PST
DTSTART:20211107T090000
END:STANDARD
BEGIN:DAYLIGHT
TZOFFSETFROM:-0800
TZOFFSETTO:-0700
TZNAME:PDT
DTSTART:20220313T100000
END:DAYLIGHT
BEGIN:STANDARD
TZOFFSETFROM:-0700
TZOFFSETTO:-0800
TZNAME:PST
DTSTART:20221106T090000
END:STANDARD
BEGIN:DAYLIGHT
TZOFFSETFROM:-0800
TZOFFSETTO:-0700
TZNAME:PDT
DTSTART:20230312T100000
END:DAYLIGHT
BEGIN:STANDARD
TZOFFSETFROM:-0700
TZOFFSETTO:-0800
TZNAME:PST
DTSTART:20231105T090000
END:STANDARD
END:VTIMEZONE
BEGIN:VEVENT
DTSTART;TZID=America/Los_Angeles:20220505T090000
DTEND;TZID=America/Los_Angeles:20220505T103000
DTSTAMP:20260424T171641
CREATED:20220425T214414Z
LAST-MODIFIED:20220502T174311Z
UID:8231-1651741200-1651746600@gailbrenner.com
SUMMARY:Online Gathering—Getting to the Core of Early Trauma
DESCRIPTION:Coming Home Together Online Gathering:\nGetting to the Core of Early Trauma \nThursday\, May 5\, 9:00am – 10:30am Pacific\non Zoom\nNoon Eastern\, 5pm GMT \nRecording will be available and sent to all who register. \nThe Coming Home Together gathering offers a deep dive into the practicalities of awakened living. Your everyday human life will be the laboratory as we explore the myth of the separate self\, unexplored trauma patterns\, and how to live the deepest nondual teachings of infinite oneness. \nOur focus for this meeting is giving our compassionate attention to how disruption in our early relationships affects us. If we felt unsafe\, rejected\, unseen\, or disconnected early in our lives\, we develop an identity that we are unworthy\, not good enough\, or wounded beyond repair. And we grow up trying to figure out how to cope with the sense that something is missing. Some of the ways we do that are overachieving\, perfectionism\, people pleasing\, self-judgment\, or hiding from life. \nTogether\, we create a field of safe space to explore these tender parts of ourselves. As we discover we can meet them with deep acceptance and care\, we have space to realize there is so much more to life! \nOur time together includes guided meditation\, teachings for understanding our inner experience\, practical tools\, and heartfelt conversation. We turn our attention inward to recognize our mind-made limits and the stories that create personal suffering. \nHow do you handle a frustrating encounter with someone? How do you navigate your relationships? What do you do with feeling disappointed\, hurt\, or bored? What about longstanding conditioned patterns that feel stuck? What about needs\, desires\, and stressful times? We’ll carefully shed the light of awareness on your personal attachments\, bringing a loving perspective and clarity to these common life situations. \nYou’ll practice staying grounded in your present moment experience\, and from here we explore the programmed patterns that bring struggle to your life. Many of these patterns have plagued us for years. We hear about freedom as a possibility\, but we just don’t know how to find our way there. We feel stuck in the painful sense of separation…from ourselves and the sacredness of all of Life. \nFinally\, we realize that we can’t go it alone. Our disconnection from our divine nature happened in the context of relationship so we need to practice together—in a supportive and loving community—to find our way home. Come with your fears\, doubts\, shame\, and questions—and simply to share sacred space together in community with like-minded friends. \nTogether\, we lovingly embrace our humanness as we expand into overflowing appreciation\, vibrant joy\, and deep connection with all of Life. \nDetails \nThursday\, May 5\, 2021 9:00am – 10:30am Pacific\nStarts at noon Eastern\, 5:00pm UK \nRecording will be sent to everyone who registers.\nPlease register here. Once you register\, you will be directed to the zoom link — and you will receive it by email one hour prior to our meeting. \n\nChoose the amount you would like to pay.Option 1 $15.00 USDOption 2 $9.00 USDOption 3 $4.00 USD\n\n\nFriends are saying: \n\n“I am now experiencing longer moments of pure awareness and joy. No longer a slave to external circumstances and inner chatter. Loving life the way it is.” ~Susan R. \n“I liked the sense of trust\, profound acceptance\, safety\, unconditional love and support that Gail brought to us. The course made me realize the importance of being involved in a community of people dedicated to the most important thing to me\, Healing and Awakening. I just cannot do it alone!” ~Aline B \n“Your work is a bridge between practical daily life and Supreme Reality.” ~Henrique N. \n“You radiate such warmth\, kindness\, beauty and wisdom. I had been stuck for so long and by listening to your sage advice\, am finally starting to see and feel the light. Your light helps us to shine our own.” ~Julie Desmarais \n\nPlease register here. Once you register\, you will be directed to the zoom link — and you will receive it by email one hour prior to our meeting. \n\nChoose the amount you would like to pay.Option 1 $15.00 USDOption 2 $9.00 USDOption 3 $4.00 USD\n\n\nAt any moment\, within the field of your own experience\, there is an inner sanctuary of presence and stillness. You access this space by shifting your attention away from the jumble of thoughts\, feelings\, stories\, fears\, and external input such as others’ opinions. You simply turn inward—beyond all mind movement—and be. \nIn no time at all\, you find the ground of being\, the light of living vibration that’s here in every moment. It’s timeless\, which means it’s eternally present\, and all-embracing as the unity of all. Don’t be afraid of this vast love. Fall into its arms…”\n~Gail \nGail Brenner\, Ph.D. is your guide on this journey. She is a clinical psychologist and lover of truth with a fire that burns brightly. She brings to this work years of experience with individuals and groups and is known for creating the sense of safety and trust needed for this deeper exploration.
URL:https://gailbrenner.com/event/coming-home-together-5-5-22/
LOCATION:online
END:VEVENT
BEGIN:VEVENT
DTSTART;TZID=America/Los_Angeles:20220511T090000
DTEND;TZID=America/Los_Angeles:20220511T103000
DTSTAMP:20260424T171641
CREATED:20220504T165607Z
LAST-MODIFIED:20220505T191712Z
UID:8250-1652259600-1652265000@gailbrenner.com
SUMMARY:Online Gathering—Relationships and Early Trauma
DESCRIPTION:Coming Home Together Online Gathering:\nRelationships and Early Trauma \nWednesday\, May 11\, 9:00am – 10:30am Pacific\non Zoom\nNoon Eastern\, 5pm GMT \nRecording will be available and sent to all who register. \nThe Coming Home Together gathering offers a deep dive into the practicalities of awakened living. Your everyday human life will be the laboratory as we explore the myth of the separate self\, unexplored trauma patterns\, and how to live the deepest nondual teachings of infinite oneness. \nOur focus for this meeting is on how disruptions in our early relationships with our parents and caregivers affect our capacity to form authentic and intimate relationships throughout our lives. If we felt unsafe\, rejected\, unseen\, or disconnected early in our lives\, we’re invited to learn how to take care of these younger parts of ourselves so we can show up fully now with ourselves and others. That’s how we stop projecting out our needs and fears and expecting other people to satisfy what we missed in our childhoods. \nHere’s the good news: our capacity for fulfilling relationships is still alive in us\, here to be discovered and lived. Together\, we create a field of safe space to explore how we feel stuck and separate. As we discover we can meet these tender places in ourselves with deep acceptance and care\, we have space to open to the intimacy that is possible. We’ll explore practical ways to be more present in our interactions. \nOur time together includes guided meditation\, teachings for understanding our inner experience\, helpful tools\, and heartfelt conversation. We turn our attention inward to recognize our mind-made limits and the stories that create personal suffering. \nHow do you handle a frustrating encounter with someone? How do you navigate your relationships? What do you do with feeling disappointed\, hurt\, or bored? What about longstanding conditioned patterns that feel stuck? What about needs\, desires\, and stressful times? We’ll carefully shed the light of awareness on your personal attachments\, bringing a loving perspective and clarity to these common life situations. \nYou’ll practice staying grounded in your present moment experience\, and from here we explore the programmed patterns that bring struggle to your life. Many of these patterns have plagued us for years. We hear about freedom as a possibility\, but we just don’t know how to find our way there. We feel stuck in the painful sense of separation…from ourselves and the sacredness of all of Life. \nFinally\, we realize that we can’t go it alone. Our disconnection from our divine nature happened in the context of relationship so we need to practice together—in a supportive and loving community—to find our way home. Come with your fears\, doubts\, shame\, and questions—and simply to share sacred space together in community with like-minded friends. \nTogether\, we lovingly embrace our humanness as we expand into overflowing appreciation\, vibrant joy\, and deep connection with all of Life. \nDetails \nWednesday\, May 11\, 2022 9:00am – 10:30am Pacific\nStarts at noon Eastern\, 5:00pm GMT \nRecording will be sent to everyone who registers.\nPlease register here. Once you register\, you will be directed to the zoom link — and you will receive it by email one hour prior to our meeting. \n\nChoose the amount you would like to pay.Option 1 $15.00 USDOption 2 $9.00 USDOption 3 $4.00 USD\n\n\nFriends are saying: \n\n“I am now experiencing longer moments of pure awareness and joy. No longer a slave to external circumstances and inner chatter. Loving life the way it is.” ~Susan R. \n“I liked the sense of trust\, profound acceptance\, safety\, unconditional love and support that Gail brought to us. The course made me realize the importance of being involved in a community of people dedicated to the most important thing to me\, Healing and Awakening. I just cannot do it alone!” ~Aline B \n“Your work is a bridge between practical daily life and Supreme Reality.” ~Henrique N. \n“You radiate such warmth\, kindness\, beauty and wisdom. I had been stuck for so long and by listening to your sage advice\, am finally starting to see and feel the light. Your light helps us to shine our own.” ~Julie Desmarais \n\nPlease register here. Once you register\, you will be directed to the zoom link — and you will receive it by email one hour prior to our meeting. \n\nChoose the amount you would like to pay.Option 1 $15.00 USDOption 2 $9.00 USDOption 3 $4.00 USD\n\n\nAt any moment\, within the field of your own experience\, there is an inner sanctuary of presence and stillness. You access this space by shifting your attention away from the jumble of thoughts\, feelings\, stories\, fears\, and external input such as others’ opinions. You simply turn inward—beyond all mind movement—and be. \nIn no time at all\, you find the ground of being\, the light of living vibration that’s here in every moment. It’s timeless\, which means it’s eternally present\, and all-embracing as the unity of all. Don’t be afraid of this vast love. Fall into its arms…”\n~Gail \nGail Brenner\, Ph.D. is your guide on this journey. She is a clinical psychologist and lover of truth with a fire that burns brightly. She brings to this work years of experience with individuals and groups and is known for creating the sense of safety and trust needed for this deeper exploration.
URL:https://gailbrenner.com/event/coming-home-together-5-11-22/
LOCATION:online
END:VEVENT
BEGIN:VEVENT
DTSTART;TZID=America/Los_Angeles:20220518T090000
DTEND;TZID=America/Los_Angeles:20220518T103000
DTSTAMP:20260424T171641
CREATED:20220510T214053Z
LAST-MODIFIED:20220510T214053Z
UID:8271-1652864400-1652869800@gailbrenner.com
SUMMARY:Online Gathering—Wise Ways to Be with Early Trauma Patterns
DESCRIPTION:Coming Home Together Online Gathering:\nWise Ways to Be with Early Trauma Patterns \nWednesday\, May 18\, 9:00am – 10:30am Pacific\non Zoom\nNoon Eastern\, 5pm GMT \nRecording will be available and sent to all who register. \nThe Coming Home Together gathering offers a deep dive into the practicalities of awakened living. Your everyday human life will be the laboratory as we explore the myth of the separate self\, unexplored trauma patterns\, and how to live the deepest nondual teachings of infinite oneness. \nOur focus for this meeting is on recognizing and caring for the tender and young parts of ourselves that still live in us and are the fuel behind our struggles in everyday life. In a supportive field of loving connection\, we’ll bring attention to the places in us that feel unsafe\, unseen\, and disconnected. And we’ll practice skills and wisdom-based tools to care for the fear and feelings of inadequacy that drive these stressful energies. We’ll discover the possibility of relaxing our nervous systems and expanding into the spacious openness of the present moment. \nHere\, finally we’re available to peace\, freedom\, intimacy\, and inspiration. \nPlease register here. Once you register\, you will be directed to the zoom link — and you will receive it by email one hour prior to our meeting. \n\nChoose the amount you would like to pay.Option 1 $15.00 USDOption 2 $9.00 USDOption 3 $4.00 USD\n\n\nOur time together includes guided meditation\, teachings for understanding our inner experience\, helpful tools\, and heartfelt conversation. \nHow do you handle a frustrating encounter with someone? How do you navigate your relationships? What do you do with feeling disappointed\, hurt\, or bored? What about longstanding conditioned patterns that feel stuck? What about needs\, desires\, and stressful times? We’ll carefully shed the light of awareness on your personal attachments\, bringing a loving perspective and clarity to these common life situations. \nYou’ll practice staying grounded in your present moment experience\, and from here we explore the programmed patterns that bring struggle to your life. Many of these patterns have plagued us for years. We hear about freedom as a possibility\, but we just don’t know how to find our way there. We feel stuck in the painful sense of separation…from ourselves and the sacredness of all of Life. \nFinally\, we realize that we can’t go it alone. Our disconnection from our divine nature happened in the context of relationship so we need to practice together—in a supportive and loving community—to find our way home. Come with your fears\, doubts\, shame\, and questions—and simply to share sacred space together in community with like-minded friends. \nTogether\, we lovingly embrace our humanness as we expand into overflowing appreciation\, vibrant joy\, and deep connection with all of Life. \nDetails \nWednesday\, May 18\, 2022 9:00am – 10:30am Pacific\nStarts at noon Eastern\, 5:00pm GMT \nRecording will be sent to everyone who registers. \nPlease register here. Once you register\, you will be directed to the zoom link — and you will receive it by email one hour prior to our meeting. \n\nChoose the amount you would like to pay.Option 1 $15.00 USDOption 2 $9.00 USDOption 3 $4.00 USD\n\n\nFriends are saying: \n\n“I am now experiencing longer moments of pure awareness and joy. No longer a slave to external circumstances and inner chatter. Loving life the way it is.” ~Susan R. \n“I liked the sense of trust\, profound acceptance\, safety\, unconditional love and support that Gail brought to us. The course made me realize the importance of being involved in a community of people dedicated to the most important thing to me\, Healing and Awakening. I just cannot do it alone!” ~Aline B \n“Your work is a bridge between practical daily life and Supreme Reality.” ~Henrique N. \n“You radiate such warmth\, kindness\, beauty and wisdom. I had been stuck for so long and by listening to your sage advice\, am finally starting to see and feel the light. Your light helps us to shine our own.” ~Julie Desmarais \n\nAt any moment\, within the field of your own experience\, there is an inner sanctuary of presence and stillness. You access this space by shifting your attention away from the jumble of thoughts\, feelings\, stories\, fears\, and external input such as others’ opinions. You simply turn inward—beyond all mind movement—and be. \nIn no time at all\, you find the ground of being\, the light of living vibration that’s here in every moment. It’s timeless\, which means it’s eternally present\, and all-embracing as the unity of all. Don’t be afraid of this vast love. Fall into its arms…”\n~Gail \nGail Brenner\, Ph.D. is your guide on this journey. She is a clinical psychologist and lover of truth with a fire that burns brightly. She brings to this work years of experience with individuals and groups and is known for creating the sense of safety and trust needed for this deeper exploration.
URL:https://gailbrenner.com/event/coming-home-together-5-18-22/
LOCATION:online
END:VEVENT
BEGIN:VEVENT
DTSTART;TZID=America/Los_Angeles:20220525T090000
DTEND;TZID=America/Los_Angeles:20220525T103000
DTSTAMP:20260424T171641
CREATED:20220518T153516Z
LAST-MODIFIED:20220523T234902Z
UID:8354-1653469200-1653474600@gailbrenner.com
SUMMARY:Coming Home Together Online Gathering—Beyond the Limits of Early Trauma Patterns
DESCRIPTION:Coming Home Together Online Gathering:\nBeyond the Limits of Early Trauma Patterns \nWednesday\, May 25\, 9:00am – 10:30am Pacific\non Zoom\nNoon Eastern\, 5pm GMT \nRecording will be available and sent to all who register. \nThe Coming Home Together gathering offers a deep dive into the practicalities of awakened living. Your everyday human life will be the laboratory as we explore the myth of the separate self\, unexplored trauma patterns\, and how to live the deepest nondual teachings of infinite oneness. \nOur focus for this meeting is on recognizing how early trauma patterns limit us from living fully. When the stories\, beliefs\, and emotions that come from our early experiences inhabit our minds\, bodies\, hearts\, and being\, our view of all that is possible is restricted. \nIt’s like we’re looking through a window full of smudges—we can’t see that so much possibility is available outside this narrowed view. In fact\, beyond our patterns is infinite possibility beyond anything our minds could come up with. \nIn a supportive field of loving connection\, we’ll bring attention to how we feel limited by our familiar patterns that developed early in life. And we’ll explore outside these known ways of being\, into the unknown that is overflowing with aliveness\, spaciousness\, creativity\, and love.  This is your natural being\, who you have always been… \nPlease register here. Once you register\, you will be directed to the zoom link — and you will receive it by email one hour prior to our meeting. \n\nChoose the amount you would like to pay.Option 1 $15.00 USDOption 2 $9.00 USDOption 3 $4.00 USD\n\n\nOur time together includes guided meditation\, teachings for understanding our inner experience\, helpful tools\, and heartfelt conversation. \nHow do you handle a frustrating encounter with someone? How do you navigate your relationships? What do you do with feeling disappointed\, hurt\, or bored? What about longstanding conditioned patterns that feel stuck? What about needs\, desires\, and stressful times? We’ll carefully shed the light of awareness on your personal attachments\, bringing a loving perspective and clarity to these common life situations. \nYou’ll practice staying grounded in your present moment experience\, and from here we explore the programmed patterns that bring struggle to your life. Many of these patterns have plagued us for years. We hear about freedom as a possibility\, but we just don’t know how to find our way there. We feel stuck in the painful sense of separation…from ourselves and the sacredness of all of Life. \nFinally\, we realize that we can’t go it alone. Our disconnection from our divine nature happened in the context of relationship so we need to practice together—in a supportive and loving community—to find our way home. Come with your fears\, doubts\, shame\, and questions—and simply to share sacred space together in community with like-minded friends. \nTogether\, we lovingly embrace our humanness as we expand into overflowing appreciation\, vibrant joy\, and deep connection with all of Life. \nDetails \nWednesday\, May 25\, 2022 9:00am – 10:30am Pacific\nStarts at noon Eastern\, 5:00pm GMT \nRecording will be sent to everyone who registers. \nPlease register here. Once you register\, you will be directed to the zoom link — and you will receive it by email one hour prior to our meeting. \n\nChoose the amount you would like to pay.Option 1 $15.00 USDOption 2 $9.00 USDOption 3 $4.00 USD\n\n\nFriends are saying: \n\n“I am now experiencing longer moments of pure awareness and joy. No longer a slave to external circumstances and inner chatter. Loving life the way it is.” ~Susan R. \n“I liked the sense of trust\, profound acceptance\, safety\, unconditional love and support that Gail brought to us. The course made me realize the importance of being involved in a community of people dedicated to the most important thing to me\, Healing and Awakening. I just cannot do it alone!” ~Aline B \n“Your work is a bridge between practical daily life and Supreme Reality.” ~Henrique N. \n“You radiate such warmth\, kindness\, beauty and wisdom. I had been stuck for so long and by listening to your sage advice\, am finally starting to see and feel the light. Your light helps us to shine our own.” ~Julie Desmarais \n\nAt any moment\, within the field of your own experience\, there is an inner sanctuary of presence and stillness. You access this space by shifting your attention away from the jumble of thoughts\, feelings\, stories\, fears\, and external input such as others’ opinions. You simply turn inward—beyond all mind movement—and be. \nIn no time at all\, you find the ground of being\, the light of living vibration that’s here in every moment. It’s timeless\, which means it’s eternally present\, and all-embracing as the unity of all. Don’t be afraid of this vast love. Fall into its arms…”\n~Gail \nGail Brenner\, Ph.D. is your guide on this journey. She is a clinical psychologist and lover of truth with a fire that burns brightly. She brings to this work years of experience with individuals and groups and is known for creating the sense of safety and trust needed for this deeper exploration.
URL:https://gailbrenner.com/event/coming-home-together-5-25-22/
LOCATION:online
END:VEVENT
END:VCALENDAR