BEGIN:VCALENDAR
VERSION:2.0
PRODID:-//Dr. Gail Brenner - ECPv6.15.20//NONSGML v1.0//EN
CALSCALE:GREGORIAN
METHOD:PUBLISH
X-ORIGINAL-URL:https://gailbrenner.com
X-WR-CALDESC:Events for Dr. Gail Brenner
REFRESH-INTERVAL;VALUE=DURATION:PT1H
X-Robots-Tag:noindex
X-PUBLISHED-TTL:PT1H
BEGIN:VTIMEZONE
TZID:America/Los_Angeles
BEGIN:DAYLIGHT
TZOFFSETFROM:-0800
TZOFFSETTO:-0700
TZNAME:PDT
DTSTART:20210314T100000
END:DAYLIGHT
BEGIN:STANDARD
TZOFFSETFROM:-0700
TZOFFSETTO:-0800
TZNAME:PST
DTSTART:20211107T090000
END:STANDARD
BEGIN:DAYLIGHT
TZOFFSETFROM:-0800
TZOFFSETTO:-0700
TZNAME:PDT
DTSTART:20220313T100000
END:DAYLIGHT
BEGIN:STANDARD
TZOFFSETFROM:-0700
TZOFFSETTO:-0800
TZNAME:PST
DTSTART:20221106T090000
END:STANDARD
BEGIN:DAYLIGHT
TZOFFSETFROM:-0800
TZOFFSETTO:-0700
TZNAME:PDT
DTSTART:20230312T100000
END:DAYLIGHT
BEGIN:STANDARD
TZOFFSETFROM:-0700
TZOFFSETTO:-0800
TZNAME:PST
DTSTART:20231105T090000
END:STANDARD
END:VTIMEZONE
BEGIN:VEVENT
DTSTART;TZID=America/Los_Angeles:20220601T090000
DTEND;TZID=America/Los_Angeles:20220601T103000
DTSTAMP:20260424T153132
CREATED:20220525T185833Z
LAST-MODIFIED:20220526T202605Z
UID:8428-1654074000-1654079400@gailbrenner.com
SUMMARY:Coming Home Together Online Gathering—Cultivating Curiosity\, Humility\, Compassion\, and Devotion
DESCRIPTION:Coming Home Together Online Gathering:\nCultivating Curiosity\, Humility\, Compassion\, and Devotion\n \nWednesday\, June 1\, 9:00am – 10:30am Pacific\non Zoom\nNoon Eastern\, 5pm GMT \nRecording will be available and sent to all who register. \nThe Coming Home Together gathering offers a deep dive into the practicalities of awakened living. Your everyday human life will be the laboratory as we explore the myth of the separate self\, unexplored trauma patterns\, and how to live the deepest nondual teachings of infinite oneness. \nOur focus for this meeting is on exploring some of the qualities that serve us well as we live the freedom of our true nature. No matter how deep our experience is of the openness beyond time and space\, it serves to bring attention into the moments of everyday life. How can we live them fully\, informed by the inner knowing that who we are is not limited and lacking? \nWe will shine the light of our inquiry on curiosity\, humility\, compassion\, and devotion. What is our experience when we deeply feel into these qualities of being? How can we infuse them into our relationships with ourselves\, other people\, and life? What is it like to live without the illusion of the separate self? \nIn a supportive field of loving connection\, we’ll open to these essential qualities in our own experience. We’ll explore how our view expands as we let go of limited ways of being and embody spaciousness\, aliveness\, and love. This is your natural being\, who you have always been… \nPlease register here. Once you register\, you will be directed to the zoom link — and you will receive it by email one hour prior to our meeting. \n\nChoose the amount you would like to pay.Option 1 $15.00 USDOption 2 $9.00 USDOption 3 $4.00 USD\n\n\nOur time together includes guided meditation\, teachings for understanding our inner experience\, helpful tools\, and heartfelt conversation. \nHow do you handle a frustrating encounter with someone? How do you navigate your relationships? What do you do with feeling disappointed\, hurt\, or bored? What about longstanding conditioned patterns that feel stuck? What about needs\, desires\, and stressful times? We’ll carefully shed the light of awareness on your personal attachments\, bringing a loving perspective and clarity to these common life situations. \nYou’ll practice staying grounded in your present moment experience\, and from here we explore the programmed patterns that bring struggle to your life. Many of these patterns have plagued us for years. We hear about freedom as a possibility\, but we just don’t know how to find our way there. We feel stuck in the painful sense of separation…from ourselves and the sacredness of all of Life. \nFinally\, we realize that we can’t go it alone. Our disconnection from our divine nature happened in the context of relationship so we need to practice together—in a supportive and loving community—to find our way home. Come with your fears\, doubts\, shame\, and questions—and simply to share sacred space together in community with like-minded friends. \nTogether\, we lovingly embrace our humanness as we expand into overflowing appreciation\, vibrant joy\, and deep connection with all of Life. \nDetails \nWednesday\, June 1\, 2022 9:00am – 10:30am Pacific\nStarts at noon Eastern\, 5:00pm GMT \nRecording will be sent to everyone who registers. \nPlease register here. Once you register\, you will be directed to the zoom link — and you will receive it by email one hour prior to our meeting. \n\nChoose the amount you would like to pay.Option 1 $15.00 USDOption 2 $9.00 USDOption 3 $4.00 USD\n\n\nFriends are saying: \n\n“I am now experiencing longer moments of pure awareness and joy. No longer a slave to external circumstances and inner chatter. Loving life the way it is.” ~Susan R. \n“I liked the sense of trust\, profound acceptance\, safety\, unconditional love and support that Gail brought to us. The course made me realize the importance of being involved in a community of people dedicated to the most important thing to me\, Healing and Awakening. I just cannot do it alone!” ~Aline B \n“Your work is a bridge between practical daily life and Supreme Reality.” ~Henrique N. \n“You radiate such warmth\, kindness\, beauty and wisdom. I had been stuck for so long and by listening to your sage advice\, am finally starting to see and feel the light. Your light helps us to shine our own.” ~Julie Desmarais \n\nAt any moment\, within the field of your own experience\, there is an inner sanctuary of presence and stillness. You access this space by shifting your attention away from the jumble of thoughts\, feelings\, stories\, fears\, and external input such as others’ opinions. You simply turn inward—beyond all mind movement—and be. \nIn no time at all\, you find the ground of being\, the light of living vibration that’s here in every moment. It’s timeless\, which means it’s eternally present\, and all-embracing as the unity of all. Don’t be afraid of this vast love. Fall into its arms…”\n~Gail \nGail Brenner\, Ph.D. is your guide on this journey. She is a clinical psychologist and lover of truth with a fire that burns brightly. She brings to this work years of experience with individuals and groups and is known for creating the sense of safety and trust needed for this deeper exploration.
URL:https://gailbrenner.com/event/coming-home-together-6-1-22/
LOCATION:online
END:VEVENT
BEGIN:VEVENT
DTSTART;TZID=America/Los_Angeles:20220604T090000
DTEND;TZID=America/Los_Angeles:20220604T103000
DTSTAMP:20260424T153132
CREATED:20220526T205922Z
LAST-MODIFIED:20220601T041549Z
UID:8453-1654333200-1654338600@gailbrenner.com
SUMMARY:Coming Home Together Online Gathering—Living Presence in Our Relationships
DESCRIPTION:Coming Home Together Online Gathering:\nLiving Presence in Our Relationships\n \nSaturday\, June 4\, 9:00am – 10:30am Pacific\nNoon Eastern\, 5pm GMT\non Zoom \nClick to Register \nRecording will be available and sent to all who register. \nThe Coming Home Together gathering offers a deep dive into the practicalities of awakened living. Your everyday human life will be the laboratory as we explore the myth of the separate self\, unexplored trauma patterns\, and how to live the deepest nondual teachings of infinite oneness. \nThis meeting offers a taste of the upcoming 3-day course on waking up in our relationships (click here to learn more and register). \nOur focus for this meeting is on exploring ways to bring presence into our relationships. Your concerns\, questions\, and stuck places are welcome as we untangle conditioned ways of being and open to connection and intimacy beyond fear. How can you stay connected with kindness and love? What about resentments and unmet needs? How do we handle the tender places inside ourselves that get triggered? \nTogether\, we will explore the human experience of relationship informed by the truth of loving beingness that lies behind our fears and defensive patterns. And it starts with our relationship with ourselves and our own experience. This is how we find safety within\, even in the midst of challenging interactions. \nWe begin in our own supportive field of loving connection as we feel into the intimacy that’s possible…and celebrate the one heart beyond all separation. \nYou’ll practice staying grounded in your present moment experience\, and from here we explore the programmed patterns that bring struggle to your life. Many of these patterns have plagued us for years. We hear about freedom as a possibility\, but we just don’t know how to find our way there. We feel stuck in the painful sense of separation…from ourselves and the sacredness of all of Life. \nFinally\, we realize that we can’t go it alone. Our disconnection from our divine nature happened in the context of relationship so we need to practice together—in a supportive and loving community—to find our way home. Come with your fears\, doubts\, shame\, and questions—and simply to share sacred space together in community with like-minded friends. \nTogether\, we lovingly embrace our humanness as we expand into overflowing appreciation\, vibrant joy\, and deep connection with all of Life. \nDetails \nSaturday\, June 4\, 2022 9:00am – 10:30am Pacific\nStarts at noon Eastern\, 5:00pm GMT \nClick to Register \nRecording will be sent to everyone who registers. \nFriends are saying: \n\n“I am now experiencing longer moments of pure awareness and joy. No longer a slave to external circumstances and inner chatter. Loving life the way it is.” ~Susan R. \n“I liked the sense of trust\, profound acceptance\, safety\, unconditional love and support that Gail brought to us. The course made me realize the importance of being involved in a community of people dedicated to the most important thing to me\, Healing and Awakening. I just cannot do it alone!” ~Aline B \n“Your work is a bridge between practical daily life and Supreme Reality.” ~Henrique N. \n“You radiate such warmth\, kindness\, beauty and wisdom. I had been stuck for so long and by listening to your sage advice\, am finally starting to see and feel the light. Your light helps us to shine our own.” ~Julie Desmarais \n\nAt any moment\, within the field of your own experience\, there is an inner sanctuary of presence and stillness. You access this space by shifting your attention away from the jumble of thoughts\, feelings\, stories\, fears\, and external input such as others’ opinions. You simply turn inward—beyond all mind movement—and be. \nIn no time at all\, you find the ground of being\, the light of living vibration that’s here in every moment. It’s timeless\, which means it’s eternally present\, and all-embracing as the unity of all. Don’t be afraid of this vast love. Fall into its arms…”\n~Gail \nGail Brenner\, Ph.D. is your guide on this journey. She is a clinical psychologist and lover of truth with a fire that burns brightly. She brings to this work years of experience with individuals and groups and is known for creating the sense of safety and trust needed for this deeper exploration.
URL:https://gailbrenner.com/event/coming-home-together-6-4-22/
LOCATION:online
END:VEVENT
BEGIN:VEVENT
DTSTART;TZID=America/Los_Angeles:20220609T090000
DTEND;TZID=America/Los_Angeles:20220609T120000
DTSTAMP:20260424T153132
CREATED:20220516T031658Z
LAST-MODIFIED:20220601T035726Z
UID:8293-1654765200-1654776000@gailbrenner.com
SUMMARY:Waking Up in Our Relationships—3-Part Online Course
DESCRIPTION:Waking Up in Our Relationships:\nThe Sacred Path of Intimacy and Deep Trauma Healing\n3-Part Online Course \nSponsored by Open Circle Center\nJune 9\, 10 & 11\, 2022\, Thursday\, Friday\, & Saturday\n9:00 am – 12:00 noon\, Pacific Time\, each day\nStarts noon Eastern\, 5pm GMT \nEvent will be recorded and emailed to participants after each meeting.\nYou’re welcome to join even if you can’t attend all the live sessions. \nClick Here to Register \nAre you passionate about embodying awakened consciousness in everyday life? Then let’s explore our relationships. Your everyday human life will be the laboratory as we explore how to live the deepest nondual teachings of infinite oneness. \nIn this sacred time of retreat together\, we create a field of safe space to explore the patterns we bring to our relationships that create a sense of separation—from ourselves\, others\, and all of life. These are fear-based programmed ways of being that we learned early in our lives and left us feeling unsafe\, rejected\, unseen\, or disconnected. \nPeople-pleasing\, withdrawal\, inflating or deflating ourselves in comparison to others\, holding grudges\, and defensiveness… These are signs of unexamined contractions that are waiting for liberation. \nUntying the knots that lie at the core of our relationship struggles brings freshness\, ease\, and space for new and authentic ways of being. We discover we can meet the tender places in ourselves with deep acceptance and care and have space to open to intimate connection beyond our personal selves. \nWith guided inner reflection\, journaling exercises\, small group practice\, and Q&A\, we’ll practice creating safe space for deep connection. We’ll explore practical ways to be more present in our interactions. You’ll leave with new insights\, ways to experiment in daily life\, and tools for being in your relationships as a pathway for awakening. I look forward to being with you! \nDay 1: Our relationship with our own experience. We’ll begin by exploring how we disconnect from our selves and practice bringing loving awareness to all of our experience.\nDay 2: Our relationships with others. We’ll identify patterns of relating that develop from our early experience and practice staying grounded in ourselves so we can find space to stay present in our interactions.\nDay 3: Practical tools and skills. We’ll explore and practice new ways of relating so you can show up in your relationships more authentic and loving. \nClick Here to Register \nPlease feel free to contact Gail with any questions about the program at gail@gailbrenner.com. \n“I am now experiencing longer moments of pure awareness and joy. No longer a slave to external circumstances and inner chatter. Loving life the way it is.” ~Susan R. \n“What you’re pointing to is so difficult to talk about in words\, but you describe it so brilliantly and give such practical\, actionable steps to follow that I truly\, deeply get it. I just cannot express to you how transformative your approach has been for me.” ~Sandra Joseph\, Broadway star and author of Unmasking What Matters \nGail Brenner\, Ph.D. is your guide on this journey. She is a clinical psychologist and lover of truth with a fire that burns brightly. She brings to this work years of experience with individuals and groups and is known for creating the sense of safety and trust needed for this deeper exploration. She is the author of The End of Self-Help and Suffering Is Optional. \nwww.gailbrenner.com \nSliding Scale: $80 to $140\nSome Partial Scholarships Available\nPlease Register Early if you can.
URL:https://gailbrenner.com/event/waking-up-in-our-relationships-3-part-online-course/
LOCATION:online
END:VEVENT
BEGIN:VEVENT
DTSTART;TZID=America/Los_Angeles:20220615T090000
DTEND;TZID=America/Los_Angeles:20220615T103000
DTSTAMP:20260424T153132
CREATED:20220609T205431Z
LAST-MODIFIED:20220609T205857Z
UID:8633-1655283600-1655289000@gailbrenner.com
SUMMARY:Coming Home Together Online Gathering—Deep Knowing Beyond the Sense of the Separate Self
DESCRIPTION:Coming Home Together Online Gathering:\nDeep Knowing Beyond the Sense of the Separate Self\n \nWednesday\, June 15\, 9:00am – 10:30am Pacific\nNoon Eastern\, 5pm GMT\non Zoom \nClick to Register \nRecording will be available and sent to all who register. \nThe Coming Home Together gathering offers a deep dive into the practicalities of awakened living. Your everyday human life will be the laboratory as we explore the myth of the separate self\, unexplored trauma patterns\, and how to live the deepest nondual teachings of infinite oneness. \nOur focus for this meeting is on the perceived sense of the separate self. When we believe that we are defined by our stories and feelings\, we live in the world of separation. We are prone to thinking about ourselves a lot\, reassuring our safety and protection\, and taking things personally. The belief in the separate self is at the root of our psychological struggles in life. \nIn our supportive field of loving connection\, we’ll explore the sense of separation so you can feel into exactly how it limits you. Then we’ll expand beyond separation into a way of being that is free and unattached. Here is where you discover aliveness\, creativity\, inspiration\, and the joy of living. We’ll shed the light on deep inner listening and surrender in the moments of daily life. \nYou’ll practice staying grounded in your present moment experience\, and from here we explore the programmed patterns that make up the sense of separation. \nWe realize that we can’t go it alone. Our disconnection from our divine nature happened in the context of relationship so we need to practice together—in a supportive and loving community—to find our way home. Come with your fears\, doubts\, shame\, and questions—and simply to share sacred space together in community with like-minded friends. \nTogether\, we lovingly embrace our humanness as we expand into overflowing appreciation\, vibrant joy\, and deep connection with all of Life. \nDetails \nWednesday\, June 15\, 2022 9:00am – 10:30am Pacific\nStarts at noon Eastern\, 5:00pm GMT \nClick to Register \nRecording will be sent to everyone who registers. \nFriends are saying: \n\n“I am now experiencing longer moments of pure awareness and joy. No longer a slave to external circumstances and inner chatter. Loving life the way it is.” ~Susan R. \n“I liked the sense of trust\, profound acceptance\, safety\, unconditional love and support that Gail brought to us. The course made me realize the importance of being involved in a community of people dedicated to the most important thing to me\, Healing and Awakening. I just cannot do it alone!” ~Aline B \n“Your work is a bridge between practical daily life and Supreme Reality.” ~Henrique N. \n“You radiate such warmth\, kindness\, beauty and wisdom. I had been stuck for so long and by listening to your sage advice\, am finally starting to see and feel the light. Your light helps us to shine our own.” ~Julie Desmarais \n\nAt any moment\, within the field of your own experience\, there is an inner sanctuary of presence and stillness. You access this space by shifting your attention away from the jumble of thoughts\, feelings\, stories\, fears\, and external input such as others’ opinions. You simply turn inward—beyond all mind movement—and be. \nIn no time at all\, you find the ground of being\, the light of living vibration that’s here in every moment. It’s timeless\, which means it’s eternally present\, and all-embracing as the unity of all. Don’t be afraid of this vast love. Fall into its arms…”\n~Gail \nGail Brenner\, Ph.D. is your guide on this journey. She is a clinical psychologist and lover of truth with a fire that burns brightly. She brings to this work years of experience with individuals and groups and is known for creating the sense of safety and trust needed for this deeper exploration.
URL:https://gailbrenner.com/event/coming-home-together-knowing-beyond-separate-self/
LOCATION:online
END:VEVENT
BEGIN:VEVENT
DTSTART;TZID=America/Los_Angeles:20220622T090000
DTEND;TZID=America/Los_Angeles:20220622T103000
DTSTAMP:20260424T153132
CREATED:20220614T215142Z
LAST-MODIFIED:20220622T134601Z
UID:8786-1655888400-1655893800@gailbrenner.com
SUMMARY:Coming Home Together Online Gathering—Beyond Control; Surrendering Into Not Knowing
DESCRIPTION:Coming Home Together Online Gathering:\nBeyond Control; Surrendering Into Not Knowing\n \nWednesday\, June 22\, 9:00am – 10:30am Pacific\nNoon Eastern\, 5pm GMT\non Zoom \nClick to Register \nRecording will be available and sent to all who register. \nThe Coming Home Together online gathering offers a deep dive into the practicalities of awakened living. Your everyday human life will be the laboratory as we explore the myth of the separate self\, unexplored trauma patterns\, and everyday living of the deepest teachings of nondual reality. \nOur focus for this meeting is on control and surrender. When we’re identified with the human mind that makes us feel afraid and lacking\, we try to control ourselves\, situations\, and other people. We leave the unattached free flow of life that just is as we strive to keep ourselves safe and get our needs met. This movement to control is based on wanting what we don’t have and ultimately doesn’t bring us the peace we long for. We end up feeling contracted\, anxious\, and ill-at-ease. \nThe invitation is to surrender our need for control and our sense of separation and let life emerge through us. We live squarely in the not knowing\, listening deeply\, receiving what’s given without resistance. This is how we reconnect with our divine nature\, the deepest truth of our being. \nListening to silence\, we’re one with effortless unfolding of life in form. \nIn our supportive field of loving connection\, we’ll explore the fear-based conditioned patterns that motivate us to try to control what’s happening around us. We’ll feel into the limits of this motivation and how it shows up in our bodies and minds. Then\, meeting fear with welcoming and unconditional acceptance\, we’ll discover the space to expand beyond the limited self into openness\, pure being\, and joyful flow as a living reality. \nWe realize the value of exploring these essential questions in the safe space of loving community. Our disconnection from our divine nature happened in the context of relationship so we need to practice together—and support each other—to find our way home. Come with your fears\, doubts\, shame\, and questions—and simply to share sacred space together in community with like-minded friends. \nTogether\, we lovingly embrace our humanness as we expand into overflowing appreciation\, vibrant joy\, and deep connection with all of Life. \nDetails \nWednesday\, June 22\, 2022 9:00am – 10:30am Pacific\nStarts at noon Eastern\, 5:00pm GMT \nClick to Register \nRecording will be sent to everyone who registers. \nFriends are saying: \n\n“I am now experiencing longer moments of pure awareness and joy. No longer a slave to external circumstances and inner chatter. Loving life the way it is.” ~Susan R. \n“I liked the sense of trust\, profound acceptance\, safety\, unconditional love and support that Gail brought to us. The course made me realize the importance of being involved in a community of people dedicated to the most important thing to me\, Healing and Awakening. I just cannot do it alone!” ~Aline B \n“Your work is a bridge between practical daily life and Supreme Reality.” ~Henrique N. \n“You radiate such warmth\, kindness\, beauty and wisdom. I had been stuck for so long and by listening to your sage advice\, am finally starting to see and feel the light. Your light helps us to shine our own.” ~Julie Desmarais \n\nAt any moment\, within the field of your own experience\, there is an inner sanctuary of presence and stillness. You access this space by shifting your attention away from the jumble of thoughts\, feelings\, stories\, fears\, and external input such as others’ opinions. You simply turn inward—beyond all mind movement—and be. \nIn no time at all\, you find the ground of being\, the light of living vibration that’s here in every moment. It’s timeless\, which means it’s eternally present\, and all-embracing as the unity of all. Don’t be afraid of this vast love. Fall into its arms…”\n~Gail \nGail Brenner\, Ph.D. is your guide on this journey. She is a clinical psychologist and lover of truth with a fire that burns brightly. She brings to this work years of experience with individuals and groups and is known for creating the sense of safety and trust needed for this deeper exploration.
URL:https://gailbrenner.com/event/coming-home-together-beyond-control/
LOCATION:online
END:VEVENT
BEGIN:VEVENT
DTSTART;TZID=America/Los_Angeles:20220629T090000
DTEND;TZID=America/Los_Angeles:20220629T103000
DTSTAMP:20260424T153132
CREATED:20220622T043604Z
LAST-MODIFIED:20220811T234241Z
UID:8987-1656493200-1656498600@gailbrenner.com
SUMMARY:Coming Home Together Online Gathering—Five Core Practices for the Path of Awakening
DESCRIPTION:Coming Home Together Online Gathering:\nFive Core Practices for the Path of Awakening\n \nWednesday\, June 29\, 9:00am – 10:30am Pacific\nNoon Eastern\, 5pm GMT\non Zoom \nClick to Register \nRecording will be available and sent to all who register. \nThe Coming Home Together online gathering offers a deep dive into the practicalities of awakened living. Your everyday human life will be the laboratory as we explore the myth of the separate self\, unexplored trauma patterns\, and everyday living of the deepest teachings of nondual reality. \nOur focus for this meeting is on five core practices for the path of awakening in everyday life. Practices help us to integrate our deep love for freedom into the moments of our actual human lives and give us tools to rely on when strong conditioned patterns take hold. Do you want the possibility of freedom to be your living reality? Then practice living it now with whatever appears. Let every single part of your experience come into the light of awareness\, leaving no stone unturned. That’s how the hidden beliefs at the root of the sense of separation (such as\, “I am inadequate”) are finally seen as the made-up stories that they are. \nWe will unpack the five core practices I introduced in my book\, Suffering Is Optional. They are: \n\nTurning toward your experience;\nThe safe haven of being aware;\nLosing interest in thoughts;\nWelcoming feelings; and\nThe sacred return to loving aware presence.\n\nThese practices are like breadcrumbs on the spiritual path to support you in finding your way back from the illusion of reality created by your thoughts to the realization of the truth of your essential self. They’re not things you do to reach a goal. Rather\, they guide you to ultimately realize that the practice and the knowing of freedom are one and the same. Do any of these practices with not a sliver of resistance\, and you’ll discover that who you are has always been whole\, fully alive\, and overflowing as love… \nCome with your fears\, doubts\, shame\, and questions—and simply to share sacred space together in community with like-minded friends. \nTogether\, we lovingly embrace our humanness as we expand into appreciation\, vibrant joy\, and deep connection with all of Life. \nDetails \nWednesday\, June 29\, 2022 9:00am – 10:30am Pacific\nStarts at noon Eastern\, 5:00pm GMT \nClick to Register \nRecording will be sent to everyone who registers. \nA sliding scale is offered for those with financial challenges.  \nFriends are saying: \n\n“I am now experiencing longer moments of pure awareness and joy. No longer a slave to external circumstances and inner chatter. Loving life the way it is.” ~Susan R. \n“I liked the sense of trust\, profound acceptance\, safety\, unconditional love and support that Gail brought to us. The course made me realize the importance of being involved in a community of people dedicated to the most important thing to me\, Healing and Awakening. I just cannot do it alone!” ~Aline B \n“Your work is a bridge between practical daily life and Supreme Reality.” ~Henrique N. \n“You radiate such warmth\, kindness\, beauty and wisdom. I had been stuck for so long and by listening to your sage advice\, am finally starting to see and feel the light. Your light helps us to shine our own.” ~Julie Desmarais \n\nAt any moment\, within the field of your own experience\, there is an inner sanctuary of presence and stillness. You access this space by shifting your attention away from the jumble of thoughts\, feelings\, stories\, fears\, and external input such as others’ opinions. You simply turn inward—beyond all mind movement—and be. \nIn no time at all\, you find the ground of being\, the light of living vibration that’s here in every moment. It’s timeless\, which means it’s eternally present\, and all-embracing as the unity of all. Don’t be afraid of this vast love. Fall into its arms…”\n~Gail \nGail Brenner\, Ph.D. is your guide on this journey. She is a clinical psychologist and lover of truth with a fire that burns brightly. She brings to this work years of experience with individuals and groups and is known for creating the sense of safety and trust needed for this deeper exploration.
URL:https://gailbrenner.com/event/coming-home-together-five-core-practices/
LOCATION:online
END:VEVENT
END:VCALENDAR