BEGIN:VCALENDAR
VERSION:2.0
PRODID:-//Dr. Gail Brenner - ECPv6.15.20//NONSGML v1.0//EN
CALSCALE:GREGORIAN
METHOD:PUBLISH
X-WR-CALNAME:Dr. Gail Brenner
X-ORIGINAL-URL:https://gailbrenner.com
X-WR-CALDESC:Events for Dr. Gail Brenner
REFRESH-INTERVAL;VALUE=DURATION:PT1H
X-Robots-Tag:noindex
X-PUBLISHED-TTL:PT1H
BEGIN:VTIMEZONE
TZID:America/Los_Angeles
BEGIN:DAYLIGHT
TZOFFSETFROM:-0800
TZOFFSETTO:-0700
TZNAME:PDT
DTSTART:20210314T100000
END:DAYLIGHT
BEGIN:STANDARD
TZOFFSETFROM:-0700
TZOFFSETTO:-0800
TZNAME:PST
DTSTART:20211107T090000
END:STANDARD
BEGIN:DAYLIGHT
TZOFFSETFROM:-0800
TZOFFSETTO:-0700
TZNAME:PDT
DTSTART:20220313T100000
END:DAYLIGHT
BEGIN:STANDARD
TZOFFSETFROM:-0700
TZOFFSETTO:-0800
TZNAME:PST
DTSTART:20221106T090000
END:STANDARD
BEGIN:DAYLIGHT
TZOFFSETFROM:-0800
TZOFFSETTO:-0700
TZNAME:PDT
DTSTART:20230312T100000
END:DAYLIGHT
BEGIN:STANDARD
TZOFFSETFROM:-0700
TZOFFSETTO:-0800
TZNAME:PST
DTSTART:20231105T090000
END:STANDARD
END:VTIMEZONE
BEGIN:VEVENT
DTSTART;TZID=America/Los_Angeles:20220824T090000
DTEND;TZID=America/Los_Angeles:20220824T103000
DTSTAMP:20260424T102314
CREATED:20220731T044201Z
LAST-MODIFIED:20220822T164339Z
UID:9519-1661331600-1661337000@gailbrenner.com
SUMMARY:Coming Home Together Online Gathering—From Darkness to Light...Welcoming Everything
DESCRIPTION:Coming Home Together Online Gathering:\nFrom Darkness to Light…Welcoming Everything \nWednesday\, August 24\, 9:00am – 10:30am Pacific\nNoon Eastern\, 5pm BST on Zoom \nRecording will be available and sent to all who register. \nThe Coming Home Together online gathering offers a deep dive into the practicalities of awakened living. Your everyday human life will be the laboratory as we explore the myth of the separate self\, unexplored trauma patterns\, and everyday living of the deepest teachings of nondual reality. \nPlease register here. Once you register\, you will be directed to the zoom link—and you will receive it by email one hour prior to our meeting. A sliding scale is offered for those with financial challenges. \n\nChoose the amount you would like to pay.Option 1 $15.00 USDOption 2 $9.00 USDOption 3 $4.00 USD\n\nOur focus for this meeting is on investigating the nature of consciousness as welcoming everything without resistance. Standing in the unconditional “yes” to all that is\, there’s peace\, non-attachment\, and openness to whatever arises. The walls of separation that create our struggles in life soften\, and our whole being is experienced as fully alive in the timeless Now. \nWhat blocks our lived experience of this peacefulness? Being taken over by our conditioned patterns. It’s like we’re in a trance\, believing the story of our thoughts\, lost in our feelings\, and contracted into a limited view of ourselves\, others\, and the world. When we’re in this state\, we’re not welcoming everything. \nPerhaps from early on in our lives\, we learn that it’s just not safe to be. We’re afraid of turning toward emotional pain\, so it goes outside of awareness. We turn away from ourselves\, betraying our truth and playing out strategies to hide from\, avoid\, or reject our present moment experience. Then our focus goes “out there” into the world\, trying to fix our problems and find the peace and happiness we long for. \nWe’re overlooking the possibility of resting in our true nature…as it is…right in this moment…with no resistance whatsoever. \nIn our time together\, we’ll shine the light on the ways we resist our present moment experience. And we’ll practice the felt reality of being the spaciousness that naturally welcomes everything. \nNo longer efforting to avoid and defend\, the light of our true nature shines everywhere…endlessly… \nCome explore the possibility of welcoming everything. Together\, we lovingly embrace our humanness as we expand into appreciation\, vibrant joy\, and deep connection with all of Life. \nCome with your fears\, doubts\, shame\, and questions—and simply to share sacred space together in community with like-minded friends. \nQuestions? Please contact Gail here. \nDetails \nWednesday\, August 24\, 2022 9:00am – 10:30am Pacific \nStarts at noon Eastern\, 5pm BST\, 6pm CET\nRecording will be sent to everyone who registers. \nA sliding scale is offered for those with financial challenges.  \n\nChoose the amount you would like to pay.Option 1 $15.00 USDOption 2 $9.00 USDOption 3 $4.00 USD\n\n\nFriends are saying: \n\n“I am now experiencing longer moments of pure awareness and joy. No longer a slave to external circumstances and inner chatter. Loving life the way it is.” ~Susan R. \n“I liked the sense of trust\, profound acceptance\, safety\, unconditional love and support that Gail brought to us. The course made me realize the importance of being involved in a community of people dedicated to the most important thing to me\, Healing and Awakening. I just cannot do it alone!” ~Aline B \n“Your work is a bridge between practical daily life and Supreme Reality.” ~Henrique N. \n“You radiate such warmth\, kindness\, beauty and wisdom. I had been stuck for so long and by listening to your sage advice\, am finally starting to see and feel the light. Your light helps us to shine our own.” ~Julie Desmarais \n\n“At any moment\, within the field of your own experience\, there is an inner sanctuary of presence and stillness. You access this space by shifting your attention away from the jumble of thoughts\, feelings\, stories\, fears\, and external input such as others’ opinions. You simply turn inward—beyond all mind movement—and be. \nIn no time at all\, you find the ground of being\, the light of living vibration that’s here in every moment. It’s timeless\, which means it’s eternally present\, and all-embracing as the unity of all. Don’t be afraid of this vast love. Fall into its arms…”\n~Gail \nGail Brenner\, Ph.D. is your guide on this journey. She is a clinical psychologist and lover of truth with a fire that burns brightly. She brings to this work years of experience with individuals and groups and is known for creating the sense of safety and trust needed for this deeper exploration.
URL:https://gailbrenner.com/event/coming-home-together-welcoming-everything/
LOCATION:online
END:VEVENT
BEGIN:VEVENT
DTSTART;TZID=America/Los_Angeles:20220829T103000
DTEND;TZID=America/Los_Angeles:20220829T120000
DTSTAMP:20260424T102314
CREATED:20220730T104346Z
LAST-MODIFIED:20220731T143235Z
UID:9507-1661769000-1661774400@gailbrenner.com
SUMMARY:Free & Online: The Spiritual Path of Conscious Relationship
DESCRIPTION:Free for Everyone…All Are Welcome \nYou don’t need to be part of a 12-step fellowship to attend \nSimply join with this zoom meeting ID\, no passcode required: 550-501-9905
URL:https://gailbrenner.com/event/the-spiritual-path-of-conscious-relationship/
LOCATION:online
END:VEVENT
BEGIN:VEVENT
DTSTART;TZID=America/Los_Angeles:20220831T090000
DTEND;TZID=America/Los_Angeles:20220831T103000
DTSTAMP:20260424T102314
CREATED:20220806T230532Z
LAST-MODIFIED:20220822T164451Z
UID:9564-1661936400-1661941800@gailbrenner.com
SUMMARY:Coming Home Together Online Gathering—Deep Trauma Healing: Tending the Ground for Awakened Living
DESCRIPTION:Coming Home Together Online Gathering:\nDeep Trauma Healing: Tending the Ground for Awakened Living \nWednesday\, August 31\, 9:00am – 10:30am Pacific\nNoon Eastern\, 5pm BST\non Zoom \nRecording will be available and sent to all who register. \nThe Coming Home Together online gathering offers a deep dive into the practicalities of awakened living. Your everyday human life will be the laboratory as we explore the myth of the separate self\, unexplored trauma patterns\, and everyday living of the deepest teachings of nondual reality. \nPlease register here. Once you register\, you will be directed to the zoom link—and you will receive it by email one hour prior to our meeting. A sliding scale is offered for those with financial challenges. \n\nChoose the amount you would like to pay.Option 1 $15.00 USDOption 2 $9.00 USDOption 3 $4.00 USD\n\nOur focus for this meeting is on the value of deep trauma healing to tend the ground for awakened living. Unexamined trauma is at the root of our conditioned patterns and makes the sense of the separate self seem real. We long for freedom and maybe have had a taste of our true nature\, but somehow these patterns keep getting played out automatically in our minds\, emotions\, relationships\, and choices in life. We feel caught in the painful sense of separation…from ourselves and the sacredness of all of Life. \nIn loving and supportive community\, we’ll explore how conditioned patterns keep us feeling separate. We’ll address how we resist—by believing our fear-based mindsets and avoiding or indulging our emotions. Meeting these resistances with welcoming and unconditional acceptance\, we’ll discover the space to expand beyond the limited self into openness\, pure being\, relaxation\, and joyful flow as a living reality. \nYou are welcome just as you are with your fears\, doubts\, shame\, and questions—and simply to share sacred space with like-minded friends. \nTogether\, we lovingly embrace our humanness as we expand into overflowing appreciation and deep connection with all of Life. \nQuestions? Please contact Gail here. \nDetails \nWednesday\, August 31\, 2022 9:00am – 10:30am Pacific \nStarts at noon Eastern\, 5pm BST\, 6pm CET \nRecording will be sent to everyone who registers. \nA sliding scale is offered for those with financial challenges.  \n\nChoose the amount you would like to pay.Option 1 $15.00 USDOption 2 $9.00 USDOption 3 $4.00 USD\n\n\nFriends are saying: \n\n“I am now experiencing longer moments of pure awareness and joy. No longer a slave to external circumstances and inner chatter. Loving life the way it is.” ~Susan R. \n“I liked the sense of trust\, profound acceptance\, safety\, unconditional love and support that Gail brought to us. The course made me realize the importance of being involved in a community of people dedicated to the most important thing to me\, Healing and Awakening. I just cannot do it alone!” ~Aline B \n“Your work is a bridge between practical daily life and Supreme Reality.” ~Henrique N. \n“You radiate such warmth\, kindness\, beauty and wisdom. I had been stuck for so long and by listening to your sage advice\, am finally starting to see and feel the light. Your light helps us to shine our own.” ~Julie Desmarais \n\n“At any moment\, within the field of your own experience\, there is an inner sanctuary of presence and stillness. You access this space by shifting your attention away from the jumble of thoughts\, feelings\, stories\, fears\, and external input such as others’ opinions. You simply turn inward—beyond all mind movement—and be. \nIn no time at all\, you find the ground of being\, the light of living vibration that’s here in every moment. It’s timeless\, which means it’s eternally present\, and all-embracing as the unity of all. Don’t be afraid of this vast love. Fall into its arms…”\n~Gail \nGail Brenner\, Ph.D. is your guide on this journey. She is a clinical psychologist and lover of truth with a fire that burns brightly. She brings to this work years of experience with individuals and groups and is known for creating the safety and trust needed for this deeper exploration.
URL:https://gailbrenner.com/event/coming-home-together-tending-the-ground/
LOCATION:online
END:VEVENT
END:VCALENDAR