BEGIN:VCALENDAR
VERSION:2.0
PRODID:-//Dr. Gail Brenner - ECPv6.15.20//NONSGML v1.0//EN
CALSCALE:GREGORIAN
METHOD:PUBLISH
X-ORIGINAL-URL:https://gailbrenner.com
X-WR-CALDESC:Events for Dr. Gail Brenner
REFRESH-INTERVAL;VALUE=DURATION:PT1H
X-Robots-Tag:noindex
X-PUBLISHED-TTL:PT1H
BEGIN:VTIMEZONE
TZID:America/Los_Angeles
BEGIN:DAYLIGHT
TZOFFSETFROM:-0800
TZOFFSETTO:-0700
TZNAME:PDT
DTSTART:20210314T100000
END:DAYLIGHT
BEGIN:STANDARD
TZOFFSETFROM:-0700
TZOFFSETTO:-0800
TZNAME:PST
DTSTART:20211107T090000
END:STANDARD
BEGIN:DAYLIGHT
TZOFFSETFROM:-0800
TZOFFSETTO:-0700
TZNAME:PDT
DTSTART:20220313T100000
END:DAYLIGHT
BEGIN:STANDARD
TZOFFSETFROM:-0700
TZOFFSETTO:-0800
TZNAME:PST
DTSTART:20221106T090000
END:STANDARD
BEGIN:DAYLIGHT
TZOFFSETFROM:-0800
TZOFFSETTO:-0700
TZNAME:PDT
DTSTART:20230312T100000
END:DAYLIGHT
BEGIN:STANDARD
TZOFFSETFROM:-0700
TZOFFSETTO:-0800
TZNAME:PST
DTSTART:20231105T090000
END:STANDARD
END:VTIMEZONE
BEGIN:VEVENT
DTSTART;TZID=America/Los_Angeles:20221207T090000
DTEND;TZID=America/Los_Angeles:20221207T103000
DTSTAMP:20260424T032130
CREATED:20221129T202603Z
LAST-MODIFIED:20221129T234114Z
UID:10096-1670403600-1670409000@gailbrenner.com
SUMMARY:Coming Home Together Online Gathering—Deep Knowing Beyond the Sense of the Separate Self
DESCRIPTION:Coming Home Together Online Gathering:\nDeep Knowing Beyond the Sense of the Separate Self \nWednesday\, December 7\, 9:00am – 10:30am Pacific\nNoon Eastern\, 5pm BST\non Zoom \nRecording will be available and sent to all who register. \nThe Coming Home Together online gathering offers a deep dive into the practicalities of awakened living. Your everyday human life will be the laboratory as we explore the myth of the separate self\, unexplored trauma patterns\, and everyday living of the deepest teachings of nondual reality. \nPlease register here. Once you register\, you will be directed to the zoom link—and you will receive it by email one hour prior to our meeting. A sliding scale is offered for those with financial challenges. \n\nChoose the amount you would like to pay.Option 1 $15.00 USDOption 2 $9.00 USDOption 3 $4.00 USD\n\n\nOur focus for this meeting is on discovering how we make ourselves feel separate and limited. When we believe that we are defined by our stories and feelings\, we live according to this constricted view. We’re prone to thinking about ourselves a lot\, maintaining safety and protection\, and taking things personally. There is a strong sense of the inner self fueled by fear and lack and the outer world that feels unsafe. The belief in the separate self is at the root of our psychological struggles in life. \nIn our supportive field of loving connection\, we’ll explore the sense of separation so you can feel into exactly how it limits you. Then we’ll expand beyond separation into a way of being that is spacious\, free and unattached. Here is where you discover aliveness\, creativity\, inspiration\, and the joy of living. We’ll shed light on deep inner listening and surrender in the moments of daily life that lovingly replace the need for control. \nYou’ll practice staying grounded in your present moment experience\, and from here we explore the programmed patterns that make up the sense of separation. \nWe realize that we can’t go it alone. Our disconnection from our divine nature happened in the context of relationship so we need to practice together—in a supportive and loving community—to find our way home. Come with your fears\, doubts\, shame\, and questions—and simply to share sacred space together in community with like-minded friends. \nWith guided meditation\, teachings\, and conversation\, we’ll practice creating safe space for this deep exploration. Together\, we lovingly embrace our humanness as we expand beyond the known into overflowing appreciation and deep connection with all of Life. I look forward to being with you! \nQuestions? Please contact Gail here. \nDetails \nWednesday\, December 7\, 2022 9:00am – 10:30am Pacific \nStarts at noon Eastern\, 5pm BST\, 6pm CET \nRecording will be sent to everyone who registers. \nA sliding scale is offered for those with financial challenges.  \n\nChoose the amount you would like to pay.Option 1 $15.00 USDOption 2 $9.00 USDOption 3 $4.00 USD\n\n\nFriends are saying: \n\n“I am now experiencing longer moments of pure awareness and joy. No longer a slave to external circumstances and inner chatter. Loving life the way it is.” ~Susan R. \n“I liked the sense of trust\, profound acceptance\, safety\, unconditional love and support that Gail brought to us. The course made me realize the importance of being involved in a community of people dedicated to the most important thing to me\, Healing and Awakening. I just cannot do it alone!” ~Aline B. \n“Your work is a bridge between practical daily life and Supreme Reality.” ~Henrique N. \n“You radiate such warmth\, kindness\, beauty and wisdom. I had been stuck for so long and by listening to your sage advice\, am finally starting to see and feel the light. Your light helps us to shine our own.” ~Julie Desmarais \n  \n\n“At any moment\, within the field of your own experience\, there is an inner sanctuary of presence and stillness. You access this space by shifting your attention away from the jumble of thoughts\, feelings\, stories\, fears\, and external input such as others’ opinions. You simply turn inward—beyond all mind movement—and be. \nIn no time at all\, you find the ground of being\, the light of living vibration that’s here in every moment. It’s timeless\, which means it’s eternally present\, and all-embracing as the unity of all. Don’t be afraid of this vast love. Fall into its arms…”\n~Gail \nGail Brenner\, Ph.D. is your guide on this journey. She is a clinical psychologist and lover of truth with a fire that burns brightly. She brings to this work years of experience with individuals and groups and is known for creating the safety and trust needed for this deeper exploration.
URL:https://gailbrenner.com/event/coming-home-together-separate-self/
LOCATION:online
END:VEVENT
BEGIN:VEVENT
DTSTART;TZID=America/Los_Angeles:20221214T090000
DTEND;TZID=America/Los_Angeles:20221214T103000
DTSTAMP:20260424T032130
CREATED:20221205T180128Z
LAST-MODIFIED:20221205T180451Z
UID:10125-1671008400-1671013800@gailbrenner.com
SUMMARY:Coming Home Together Online Gathering—Living in the Timeless Now
DESCRIPTION:Coming Home Together Online Gathering:\nLiving in the Timeless Now \nWednesday\, December 14\, 9:00am – 10:30am Pacific\nNoon Eastern\, 5pm BST\non Zoom \nRecording will be available and sent to all who register. \nThe Coming Home Together online gathering offers a deep dive into the practicalities of awakened living. Your everyday human life will be the laboratory as we explore the myth of the separate self\, unexplored trauma patterns\, and everyday living of the deepest teachings of nondual reality. \nPlease register here. Once you register\, you will be directed to the zoom link—and you will receive it by email one hour prior to our meeting. A sliding scale is offered for those with financial challenges. \n\nChoose the amount you would like to pay.Option 1 $15.00 USDOption 2 $9.00 USDOption 3 $4.00 USD\n\n\nOur focus for this meeting is on time and timelessness. If you are suffering\, then somehow the mind has drawn your attention into concepts of past and future. You carry patterns from the past into your present moment experience so you can’t be here fully. Or you believe something needs to change for you to be happy at some point in the future. These mind-made concepts create a sense of fear and lack. When we live in time\, we feel the weight of our past history and worries about the future.  \nThere is much said in our culture about being in the present moment. That’s because here is where we have the direct experience of life rather than the stories about our lives\, veiled by time\, that are created in our minds.\n \nOur true nature as consciousness is timeless…no memory\, no past\, no time for problems to form\, no time for suffering\, no future fear…and no mind. There is just This\, the alive reality of the now\, directly experienced as it is. Thought isn’t needed\, in fact\, thinking about what’s happening takes us away from the reality of it. \nRealizing timelessness\, we know that every moment is fresh and new…so alive! There is always the opportunity to recognize wonder\, delight\, mystery\, and the unknown. There is no same-old\, same-old\, no boredom. Only This…This…This…with no resistance whatsoever. \nAs a being in human form the recognition of timelessness leaves us without an anchor in the known. Free of the limitation of thought\, we’re available to inspiration\, creativity\, and infinite knowing. Even if thoughts are present\, the mind is vast and open\, empty and alert. \nCome explore how time limits us in past and future and discover reality free of time. We leave the tunnel vision of old\, constricting ideas as we expand into our true home of unbounded consciousness. Together\, we lovingly embrace our humanness as we expand into appreciation\, vibrant joy\, and deep connection with all of Life. \nCome with your fears\, doubts\, shame\, and questions—and simply to share sacred space together in community with like-minded friends. \nQuestions? Please contact Gail here. \nDetails \nWednesday\, December 14\, 2022 9:00am – 10:30am Pacific \nStarts at noon Eastern\, 5pm BST\, 6pm CET \nRecording will be sent to everyone who registers. \nA sliding scale is offered for those with financial challenges.  \n\nChoose the amount you would like to pay.Option 1 $15.00 USDOption 2 $9.00 USDOption 3 $4.00 USD\n\n\nFriends are saying: \n\n“I am now experiencing longer moments of pure awareness and joy. No longer a slave to external circumstances and inner chatter. Loving life the way it is.” ~Susan R. \n“I liked the sense of trust\, profound acceptance\, safety\, unconditional love and support that Gail brought to us. The course made me realize the importance of being involved in a community of people dedicated to the most important thing to me\, Healing and Awakening. I just cannot do it alone!” ~Aline B. \n“Your work is a bridge between practical daily life and Supreme Reality.” ~Henrique N. \n“You radiate such warmth\, kindness\, beauty and wisdom. I had been stuck for so long and by listening to your sage advice\, am finally starting to see and feel the light. Your light helps us to shine our own.” ~Julie Desmarais \n  \n\n“At any moment\, within the field of your own experience\, there is an inner sanctuary of presence and stillness. You access this space by shifting your attention away from the jumble of thoughts\, feelings\, stories\, fears\, and external input such as others’ opinions. You simply turn inward—beyond all mind movement—and be. \nIn no time at all\, you find the ground of being\, the light of living vibration that’s here in every moment. It’s timeless\, which means it’s eternally present\, and all-embracing as the unity of all. Don’t be afraid of this vast love. Fall into its arms…”\n~Gail \nGail Brenner\, Ph.D. is your guide on this journey. She is a clinical psychologist and lover of truth with a fire that burns brightly. She brings to this work years of experience with individuals and groups and is known for creating the safety and trust needed for this deeper exploration.
URL:https://gailbrenner.com/event/coming-home-together-timeless-now/
LOCATION:online
END:VEVENT
BEGIN:VEVENT
DTSTART;TZID=America/Los_Angeles:20221221T090000
DTEND;TZID=America/Los_Angeles:20221221T103000
DTSTAMP:20260424T032130
CREATED:20221209T042931Z
LAST-MODIFIED:20221209T190050Z
UID:10139-1671613200-1671618600@gailbrenner.com
SUMMARY:Coming Home Together Online Gathering—An Open Exploration of Attachment
DESCRIPTION:Coming Home Together Online Gathering: \nAn Open Exploration of Attachment \nWednesday\, December 21\, 9:00am – 10:30am Pacific\nNoon Eastern\, 5pm BST\non Zoom \nRecording will be available and sent to all who register. \nThe Coming Home Together online gathering offers a deep dive into the practicalities of awakened living. Your everyday human life will be the laboratory as we explore the myth of the separate self\, unexplored trauma patterns\, and everyday living of the deepest teachings of nondual reality. \nPlease register here. Once you register\, you will be directed to the zoom link—and you will receive it by email one hour prior to our meeting. A sliding scale is offered for those with financial challenges. \n\nChoose the amount you would like to pay.Option 1 $15.00 USDOption 2 $9.00 USDOption 3 $4.00 USD\n\n\nOur focus for this meeting is on feeling into the experience of attachment—and the freedom that’s possible. When we make our happiness dependent on people\, money\, success\, possessions\, circumstances\, or even life itself\, we suffer. And when we align with our natural state\, free of all resistances\, we’re fully available to life as it is\, flowing with what appears\, and infinitely at peace. \nAttachments are sticky. Our freedom goes out the window as we spend our energy trying to keep what we want and reject what we don’t want\, meanwhile resisting the truth of the moment. We’re trying to fulfill our desires\, as we live in fear of what we could lose. \nBeing attached is a normal part of the human experience along with grieving the loss of people and things we love. And\, if we want peace\, we’re asked to continually say “yes” to reality as it is. \nTogether we’ll open to the topic of attachment. We’ll explore the nature of attachment\, the ways you’re attached\, and the immediate\, here-and-now possibility of freedom.  \nHow does attachment serve? With guided meditation\, teachings\, and conversation\, we’ll practice creating safe space to investigate the tender places inside ourselves—and the living reality of our true nature beyond all attachments. Together\, we lovingly embrace our humanness as we expand beyond the known into overflowing appreciation and deep connection with all of Life. I look forward to being with you! \nQuestions? Please contact Gail here. \nDetails \nWednesday\, December 21\, 2022 9:00am – 10:30am Pacific \nStarts at noon Eastern\, 5pm BST\, 6pm CET \nRecording will be sent to everyone who registers. \nA sliding scale is offered for those with financial challenges.  \n\nChoose the amount you would like to pay.Option 1 $15.00 USDOption 2 $9.00 USDOption 3 $4.00 USD\n\n\nFriends are saying: \n\n“I am now experiencing longer moments of pure awareness and joy. No longer a slave to external circumstances and inner chatter. Loving life the way it is.” ~Susan R. \n“I liked the sense of trust\, profound acceptance\, safety\, unconditional love and support that Gail brought to us. The course made me realize the importance of being involved in a community of people dedicated to the most important thing to me\, Healing and Awakening. I just cannot do it alone!” ~Aline B. \n“Your work is a bridge between practical daily life and Supreme Reality.” ~Henrique N. \n“You radiate such warmth\, kindness\, beauty and wisdom. I had been stuck for so long and by listening to your sage advice\, am finally starting to see and feel the light. Your light helps us to shine our own.” ~Julie Desmarais \n  \n\n“At any moment\, within the field of your own experience\, there is an inner sanctuary of presence and stillness. You access this space by shifting your attention away from the jumble of thoughts\, feelings\, stories\, fears\, and external input such as others’ opinions. You simply turn inward—beyond all mind movement—and be. \nIn no time at all\, you find the ground of being\, the light of living vibration that’s here in every moment. It’s timeless\, which means it’s eternally present\, and all-embracing as the unity of all. Don’t be afraid of this vast love. Fall into its arms…”\n~Gail \nGail Brenner\, Ph.D. is your guide on this journey. She is a clinical psychologist and lover of truth with a fire that burns brightly. She brings to this work years of experience with individuals and groups and is known for creating the safety and trust needed for this deeper exploration.
URL:https://gailbrenner.com/event/coming-home-together-attachment/
LOCATION:online
END:VEVENT
BEGIN:VEVENT
DTSTART;TZID=America/Los_Angeles:20221230T090000
DTEND;TZID=America/Los_Angeles:20221230T113000
DTSTAMP:20260424T032130
CREATED:20221211T202624Z
LAST-MODIFIED:20221211T202743Z
UID:10151-1672390800-1672399800@gailbrenner.com
SUMMARY:Two-Day Retreat: Fully Alive in the Timeless Now - Dec. 30&31
DESCRIPTION:Two-day Retreat:\nFully Alive in the Timeless Now \nFriday & Saturday\, December 30 & 31\, 9:00am – 11:30am Pacific\nStarts at noon Eastern\, 5pm BST\non Zoom \nRecordings will be sent to all who register. \nSponsored by Open Circle Center. Please click here to register. \nThe calendar might tell us that a new year is approaching\, but in truth\, there is only this moment\, now\, free and uncaused\, completely fresh and new\, emerging from and infused with love. In any moment\, we can turn away from our minds to recognize wonder\, delight\, mystery\, and inspiration. \nCome and join this two-day retreat as we explore the potential of living the freedom that we are in our everyday lives. \n• How do you discover this freedom?\n• What about the fear-based mind that wants to control life?\n• How can you show up as love in your relationships?\n• What about challenging emotions and the frustrations of daily life? \nYou are wholeheartedly welcome just as you are as we share intimate\, loving space in community. Together we’ll explore the practical reality of awakened living in your own direct experience. Our time together will include guided meditation\, words of ancient masters\, self-reflective exercises\, small group conversation\, and plenty of time for Q&A. \nWe will investigate the myth of the separate self\, the power of the thinking mind to divert us\, and the possibility of living the moments of your human life with awareness\, freedom\, acceptance\, and love. \nSponsored by Open Circle Center. Please click here to register. \nPlease feel free to contact Gail with any questions about the program at gail@gailbrenner.com.\nFor technical questions please reach out to web@opencirclecenter.org. \n\n“Thank you so much for your teachings and for all the compassion and love you transmit to me\, and so many others. Your teachings are a gift of grace and love.” ~Pat Brown \n“What you’re pointing to is so difficult to talk about in words\, but you describe it so brilliantly and give such practical\, actionable steps to follow that I truly\, deeply get it. I just cannot express to you how transformative your approach has been for me.” ~Sandra Joseph\, Broadway star and author of Unmasking What Matters \n\nGail Brenner\, Ph.D. is your guide on this journey. She is a clinical psychologist and lover of truth with a fire that burns brightly. She brings to this work years of experience with individuals and groups and is known for creating the sense of safety and trust needed for this deeper exploration. She is the author of The End of Self-Help and Suffering Is Optional.
URL:https://gailbrenner.com/event/two-day-retreat-fully-alive-in-the-timeless-now/
LOCATION:online
ORGANIZER;CN="Open Circle Center":MAILTO:web@opencirclecenter.org
END:VEVENT
END:VCALENDAR