BEGIN:VCALENDAR
VERSION:2.0
PRODID:-//Dr. Gail Brenner - ECPv6.15.20//NONSGML v1.0//EN
CALSCALE:GREGORIAN
METHOD:PUBLISH
X-WR-CALNAME:Dr. Gail Brenner
X-ORIGINAL-URL:https://gailbrenner.com
X-WR-CALDESC:Events for Dr. Gail Brenner
REFRESH-INTERVAL;VALUE=DURATION:PT1H
X-Robots-Tag:noindex
X-PUBLISHED-TTL:PT1H
BEGIN:VTIMEZONE
TZID:America/Los_Angeles
BEGIN:DAYLIGHT
TZOFFSETFROM:-0800
TZOFFSETTO:-0700
TZNAME:PDT
DTSTART:20220313T100000
END:DAYLIGHT
BEGIN:STANDARD
TZOFFSETFROM:-0700
TZOFFSETTO:-0800
TZNAME:PST
DTSTART:20221106T090000
END:STANDARD
BEGIN:DAYLIGHT
TZOFFSETFROM:-0800
TZOFFSETTO:-0700
TZNAME:PDT
DTSTART:20230312T100000
END:DAYLIGHT
BEGIN:STANDARD
TZOFFSETFROM:-0700
TZOFFSETTO:-0800
TZNAME:PST
DTSTART:20231105T090000
END:STANDARD
BEGIN:DAYLIGHT
TZOFFSETFROM:-0800
TZOFFSETTO:-0700
TZNAME:PDT
DTSTART:20240310T100000
END:DAYLIGHT
BEGIN:STANDARD
TZOFFSETFROM:-0700
TZOFFSETTO:-0800
TZNAME:PST
DTSTART:20241103T090000
END:STANDARD
END:VTIMEZONE
BEGIN:VEVENT
DTSTART;TZID=America/Los_Angeles:20230503T090000
DTEND;TZID=America/Los_Angeles:20230503T103000
DTSTAMP:20260423T193341
CREATED:20230427T004815Z
LAST-MODIFIED:20240107T190451Z
UID:10449-1683104400-1683109800@gailbrenner.com
SUMMARY:Coming Home Together Online Gathering—How Do You Show Up in Your Life?
DESCRIPTION:Coming Home Together Online Gathering:\nHow Do You Show Up in Your Life? \nWednesday\, May 3\, 9:00am – 10:30am Pacific\nNoon Eastern\, 5pm BST\, 6pm CET\non Zoom \nRecording will be available and sent to all who register. \nThe Coming Home Together online gathering offers a deep dive into the practicalities of awakened living. Your everyday human life will be the laboratory as we explore the myth of the separate self\, unexplored trauma patterns\, and everyday living of the deepest teachings of nondual reality. \nPlease register here. Once you register\, you will be directed to the zoom link—and you will receive it by email one hour prior to our meeting. A sliding scale is offered for those with financial challenges. \n\nChoose the amount you would like to pay.Option 1 $15.00 USDOption 2 $9.00 USDOption 3 $4.00 USD\n\n\nOur focus for this meeting is on  bringing awareness to our moment-to-moment experience in everyday life. How do you show up in these moments? \nWe’ll bring our attention to three qualities of awakened awareness—openness\, curiosity\, and humility—and explore how we can embody them in ordinary situations of our human lives.  \n This exploration is at the exciting intersection of the deepest knowing of the nature of reality and living it in the practicalities of our human experience.  \n The invitation is for a shift in consciousness from contracted\, controlling\, and fear-based ways of being to pure openness…relaxation…receptive to everything…deep listening and surrender… This is what supports healing in ourselves and ripples out to everyone around us.  \n We come together in the sacred space of loving community for this deep exploration\, including teachings\, conversation\, and Q&A. Bring all of you—your fears\, shame\, questions\, confusion—and joy. All is welcome unconditionally!  \n Together\, we lovingly embrace our humanness as we expand into overflowing appreciation\, and deep connection with all of Life.  \nQuestions? Please contact Gail here. \nDetails \nWednesday\, May 3\, 2023 9:00am – 10:30am Pacific \nStarts at noon Eastern\, 5pm BST\, 6pm CET \nRecording will be sent to everyone who registers. \nA sliding scale is offered for those with financial challenges.  \n\nChoose the amount you would like to pay.Option 1 $15.00 USDOption 2 $9.00 USDOption 3 $4.00 USD\n\n\nFriends are saying: \n\n“I am now experiencing longer moments of pure awareness and joy. No longer a slave to external circumstances and inner chatter. Loving life the way it is.” ~Susan R. \n“I liked the sense of trust\, profound acceptance\, safety\, unconditional love and support that Gail brought to us. The course made me realize the importance of being involved in a community of people dedicated to the most important thing to me\, Healing and Awakening. I just cannot do it alone!” ~Aline B. \n“Your work is a bridge between practical daily life and Supreme Reality.” ~Henrique N. \n“You radiate such warmth\, kindness\, beauty and wisdom. I had been stuck for so long and by listening to your sage advice\, am finally starting to see and feel the light. Your light helps us to shine our own.” ~Julie Desmarais \n  \n\n“At any moment\, within the field of your own experience\, there is an inner sanctuary of presence and stillness. You access this space by shifting your attention away from the jumble of thoughts\, feelings\, stories\, fears\, and external input such as others’ opinions. You simply turn inward—beyond all mind movement—and be. \nIn no time at all\, you find the ground of being\, the light of living vibration that’s here in every moment. It’s timeless\, which means it’s eternally present\, and all-embracing as the unity of all. Don’t be afraid of this vast love. Fall into its arms…”\n~Gail \nGail Brenner\, Ph.D. is your guide on this journey. She is a clinical psychologist and lover of truth with a fire that burns brightly. She brings to this work years of experience with individuals and groups and is known for creating the safety and trust needed for this deeper exploration.
URL:https://gailbrenner.com/event/coming-home-together-show-up/
LOCATION:online
END:VEVENT
BEGIN:VEVENT
DTSTART;TZID=America/Los_Angeles:20230510T090000
DTEND;TZID=America/Los_Angeles:20230510T103000
DTSTAMP:20260423T193341
CREATED:20230501T164805Z
LAST-MODIFIED:20230501T170941Z
UID:10468-1683709200-1683714600@gailbrenner.com
SUMMARY:Coming Home Together Online Gathering—Being Fully Ourselves in Our Relationships
DESCRIPTION:Coming Home Together Online Gathering:\nBeing Fully Ourselves in Our Relationships \nWednesday\, May 10\, 9:00am – 10:30am Pacific\nNoon Eastern\, 5pm BST\, 6pm CET\non Zoom \nRecording will be available and sent to all who register. \nThe Coming Home Together online gathering offers a deep dive into the practicalities of awakened living. Your everyday human life will be the laboratory as we explore the myth of the separate self\, unexplored trauma patterns\, and everyday living of the deepest teachings of nondual reality. \nPlease register here. Once you register\, you will be directed to the zoom link—and you will receive it by email one hour prior to our meeting. A sliding scale is offered for those with financial challenges. \n\nChoose the amount you would like to pay.Option 1 $15.00 USDOption 2 $9.00 USDOption 3 $4.00 USD\n\n\nOur focus for this meeting is on  how we can be fully ourselves in our relationships. Many of us struggle with finding healthy boundaries with others. We override our inner knowing as we put up with mistreatment\, can’t say no\, feel taken advantage of\, and don’t get our needs met. \nThe root of this confusion lies in experiences we had early on in life where we needed to leave ourselves in order to stay connected to those around us. We then lose the capacity to trust ourselves\, especially when our very survival is at stake. \n If this pattern lives in us unexplored\, we find ourselves challenged in our adult relationships. How do we stay rooted in ourselves when we’re in connection with others? How do we honor what is true and authentic in us—and still be kind\, loving\, and open? \n In the spirit of freedom\, we’ll fearlessly study how we end up feeling disempowered in our relationships. We’ll meet our frozenness and pain with love\, care\, and unconditional acceptance. And we’ll look beyond our programmed patterns to begin to trust the movements arising in us. Our focus is on our relationship to our own experience. \n Staying attuned inside\, we find openness\, clarity\, and the willingness to risk being ourselves fully. Untying the inner knots that lie at the core of our relationship struggles brings freshness\, ease\, and space for new and authentic ways of being. \nWith guided meditation\, teachings\, and conversation\, we’ll practice creating safe space to meet ourselves intimately. Together\, we lovingly embrace our humanness as we expand beyond the known into overflowing appreciation and deep connection with all of Life. I look forward to being with you! \nQuestions? Please contact Gail here. \nDetails \nWednesday\, May 10\, 2023 9:00am – 10:30am Pacific \nStarts at noon Eastern\, 5pm BST\, 6pm CET \nRecording will be sent to everyone who registers. \nA sliding scale is offered for those with financial challenges.  \n\nChoose the amount you would like to pay.Option 1 $15.00 USDOption 2 $9.00 USDOption 3 $4.00 USD\n\n\nFriends are saying: \n\n“I am now experiencing longer moments of pure awareness and joy. No longer a slave to external circumstances and inner chatter. Loving life the way it is.” ~Susan R. \n“I liked the sense of trust\, profound acceptance\, safety\, unconditional love and support that Gail brought to us. The course made me realize the importance of being involved in a community of people dedicated to the most important thing to me\, Healing and Awakening. I just cannot do it alone!” ~Aline B. \n“Your work is a bridge between practical daily life and Supreme Reality.” ~Henrique N. \n“You radiate such warmth\, kindness\, beauty and wisdom. I had been stuck for so long and by listening to your sage advice\, am finally starting to see and feel the light. Your light helps us to shine our own.” ~Julie Desmarais \n  \n\n“At any moment\, within the field of your own experience\, there is an inner sanctuary of presence and stillness. You access this space by shifting your attention away from the jumble of thoughts\, feelings\, stories\, fears\, and external input such as others’ opinions. You simply turn inward—beyond all mind movement—and be. \nIn no time at all\, you find the ground of being\, the light of living vibration that’s here in every moment. It’s timeless\, which means it’s eternally present\, and all-embracing as the unity of all. Don’t be afraid of this vast love. Fall into its arms…”\n~Gail \nGail Brenner\, Ph.D. is your guide on this journey. She is a clinical psychologist and lover of truth with a fire that burns brightly. She brings to this work years of experience with individuals and groups and is known for creating the safety and trust needed for this deeper exploration.
URL:https://gailbrenner.com/event/coming-home-together-fully-ourselves/
LOCATION:online
END:VEVENT
BEGIN:VEVENT
DTSTART;TZID=America/Los_Angeles:20230517T090000
DTEND;TZID=America/Los_Angeles:20230517T103000
DTSTAMP:20260423T193341
CREATED:20230504T172944Z
LAST-MODIFIED:20230504T172944Z
UID:10480-1684314000-1684319400@gailbrenner.com
SUMMARY:Coming Home Together Online Gathering—Freedom Beyond the Sense of the Separate Self
DESCRIPTION:Coming Home Together Online Gathering:\nFreedom Beyond the Sense of the Separate Self \nWednesday\, May 17\, 9:00am – 10:30am Pacific\nNoon Eastern\, 5pm BST\non Zoom \nRecording will be available and sent to all who register. \nThe Coming Home Together online gathering offers a deep dive into the practicalities of awakened living. Your everyday human life will be the laboratory as we explore the myth of the separate self\, unexplored trauma patterns\, and everyday living of the deepest teachings of nondual reality. \nPlease register here. Once you register\, you will be directed to the zoom link—and you will receive it by email one hour prior to our meeting. A sliding scale is offered for those with financial challenges. \n\nChoose the amount you would like to pay.Option 1 $15.00 USDOption 2 $9.00 USDOption 3 $4.00 USD\n\n\nOur focus for this meeting is on discovering how we make ourselves feel separate and limited. When we believe that we are defined by our stories and feelings\, we live according to these constricted views. We’re prone to thinking about ourselves a lot\, maintaining safety and protection\, and taking things personally.  \nThere is a strong sense of the inner self fueled by fear and lack and the outer world that feels unsafe. The belief in the separate self is at the root of our psychological struggles in life. \nIn our supportive field of loving connection\, we’ll explore the sense of separation so you can feel into exactly how it limits you. Then we’ll expand beyond separation into a way of being that is spacious\, free and unattached. Here is where you discover aliveness\, creativity\, inspiration\, and the joy of living. We’ll shed light on deep inner listening and surrender in the moments of daily life that lovingly replace the need for control. \nYou’ll practice staying grounded in your present moment experience\, and from here we explore the programmed patterns that make us believe in the sense of separation. \nWe realize that we can’t go it alone. Our disconnection from our divine nature happened in the context of relationship so we need to practice together—in a supportive and loving community—to find our way home. Come with your fears\, doubts\, shame\, and questions—and simply to share sacred space together in community with like-minded friends. \nWith guided meditation\, teachings\, and conversation\, we’ll practice creating safe space for this deep exploration. Together\, we lovingly embrace our humanness as we expand beyond the known into overflowing appreciation and deep connection with all of Life. I look forward to being with you! \nQuestions? Please contact Gail here. \nDetails \nWednesday\, May 17\, 2022 9:00am – 10:30am Pacific \nStarts at noon Eastern\, 5pm BST\, 6pm CET \nRecording will be sent to everyone who registers. \nA sliding scale is offered for those with financial challenges.  \n\nChoose the amount you would like to pay.Option 1 $15.00 USDOption 2 $9.00 USDOption 3 $4.00 USD\n\n\nFriends are saying: \n\n“I am now experiencing longer moments of pure awareness and joy. No longer a slave to external circumstances and inner chatter. Loving life the way it is.” ~Susan R. \n“I liked the sense of trust\, profound acceptance\, safety\, unconditional love and support that Gail brought to us. The course made me realize the importance of being involved in a community of people dedicated to the most important thing to me\, Healing and Awakening. I just cannot do it alone!” ~Aline B. \n“Your work is a bridge between practical daily life and Supreme Reality.” ~Henrique N. \n“You radiate such warmth\, kindness\, beauty and wisdom. I had been stuck for so long and by listening to your sage advice\, am finally starting to see and feel the light. Your light helps us to shine our own.” ~Julie Desmarais \n  \n\n“At any moment\, within the field of your own experience\, there is an inner sanctuary of presence and stillness. You access this space by shifting your attention away from the jumble of thoughts\, feelings\, stories\, fears\, and external input such as others’ opinions. You simply turn inward—beyond all mind movement—and be. \nIn no time at all\, you find the ground of being\, the light of living vibration that’s here in every moment. It’s timeless\, which means it’s eternally present\, and all-embracing as the unity of all. Don’t be afraid of this vast love. Fall into its arms…”\n~Gail \nGail Brenner\, Ph.D. is your guide on this journey. She is a clinical psychologist and lover of truth with a fire that burns brightly. She brings to this work years of experience with individuals and groups and is known for creating the safety and trust needed for this deeper exploration.
URL:https://gailbrenner.com/event/coming-home-together-freedom/
LOCATION:online
END:VEVENT
BEGIN:VEVENT
DTSTART;TZID=America/Los_Angeles:20230524T090000
DTEND;TZID=America/Los_Angeles:20230524T103000
DTSTAMP:20260423T193341
CREATED:20230515T175746Z
LAST-MODIFIED:20230515T200504Z
UID:10507-1684918800-1684924200@gailbrenner.com
SUMMARY:Coming Home Together Online Gathering—Fear and Freedom from Fear
DESCRIPTION:Coming Home Together Online Gathering:\nFear and Freedom from Fear \nWednesday\, May 24\, 9:00am – 10:30am Pacific\nNoon Eastern\, 5pm BST\non Zoom \nRecording will be available and sent to all who register. \nThe Coming Home Together online gathering offers a deep dive into the practicalities of awakened living. Your everyday human life will be the laboratory as we explore the myth of the separate self\, unexplored trauma patterns\, and everyday living of the deepest teachings of nondual reality. \nOur focus for this meeting is on  fear and freedom from fear. Fear is an essential emotion to investigate on the path of awakening…because any remaining belief in the separate self is fueled by fear. If fear rules\, it will limit you in life\, and you’ll find that you’re living a fraction of what is possible for you. You’ll be contracted into thoughts filled with worry and negativity—and miss out on the realization of infinite peace and love. \nPlease register here. Once you register\, you will be directed to the zoom link—and you will receive it by email one hour prior to our meeting. A sliding scale is offered for those with financial challenges. \n\nChoose the amount you would like to pay.Option 1 $15.00 USDOption 2 $9.00 USDOption 3 $4.00 USD\n\n\nFear is a survival mechanism that is built into the human brain and nervous system. Yet\, the realization of our true nature invites us to turn away from its protective voice. In our gathering together\, we’ll explore how fear shows up in the body and the stories it tells us that limit our expression in life. We’ll investigate to see if the stories that fear tells us are actually true. And if not\, how do we live if we’re not guided by fear? Who are we in this boundless freedom? \nThrough guided meditation\, practical guidance\, and heartfelt conversation\, you’ll discover the potential—already in you—to be fully alive in your life\, free beyond the limits of fear. \nTogether\, we lovingly embrace our humanness as we expand into overflowing appreciation\, vibrant joy\, and deep connection with all of Life. \nQuestions? Please contact Gail here. \nDetails \nWednesday\, May 24\, 2023 9:00am – 10:30am Pacific \nStarts at noon Eastern\, 5pm BST\, 6pm CET \nRecording will be sent to everyone who registers. \nA sliding scale is offered for those with financial challenges.  \n\nChoose the amount you would like to pay.Option 1 $15.00 USDOption 2 $9.00 USDOption 3 $4.00 USD\n\n\nFriends are saying: \n\n“I am now experiencing longer moments of pure awareness and joy. No longer a slave to external circumstances and inner chatter. Loving life the way it is.” ~Susan R. \n“I liked the sense of trust\, profound acceptance\, safety\, unconditional love and support that Gail brought to us. The course made me realize the importance of being involved in a community of people dedicated to the most important thing to me\, Healing and Awakening. I just cannot do it alone!” ~Aline B. \n“Your work is a bridge between practical daily life and Supreme Reality.” ~Henrique N. \n“You radiate such warmth\, kindness\, beauty and wisdom. I had been stuck for so long and by listening to your sage advice\, am finally starting to see and feel the light. Your light helps us to shine our own.” ~Julie Desmarais \n\n“At any moment\, within the field of your own experience\, there is an inner sanctuary of presence and stillness. You access this space by shifting your attention away from the jumble of thoughts\, feelings\, stories\, fears\, and external input such as others’ opinions. You simply turn inward—beyond all mind movement—and be. \nIn no time at all\, you find the ground of being\, the light of living vibration that’s here in every moment. It’s timeless\, which means it’s eternally present\, and all-embracing as the unity of all. Don’t be afraid of this vast love. Fall into its arms…”\n~Gail \nGail Brenner\, Ph.D. is your guide on this journey. She is a clinical psychologist and lover of truth with a fire that burns brightly. She brings to this work years of experience with individuals and groups and is known for creating the safety and trust needed for this deeper exploration.
URL:https://gailbrenner.com/event/coming-home-together-freedom-fear/
LOCATION:online
END:VEVENT
BEGIN:VEVENT
DTSTART;TZID=America/Los_Angeles:20230531T090000
DTEND;TZID=America/Los_Angeles:20230531T103000
DTSTAMP:20260423T193341
CREATED:20230520T205755Z
LAST-MODIFIED:20230711T155108Z
UID:10519-1685523600-1685529000@gailbrenner.com
SUMMARY:Coming Home Together Online Gathering—Rest in Being; Not in Thinking
DESCRIPTION:Coming Home Together Online Gathering:\nRest in Being; Not in Thinking \nWednesday\, May 31\, 9:00am – 10:30am Pacific\nNoon Eastern\, 5pm BST\non Zoom \nRecording will be available and sent to all who register. \nNote: This will be our last Coming Home gathering until late in August. \nThe Coming Home Together online gathering offers a deep dive into the practicalities of awakened living. Your everyday human life will be the laboratory as we explore the myth of the separate self\, unexplored trauma patterns\, and everyday living of the deepest teachings of nondual reality. \nOur focus for this meeting is on  the relationship we have with our thinking minds. Do you look to your thoughts to determine your reality? Do you trust what your mind tells you about yourself and the world? Are you feeling stressed? Then your thoughts have more power than you might realize. \nPlease register here. Once you register\, you will be directed to the zoom link—and you will receive it by email one hour prior to our meeting. A sliding scale is offered for those with financial challenges. \n\nChoose the amount you would like to pay.Option 1 $15.00 USDOption 2 $9.00 USDOption 3 $4.00 USD\n\n\nWith few exceptions\, the thoughts that appear in our minds express the human fear-based needs to know and control. We spin in our heads with judgments\, self-criticisms\, comparisons\, and worries about the future\, trying to figure it all out. \nThese thoughts divide the world into right and wrong\, good and bad\, safe and unsafe. And meanwhile we long to let it all be so we can just rest in Being… \nIn our time together\, we gather in loving community to explore our relationship to thinking. What is our felt experience when we’re taken over by the mind? \nAnd if we let go of the habit of thinking\, what remains? Can we trust enough to rest in Being\, not in thinking… \nAll are welcome to join us for guided meditation\, teachings\, and conversation as we explore beyond the mind to realize the possibility of peace…right here…in the silent overflowing fullness of the infinite now… \nQuestions? Please contact Gail here. \nDetails \nWednesday\, May 31\, 2023 9:00am – 10:30am Pacific \nStarts at noon Eastern\, 5pm BST\, 6pm CET \nRecording will be sent to everyone who registers. \nA sliding scale is offered for those with financial challenges.  \n\nChoose the amount you would like to pay.Option 1 $15.00 USDOption 2 $9.00 USDOption 3 $4.00 USD\n\n\nFriends are saying: \n\n“I am now experiencing longer moments of pure awareness and joy. No longer a slave to external circumstances and inner chatter. Loving life the way it is.” ~Susan R. \n“I liked the sense of trust\, profound acceptance\, safety\, unconditional love and support that Gail brought to us. The course made me realize the importance of being involved in a community of people dedicated to the most important thing to me\, Healing and Awakening. I just cannot do it alone!” ~Aline B. \n“Your work is a bridge between practical daily life and Supreme Reality.” ~Henrique N. \n“You radiate such warmth\, kindness\, beauty and wisdom. I had been stuck for so long and by listening to your sage advice\, am finally starting to see and feel the light. Your light helps us to shine our own.” ~Julie Desmarais \n\n“At any moment\, within the field of your own experience\, there is an inner sanctuary of presence and stillness. You access this space by shifting your attention away from the jumble of thoughts\, feelings\, stories\, fears\, and external input such as others’ opinions. You simply turn inward—beyond all mind movement—and be. \nIn no time at all\, you find the ground of being\, the light of living vibration that’s here in every moment. It’s timeless\, which means it’s eternally present\, and all-embracing as the unity of all. Don’t be afraid of this vast love. Fall into its arms…”\n~Gail \nGail Brenner\, Ph.D. is your guide on this journey. She is a clinical psychologist and lover of truth with a fire that burns brightly. She brings to this work years of experience with individuals and groups and is known for creating the safety and trust needed for this deeper exploration.
URL:https://gailbrenner.com/event/coming-home-together-rest-in-being/
LOCATION:online
END:VEVENT
END:VCALENDAR