BEGIN:VCALENDAR
VERSION:2.0
PRODID:-//Dr. Gail Brenner - ECPv6.15.20//NONSGML v1.0//EN
CALSCALE:GREGORIAN
METHOD:PUBLISH
X-WR-CALNAME:Dr. Gail Brenner
X-ORIGINAL-URL:https://gailbrenner.com
X-WR-CALDESC:Events for Dr. Gail Brenner
REFRESH-INTERVAL;VALUE=DURATION:PT1H
X-Robots-Tag:noindex
X-PUBLISHED-TTL:PT1H
BEGIN:VTIMEZONE
TZID:America/Los_Angeles
BEGIN:DAYLIGHT
TZOFFSETFROM:-0800
TZOFFSETTO:-0700
TZNAME:PDT
DTSTART:20220313T100000
END:DAYLIGHT
BEGIN:STANDARD
TZOFFSETFROM:-0700
TZOFFSETTO:-0800
TZNAME:PST
DTSTART:20221106T090000
END:STANDARD
BEGIN:DAYLIGHT
TZOFFSETFROM:-0800
TZOFFSETTO:-0700
TZNAME:PDT
DTSTART:20230312T100000
END:DAYLIGHT
BEGIN:STANDARD
TZOFFSETFROM:-0700
TZOFFSETTO:-0800
TZNAME:PST
DTSTART:20231105T090000
END:STANDARD
BEGIN:DAYLIGHT
TZOFFSETFROM:-0800
TZOFFSETTO:-0700
TZNAME:PDT
DTSTART:20240310T100000
END:DAYLIGHT
BEGIN:STANDARD
TZOFFSETFROM:-0700
TZOFFSETTO:-0800
TZNAME:PST
DTSTART:20241103T090000
END:STANDARD
END:VTIMEZONE
BEGIN:VEVENT
DTSTART;TZID=America/Los_Angeles:20230906T090000
DTEND;TZID=America/Los_Angeles:20230906T103000
DTSTAMP:20260423T131426
CREATED:20230823T231310Z
LAST-MODIFIED:20230823T231310Z
UID:10699-1693990800-1693996200@gailbrenner.com
SUMMARY:Coming Home Together Online Gathering—Emotional Freedom
DESCRIPTION:Coming Home Together Online Gathering:\nEmotional Freedom \nWednesday\, September 6\, 9:00am – 10:30am Pacific\nNoon Eastern\, 5pm BST\, 6pm CET\non Zoom \nRecording will be available and sent to all who register. \nThe Coming Home Together online gathering offers a deep dive into the practicalities of awakened living. Your everyday human life will be the laboratory as we explore the myth of the separate self\, unexplored trauma patterns\, and everyday living of the deepest teachings of nondual reality. \nOur focus for this meeting is on bringing wise inquiry to emotions. In the timeless formless infinite field of pure being\, what we call emotions might appear\, but presence remains undisturbed.  \nPlease register here. Once you register\, you will be directed to the zoom link—and you will receive it by email one hour prior to our meeting. A sliding scale is offered for those with financial challenges. \n\nChoose the amount you would like to pay.Option 1 $15.00 USDOption 2 $9.00 USDOption 3 $4.00 USD\n \nYet\, we all feel emotions\, and they are a normal part of the experience of being human. If you feel stuck in limitation and confusion\, emotions are probably involved. Met with care and unconditional welcoming\, they are a gateway into realizing our true nature. \nCaught in our limiting desires to protect and control\, we’re pulled to avoid our emotions. We’re afraid of being overwhelmed by them\, and we feel we don’t have the skills needed to actually turn inward and be with them. This creates an inner war that breeds anxiety and discontent. \n\nIn our time together\, we’ll practice inquiring into emotions. With openness and courage\, we turn toward our emotions\, and get to know how they live in our minds\, bodies\, and actions. This is the path to discovering freedom\, no matter how many times our emotions overtake us. \n We value the power of safe and loving community for this exploration. Resisting emotions is isolating and reinforces shame. In our time together\, in the spirit of peace and freedom\, we’ll open up to our experience of emotions. Because if we continue to be entangled in their stories\, we will continue to suffer.  \n Through guided meditation\, practical guidance\, and heartfelt conversation\, we’ll take our stand as loving aware presence and learn how to practice welcoming emotions freely\, taking our hands off the wheel and allowing their full liberation.  \nYou are unconditionally welcome just as you are. Together\, we lovingly embrace our humanness as we expand into overflowing appreciation\, vibrant joy\, and deep connection with all of Life. \nQuestions? Please contact Gail here. \nDetails \nWednesday\, September 6\, 2023 9:00am – 10:30am Pacific \nStarts at noon Eastern\, 5pm BST\, 6pm CET \nRecording will be sent to everyone who registers. \nA sliding scale is offered for those with financial challenges.  \n\nChoose the amount you would like to pay.Option 1 $15.00 USDOption 2 $9.00 USDOption 3 $4.00 USD\n\n\nFriends are saying: \n\n“I am now experiencing longer moments of pure awareness and joy. No longer a slave to external circumstances and inner chatter. Loving life the way it is.” ~Susan R. \n“I liked the sense of trust\, profound acceptance\, safety\, unconditional love and support that Gail brought to us. The course made me realize the importance of being involved in a community of people dedicated to the most important thing to me\, Healing and Awakening. I just cannot do it alone!” ~Aline B. \n“Your work is a bridge between practical daily life and Supreme Reality.” ~Henrique N. \n“You radiate such warmth\, kindness\, beauty and wisdom. I had been stuck for so long and by listening to your sage advice\, am finally starting to see and feel the light. Your light helps us to shine our own.” ~Julie Desmarais \n\n“At any moment\, within the field of your own experience\, there is an inner sanctuary of presence and stillness. You access this space by shifting your attention away from the jumble of thoughts\, feelings\, stories\, fears\, and external input such as others’ opinions. You simply turn inward—beyond all mind movement—and be. \nIn no time at all\, you find the ground of being\, the light of living vibration that’s here in every moment. It’s timeless\, which means it’s eternally present\, and all-embracing as the unity of all. Don’t be afraid of this vast love. Fall into its arms…”\n~Gail \nGail Brenner\, Ph.D. is your guide on this journey. She is a clinical psychologist and lover of truth with a fire that burns brightly. She brings to this work years of experience with individuals and groups and is known for creating the safety and trust needed for this deeper exploration.
URL:https://gailbrenner.com/event/coming-home-together-emotional-freedom/
LOCATION:online
END:VEVENT
BEGIN:VEVENT
DTSTART;TZID=America/Los_Angeles:20230913T090000
DTEND;TZID=America/Los_Angeles:20230913T103000
DTSTAMP:20260423T131426
CREATED:20230905T172512Z
LAST-MODIFIED:20230905T172512Z
UID:10717-1694595600-1694601000@gailbrenner.com
SUMMARY:Coming Home Together Online Gathering—Awakening Into Intimate Connection in Our Relationships
DESCRIPTION:Coming Home Together Online Gathering:\nAwakening Into Intimate Connection in Our Relationships\n \nWednesday\, September 13\, 9:00am – 10:30am Pacific\nNoon Eastern\, 5pm BST\non Zoom \nRecording will be available and sent to all who register. \nThe Coming Home Together online gathering offers a deep dive into the practicalities of awakened living. Your everyday human life will be the laboratory as we explore the myth of the separate self\, unexplored trauma patterns\, and everyday living of the deepest teachings of nondual reality. \nOur focus for this meeting is on  working with our conditioned patterns in the sacred space of our relationships. \nPlease register here. Once you register\, you will be directed to the zoom link—and you will receive it by email one hour prior to our meeting. A sliding scale is offered for those with financial challenges. \n\nChoose the amount you would like to pay.Option 1 $15.00 USDOption 2 $9.00 USDOption 3 $4.00 USD\n\n\nIn our time together\, we’ll explore the patterns we bring to relationships that create a sense of separation—from ourselves\, others\, and all of life. We learn about relationships from our first connections with our caregivers early on in life. These are fear-based programmed ways of being that left us feeling unsafe\, rejected\, unseen\, or disconnected.  \nWe haven’t experienced the possibility of intimate relationship and don’t know how to bring this possibility into our interactions now.   \nPeople-pleasing\, withdrawal\, needing to be right\, holding grudges\, inflating or deflating ourselves in comparison to others\, defensiveness… These are signs of unexamined contractions that are ripe for liberation. \nUntying the knots that lie at the core of our relationship struggles brings openness\, ease\, and space for new and authentic ways of being. We learn the most important practical skill\, which is to meet the tender places in ourselves with deep acceptance and love. This is what helps us navigate challenging interactions. Then we have the space to open with compassion to the struggles others might be experiencing as well. \nThe intimate connection we all long for unfolds when energy flows freely…and offers a portal into the deepest knowing of infinite oneness beyond our personal identities. \nWith guided meditation\, teachings\, and conversation\, we’ll practice creating safe space for deepening connection. Together\, we lovingly embrace our humanness as we expand beyond the known into overflowing appreciation and deep connection with all of Life. I look forward to being with you! \nQuestions? Please contact Gail here. \nDetails \nWednesday\, September 13\, 2023 9:00am – 10:30am Pacific \nStarts at noon Eastern\, 5pm BST\, 6pm CET \nRecording will be sent to everyone who registers. \nA sliding scale is offered for those with financial challenges.  \n\nChoose the amount you would like to pay.Option 1 $15.00 USDOption 2 $9.00 USDOption 3 $4.00 USD\n\n\nFriends are saying: \n\n“I am now experiencing longer moments of pure awareness and joy. No longer a slave to external circumstances and inner chatter. Loving life the way it is.” ~Susan R. \n“I liked the sense of trust\, profound acceptance\, safety\, unconditional love and support that Gail brought to us. The course made me realize the importance of being involved in a community of people dedicated to the most important thing to me\, Healing and Awakening. I just cannot do it alone!” ~Aline B. \n“Your work is a bridge between practical daily life and Supreme Reality.” ~Henrique N. \n“You radiate such warmth\, kindness\, beauty and wisdom. I had been stuck for so long and by listening to your sage advice\, am finally starting to see and feel the light. Your light helps us to shine our own.” ~Julie Desmarais \n  \n\n“At any moment\, within the field of your own experience\, there is an inner sanctuary of presence and stillness. You access this space by shifting your attention away from the jumble of thoughts\, feelings\, stories\, fears\, and external input such as others’ opinions. You simply turn inward—beyond all mind movement—and be. \nIn no time at all\, you find the ground of being\, the light of living vibration that’s here in every moment. It’s timeless\, which means it’s eternally present\, and all-embracing as the unity of all. Don’t be afraid of this vast love. Fall into its arms…”\n~Gail \nGail Brenner\, Ph.D. is your guide on this journey. She is a clinical psychologist and lover of truth with a fire that burns brightly. She brings to this work years of experience with individuals and groups and is known for creating the safety and trust needed for this deeper exploration.
URL:https://gailbrenner.com/event/coming-home-together-intimate-connection/
LOCATION:online
END:VEVENT
BEGIN:VEVENT
DTSTART;TZID=America/Los_Angeles:20230927T090000
DTEND;TZID=America/Los_Angeles:20230927T103000
DTSTAMP:20260423T131426
CREATED:20230911T202253Z
LAST-MODIFIED:20230911T202421Z
UID:10730-1695805200-1695810600@gailbrenner.com
SUMMARY:Coming Home Together Online Gathering—Stop\, Surrender\, and Listen
DESCRIPTION:Coming Home Together Online Gathering:\nStop\, Surrender\, and Listen \nWednesday\, September 27\, 9:00am – 10:30am Pacific\nNoon Eastern\, 5pm BST\non Zoom \nRecording will be available and sent to all who register. \nThe Coming Home Together online gathering offers a deep dive into the practicalities of awakened living. Your everyday human life will be the laboratory as we explore the myth of the separate self\, unexplored trauma patterns\, and everyday living of the deepest teachings of nondual reality. \nOur focus for this meeting is on deep inner listening. If we’re driven by unexplored fear\, we look to the mind for guidance about how to live. That’s how we get caught in endlessly trying to make decisions\, figure things out\, and fix what we think is broken. It’s a stressful way to live and fruitless as a path to the peace we long for. \nPlease register here. Once you register\, you will be directed to the zoom link—and you will receive it by email one hour prior to our meeting. A sliding scale is offered for those with financial challenges. \nChoose the amount you would like to pay. \nOption 1 $15.00 USDOption 2 $9.00 USDOption 3 $4.00 USD\n \nBut there’s another completely different way to be\, which is to stop\, relax\, open\, and get curious. Then we’re poised for deep listening to what wants to be shown to us. We take the position of alignment with life’s intelligence beyond the personal self\, not knowing anything\, and available to what appears. \n\nThen we listen\, not from fear\, but with every cell in our bodies\, with our hearts wide open\, completely receptive\, and alive in the deepest place in us that trusts life’s unfolding. \nTogether\, we’ll explore the practice of deep inner listening. When you let fear-based tendencies be\, what does life have in store for you? What is on the horizon itching to be expressed through you? And what is in the way of aligning with these truths? \nWe find that there is no such thing as making a decision. Rather\, we stop moving away from ourselves and surrender into the infinite depths of Now as things unfold naturally…guiding us into the small actions of everyday life moment to moment and into what feels like the larger shifts into our full aliveness. \nThrough guided meditation\, practical guidance\, and heartfelt conversation\, we’ll explore the possibility of letting go into the river of life as it’s flowing right now…and the fears and resistances that may arise. \nWe lovingly embrace our humanness as we expand into overflowing appreciation\, vibrant joy\, and deep connection with all of Life. \nQuestions? Please contact Gail here. \nDetails \nWednesday\, September 27\, 2022 9:00am – 10:30am Pacific \nStarts at noon Eastern\, 5pm BST\, 6pm CET \nRecording will be sent to everyone who registers. \nA sliding scale is offered for those with financial challenges.  \n\nChoose the amount you would like to pay.Option 1 $15.00 USDOption 2 $9.00 USDOption 3 $4.00 USD\n\n\nFriends are saying: \n\n“I am now experiencing longer moments of pure awareness and joy. No longer a slave to external circumstances and inner chatter. Loving life the way it is.” ~Susan R. \n“I liked the sense of trust\, profound acceptance\, safety\, unconditional love and support that Gail brought to us. The course made me realize the importance of being involved in a community of people dedicated to the most important thing to me\, Healing and Awakening. I just cannot do it alone!” ~Aline B. \n“Your work is a bridge between practical daily life and Supreme Reality.” ~Henrique N. \n“You radiate such warmth\, kindness\, beauty and wisdom. I had been stuck for so long and by listening to your sage advice\, am finally starting to see and feel the light. Your light helps us to shine our own.” ~Julie Desmarais \n\n“At any moment\, within the field of your own experience\, there is an inner sanctuary of presence and stillness. You access this space by shifting your attention away from the jumble of thoughts\, feelings\, stories\, fears\, and external input such as others’ opinions. You simply turn inward—beyond all mind movement—and be. \nIn no time at all\, you find the ground of being\, the light of living vibration that’s here in every moment. It’s timeless\, which means it’s eternally present\, and all-embracing as the unity of all. Don’t be afraid of this vast love. Fall into its arms…”\n~Gail \nGail Brenner\, Ph.D. is your guide on this journey. She is a clinical psychologist and lover of truth with a fire that burns brightly. She brings to this work years of experience with individuals and groups and is known for creating the safety and trust needed for this deeper exploration.
URL:https://gailbrenner.com/event/coming-home-together-surrender-listen/
LOCATION:online
END:VEVENT
END:VCALENDAR