BEGIN:VCALENDAR
VERSION:2.0
PRODID:-//Dr. Gail Brenner - ECPv6.15.20//NONSGML v1.0//EN
CALSCALE:GREGORIAN
METHOD:PUBLISH
X-WR-CALNAME:Dr. Gail Brenner
X-ORIGINAL-URL:https://gailbrenner.com
X-WR-CALDESC:Events for Dr. Gail Brenner
REFRESH-INTERVAL;VALUE=DURATION:PT1H
X-Robots-Tag:noindex
X-PUBLISHED-TTL:PT1H
BEGIN:VTIMEZONE
TZID:America/Los_Angeles
BEGIN:DAYLIGHT
TZOFFSETFROM:-0800
TZOFFSETTO:-0700
TZNAME:PDT
DTSTART:20220313T100000
END:DAYLIGHT
BEGIN:STANDARD
TZOFFSETFROM:-0700
TZOFFSETTO:-0800
TZNAME:PST
DTSTART:20221106T090000
END:STANDARD
BEGIN:DAYLIGHT
TZOFFSETFROM:-0800
TZOFFSETTO:-0700
TZNAME:PDT
DTSTART:20230312T100000
END:DAYLIGHT
BEGIN:STANDARD
TZOFFSETFROM:-0700
TZOFFSETTO:-0800
TZNAME:PST
DTSTART:20231105T090000
END:STANDARD
BEGIN:DAYLIGHT
TZOFFSETFROM:-0800
TZOFFSETTO:-0700
TZNAME:PDT
DTSTART:20240310T100000
END:DAYLIGHT
BEGIN:STANDARD
TZOFFSETFROM:-0700
TZOFFSETTO:-0800
TZNAME:PST
DTSTART:20241103T090000
END:STANDARD
END:VTIMEZONE
BEGIN:VEVENT
DTSTART;TZID=America/Los_Angeles:20231206T090000
DTEND;TZID=America/Los_Angeles:20231206T103000
DTSTAMP:20260423T075831
CREATED:20231121T164917Z
LAST-MODIFIED:20231121T164917Z
UID:10875-1701853200-1701858600@gailbrenner.com
SUMMARY:Coming Home Together Online Gathering—Unhooking Emotions from Personal Suffering
DESCRIPTION:Coming Home Together Online Gathering:\nUnhooking Emotions from Personal Suffering \nWednesday\, December 6\, 9:00am – 10:30am Pacific\nNoon Eastern\, 5pm BST\non Zoom \nRecording will be available and sent to all who register. \nThe Coming Home Together online gathering offers a deep dive into the practicalities of awakened living. Your everyday human life is the laboratory as we open to the myth of the separate self\, unexplored trauma patterns\, and the right now experience of nondual reality. \nOur focus for this meeting is on unhooking emotions from our personal suffering. In the timeless formless infinite field of pure being\, emotions aren’t even a dot on the landscape. Yet\, we all feel emotions\, and they are a normal part of the experience of being human. If you feel stuck in limitation and confusion\, emotions are probably involved. Met with care and love\, they are a gateway into realizing our true nature.  \nPlease register here. Once you register\, you will be directed to the zoom link—and you will receive it by email one hour prior to our meeting. A sliding scale is offered for those with financial challenges. \n\nChoose the amount you would like to pay.Option 1 $15.00 USDOption 2 $9.00 USDOption 3 $4.00 USD\n\n\n Caught in our limiting desires to protect and control\, we’re pulled to avoid our emotions. We’re afraid of being overwhelmed by them\, and we feel we don’t have the skills needed to actually turn inward and be with them. This creates an inner war that breeds anxiety and discontent.\n \n We need the power of safe and loving community when it comes to our emotions. Resisting emotions is isolating and reinforces shame. In our time together\, in the spirit of peace and freedom\, we’ll open up to our experience of emotions. Because if we continue to be entangled in their stories\, we will continue to suffer.  \n Through guided meditation\, practical guidance\, and heartfelt conversation\, we’ll explore emotions to understand how they live in our minds and bodies. We’ll take our stand as loving aware presence and learn how to practice welcoming them freely\, taking our hands off the wheel and allowing their full liberation.  \nYou are unconditionally welcome just as you are. Together\, we lovingly embrace our humanness as we expand into overflowing appreciation\, vibrant joy\, and deep connection with all of Life. \nQuestions? Please contact Gail here. \nDetails \nWednesday\, December 6\, 2023 9:00am – 10:30am Pacific \nStarts at noon Eastern\, 5pm BST\, 6pm CET \nRecording will be sent to everyone who registers. \nA sliding scale is offered for those with financial challenges.  \n\nChoose the amount you would like to pay.Option 1 $15.00 USDOption 2 $9.00 USDOption 3 $4.00 USD\n\n\nFriends are saying: \n\n“I am now experiencing longer moments of pure awareness and joy. No longer a slave to external circumstances and inner chatter. Loving life the way it is.” ~Susan R. \n“I liked the sense of trust\, profound acceptance\, safety\, unconditional love and support that Gail brought to us. The course made me realize the importance of being involved in a community of people dedicated to the most important thing to me\, Healing and Awakening. I just cannot do it alone!” ~Aline B. \n“Your work is a bridge between practical daily life and Supreme Reality.” ~Henrique N. \n“You radiate such warmth\, kindness\, beauty and wisdom. I had been stuck for so long and by listening to your sage advice\, am finally starting to see and feel the light. Your light helps us to shine our own.” ~Julie Desmarais \n\n“At any moment\, within the field of your own experience\, there is an inner sanctuary of presence and stillness. You access this space by shifting your attention away from the jumble of thoughts\, feelings\, stories\, fears\, and external input such as others’ opinions. You simply turn inward—beyond all mind movement—and be. \nIn no time at all\, you find the ground of being\, the light of living vibration that’s here in every moment. It’s timeless\, which means it’s eternally present\, and all-embracing as the unity of all. Don’t be afraid of this vast love. Fall into its arms…”\n~Gail \nGail Brenner\, Ph.D. is your guide on this journey. She is a clinical psychologist and lover of truth with a fire that burns brightly. She brings to this work years of experience with individuals and groups and is known for creating the safety and trust needed for this deeper exploration.
URL:https://gailbrenner.com/event/coming-home-together-unhooking-emotions/
LOCATION:online
END:VEVENT
BEGIN:VEVENT
DTSTART;TZID=America/Los_Angeles:20231213T090000
DTEND;TZID=America/Los_Angeles:20231213T103000
DTSTAMP:20260423T075831
CREATED:20231205T161604Z
LAST-MODIFIED:20231205T161604Z
UID:10886-1702458000-1702463400@gailbrenner.com
SUMMARY:Coming Home Together Online Gathering—The Open Secret Revealed
DESCRIPTION:Coming Home Together Online Gathering:\nThe Open Secret Revealed \nWednesday\, December 13\, 9:00am – 10:30am Pacific\nNoon Eastern\, 5pm BST\non Zoom \nRecording will be available and sent to all who register. \nThe Coming Home Together online gathering offers a deep dive into the practicalities of awakened living. Your everyday human life is the laboratory as we open to the myth of the separate self\, unexplored trauma patterns\, and the right now experience of nondual reality. \nOur focus for this meeting is on the open secret to peace and happiness. We all want to be happy\, right? And if we follow the common path to find happiness\, we look outside ourselves into the world of objects and situations.  \nWe think that if we find the right job\, relationship\, family\, or living situation\, we’ll hopefully\, finally be peaceful and happy.  \nPlease register here. Once you register\, you will be directed to the zoom link—and you will receive it by email one hour prior to our meeting. A sliding scale is offered for those with financial challenges. \n\nChoose the amount you would like to pay.Option 1 $15.00 USDOption 2 $9.00 USDOption 3 $4.00 USD\n\n\nThis “if only” way of living actually delays our happiness. The thinking is: if only things were different\, then I would feel good about myself and my life. It keeps us looking outside ourselves hoping that happiness arrives at some future time.  \nWhile we’re busy moving around the puzzle pieces of our lives\, we’re missing out on the open secret—the silence of being\, the stillness that’s always here at the heart of all the noise. It’s the open ever-present field of aliveness that the objects of the world arise in.   \nThrough guided meditation\, practical guidance\, and heartfelt conversation\, we’ll untangle the desire for happiness\, recognizing the outward looking conditioned tendency and turning inward\, prior to all objects\, toward the light of our true nature. \nCome with your fears\, doubts\, shame\, and questions—and simply to share sacred space in community with like-minded friends. Together\, we lovingly embrace our humanness as we expand into overflowing appreciation and deep connection with all of Life. I look forward to being with you! \nQuestions? Please contact Gail here. \nDetails \nWednesday\, December 13\, 2023 9:00am – 10:30am Pacific \nStarts at noon Eastern\, 5pm BST\, 6pm CET \nRecording will be sent to everyone who registers. \nA sliding scale is offered for those with financial challenges.  \n\nChoose the amount you would like to pay.Option 1 $15.00 USDOption 2 $9.00 USDOption 3 $4.00 USD\n\n\nFriends are saying: \n\n“I am now experiencing longer moments of pure awareness and joy. No longer a slave to external circumstances and inner chatter. Loving life the way it is.” ~Susan R. \n“I liked the sense of trust\, profound acceptance\, safety\, unconditional love and support that Gail brought to us. The course made me realize the importance of being involved in a community of people dedicated to the most important thing to me\, Healing and Awakening. I just cannot do it alone!” ~Aline B. \n“Your work is a bridge between practical daily life and Supreme Reality.” ~Henrique N. \n“You radiate such warmth\, kindness\, beauty and wisdom. I had been stuck for so long and by listening to your sage advice\, am finally starting to see and feel the light. Your light helps us to shine our own.” ~Julie Desmarais \n\n“At any moment\, within the field of your own experience\, there is an inner sanctuary of presence and stillness. You access this space by shifting your attention away from the jumble of thoughts\, feelings\, stories\, fears\, and external input such as others’ opinions. You simply turn inward—beyond all mind movement—and be. \nIn no time at all\, you find the ground of being\, the light of living vibration that’s here in every moment. It’s timeless\, which means it’s eternally present\, and all-embracing as the unity of all. Don’t be afraid of this vast love. Fall into its arms…”\n~Gail \nGail Brenner\, Ph.D. is your guide on this journey. She is a clinical psychologist and lover of truth with a fire that burns brightly. She brings to this work years of experience with individuals and groups and is known for creating the safety and trust needed for this deeper exploration.
URL:https://gailbrenner.com/event/coming-home-together-open-secret/
LOCATION:online
END:VEVENT
BEGIN:VEVENT
DTSTART;TZID=America/Los_Angeles:20231219T090000
DTEND;TZID=America/Los_Angeles:20231219T103000
DTSTAMP:20260423T075831
CREATED:20231212T184209Z
LAST-MODIFIED:20231214T214145Z
UID:10895-1702976400-1702981800@gailbrenner.com
SUMMARY:Coming Home Together Online Gathering—Opening Endlessly Beyond Our Points of View
DESCRIPTION:Coming Home Together Online Gathering:\nOpening Endlessly Beyond Our Points of View \nTuesday\, December 19\, 9:00am – 10:30am Pacific\nNoon Eastern\, 5pm BST\non Zoom \nPlease note our gathering is on Tuesday \nRecording will be available and sent to all who register. \nThe Coming Home Together online gathering offers a deep dive into the practicalities of awakened living. Your everyday human life is the laboratory as we open to the myth of the separate self\, unexplored trauma patterns\, and the right now experience of nondual reality. \nOur focus for this meeting is on opening endlessly beyond our points of view. It’s the nature of our thinking minds to organize our experience of the world by contracting into opinions. We think we’re right and others are wrong and struggle when people and situations fail to match our views of what should be happening. For many of us\, this is normal life.  \nPlease register here. Once you register\, you will be directed to the zoom link—and you will receive it by email one hour prior to our meeting. A sliding scale is offered for those with financial challenges. \n\nChoose the amount you would like to pay.Option 1 $15.00 USDOption 2 $9.00 USDOption 3 $4.00 USD\n\n\nWe ignore reality…overflowing with infinite possibilities…fully open and available to everything…and instead attach to specific views and outcomes. What is the effect? Disappointment\, frustration\, and disconnection from ourselves and others. \nIn our time together\, we’ll acknowledge the movements of our minds and examine the fear- and need-based origins of our viewpoints. Rather than taking them for granted\, we’ll question their validity and feel into how they affect us—and our relationships. \nThen we’ll explore the possibility of freedom from these mind movements by staying aligned with the natural unfolding of life. We’ll embrace curiosity\, wonder\, and deep acceptance of what is. What would it be like to live in this freedom? \nWe come together in the sacred space of loving community for this deep exploration\, including teachings\, guided meditation\, and Q&A. Bring all of you—your fears\, shame\, questions\, and confusion. All is welcome unconditionally! \nQuestions? Please contact Gail here. \nDetails \nWednesday\, December 19\, 2023 9:00am – 10:30am Pacific \nStarts at noon Eastern\, 5pm BST\, 6pm CET \nRecording will be sent to everyone who registers. \nA sliding scale is offered for those with financial challenges.  \n\nChoose the amount you would like to pay.Option 1 $15.00 USDOption 2 $9.00 USDOption 3 $4.00 USD\n\n\nFriends are saying: \n\n“I am now experiencing longer moments of pure awareness and joy. No longer a slave to external circumstances and inner chatter. Loving life the way it is.” ~Susan R. \n“I liked the sense of trust\, profound acceptance\, safety\, unconditional love and support that Gail brought to us. The course made me realize the importance of being involved in a community of people dedicated to the most important thing to me\, Healing and Awakening. I just cannot do it alone!” ~Aline B. \n“Your work is a bridge between practical daily life and Supreme Reality.” ~Henrique N. \n“You radiate such warmth\, kindness\, beauty and wisdom. I had been stuck for so long and by listening to your sage advice\, am finally starting to see and feel the light. Your light helps us to shine our own.” ~Julie Desmarais \n\n“At any moment\, within the field of your own experience\, there is an inner sanctuary of presence and stillness. You access this space by shifting your attention away from the jumble of thoughts\, feelings\, stories\, fears\, and external input such as others’ opinions. You simply turn inward—beyond all mind movement—and be. \nIn no time at all\, you find the ground of being\, the light of living vibration that’s here in every moment. It’s timeless\, which means it’s eternally present\, and all-embracing as the unity of all. Don’t be afraid of this vast love. Fall into its arms…”\n~Gail \nGail Brenner\, Ph.D. is your guide on this journey. She is a clinical psychologist and lover of truth with a fire that burns brightly. She brings to this work years of experience with individuals and groups and is known for creating the safety and trust needed for this deeper exploration.
URL:https://gailbrenner.com/event/coming-home-together-points-of-view/
LOCATION:online
END:VEVENT
END:VCALENDAR