BEGIN:VCALENDAR
VERSION:2.0
PRODID:-//Dr. Gail Brenner - ECPv6.15.20//NONSGML v1.0//EN
CALSCALE:GREGORIAN
METHOD:PUBLISH
X-WR-CALNAME:Dr. Gail Brenner
X-ORIGINAL-URL:https://gailbrenner.com
X-WR-CALDESC:Events for Dr. Gail Brenner
REFRESH-INTERVAL;VALUE=DURATION:PT1H
X-Robots-Tag:noindex
X-PUBLISHED-TTL:PT1H
BEGIN:VTIMEZONE
TZID:America/Los_Angeles
BEGIN:DAYLIGHT
TZOFFSETFROM:-0800
TZOFFSETTO:-0700
TZNAME:PDT
DTSTART:20230312T100000
END:DAYLIGHT
BEGIN:STANDARD
TZOFFSETFROM:-0700
TZOFFSETTO:-0800
TZNAME:PST
DTSTART:20231105T090000
END:STANDARD
BEGIN:DAYLIGHT
TZOFFSETFROM:-0800
TZOFFSETTO:-0700
TZNAME:PDT
DTSTART:20240310T100000
END:DAYLIGHT
BEGIN:STANDARD
TZOFFSETFROM:-0700
TZOFFSETTO:-0800
TZNAME:PST
DTSTART:20241103T090000
END:STANDARD
BEGIN:DAYLIGHT
TZOFFSETFROM:-0800
TZOFFSETTO:-0700
TZNAME:PDT
DTSTART:20250309T100000
END:DAYLIGHT
BEGIN:STANDARD
TZOFFSETFROM:-0700
TZOFFSETTO:-0800
TZNAME:PST
DTSTART:20251102T090000
END:STANDARD
END:VTIMEZONE
BEGIN:VEVENT
DTSTART;TZID=America/Los_Angeles:20240103T090000
DTEND;TZID=America/Los_Angeles:20240103T103000
DTSTAMP:20260423T060153
CREATED:20231219T222359Z
LAST-MODIFIED:20231219T222359Z
UID:10915-1704272400-1704277800@gailbrenner.com
SUMMARY:Coming Home Together Online Gathering—Bringing Wise Inquiry to Early Trauma Patterns
DESCRIPTION:Coming Home Together Online Gathering:\nBringing Wise Inquiry to Early Trauma Patterns \nWednesday\, January 3\, 9:00am – 10:30am Pacific\nNoon Eastern\, 5pm BST\, 6pm CET\non Zoom \nRecording will be available and sent to all who register. \nThe Coming Home Together online gathering offers a deep dive into the practicalities of awakened living. Your everyday human life will be the laboratory as we explore the myth of the separate self\, unexplored trauma patterns\, and everyday living of the right now experience of nondual reality. \nPlease register here. Once you register\, you will be directed to the zoom link—and you will receive it by email one hour prior to our meeting. A sliding scale is offered for those with financial challenges. \n\nChoose the amount you would like to pay.Option 1 $15.00 USDOption 2 $9.00 USDOption 3 $4.00 USD\n\n\nOur focus for this meeting is on  giving our compassionate attention to how disruption in our early relationships affects us.  \nIf we felt unsafe\, rejected\, unseen\, or disconnected early in our lives\, we develop an identity that we are not good enough or broken beyond repair. And we grow up trying to figure out how to cope with the sense that something is missing. Some of the ways we do that are overachieving\, perfectionism\, people pleasing\, self-judgment\, or hiding from life. \nTogether\, we create a field of safe space to explore these tender parts of ourselves. We’ll learn how to turn toward our experience with acceptance\, compassion\, and care. And we’ll discover the space to realize there is so much more to life than our patterns! \nOur time together includes guided meditation\, teachings\, practical tools\, and heartfelt conversation. We turn our attention inward to find our way through the mind-made limits and the stories that create personal suffering. And discover practical ways to return home to the ground of being…to freedom and liberation… \nFinally\, we realize that we can’t go it alone. Our disconnection from our divine nature happened in the context of relationship so we need to practice together—in a supportive and loving community—to find our way home. Come with your fears\, doubts\, shame\, and questions—and simply to share sacred space together in community with like-minded friends. \nTogether\, we lovingly embrace our humanness as we expand into overflowing appreciation\, vibrant joy\, and deep connection with all of Life. \nQuestions? Please contact Gail here. \nDetails \nWednesday\, January 3\, 2024 9:00am – 10:30am Pacific \nStarts at noon Eastern\, 5pm BST\, 6pm CET \nRecording will be sent to everyone who registers. \nA sliding scale is offered for those with financial challenges.  \n\nChoose the amount you would like to pay.Option 1 $15.00 USDOption 2 $9.00 USDOption 3 $4.00 USD\n\n\nFriends are saying: \n\n“I am now experiencing longer moments of pure awareness and joy. No longer a slave to external circumstances and inner chatter. Loving life the way it is.” ~Susan R. \n“I liked the sense of trust\, profound acceptance\, safety\, unconditional love and support that Gail brought to us. The course made me realize the importance of being involved in a community of people dedicated to the most important thing to me\, Healing and Awakening. I just cannot do it alone!” ~Aline B. \n“Your work is a bridge between practical daily life and Supreme Reality.” ~Henrique N. \n“You radiate such warmth\, kindness\, beauty and wisdom. I had been stuck for so long and by listening to your sage advice\, am finally starting to see and feel the light. Your light helps us to shine our own.” ~Julie Desmarais \n  \n\n“At any moment\, within the field of your own experience\, there is an inner sanctuary of presence and stillness. You access this space by shifting your attention away from the jumble of thoughts\, feelings\, stories\, fears\, and external input such as others’ opinions. You simply turn inward—beyond all mind movement—and be. \nIn no time at all\, you find the ground of being\, the light of living vibration that’s here in every moment. It’s timeless\, which means it’s eternally present\, and all-embracing as the unity of all. Don’t be afraid of this vast love. Fall into its arms…”\n~Gail \nGail Brenner\, Ph.D. is your guide on this journey. She is a clinical psychologist and lover of truth with a fire that burns brightly. She brings to this work years of experience with individuals and groups and is known for creating the safety and trust needed for this deeper exploration.
URL:https://gailbrenner.com/event/coming-home-together-early-trauma/
LOCATION:online
END:VEVENT
BEGIN:VEVENT
DTSTART;TZID=America/Los_Angeles:20240110T090000
DTEND;TZID=America/Los_Angeles:20240110T103000
DTSTAMP:20260423T060153
CREATED:20240102T213754Z
LAST-MODIFIED:20240415T164834Z
UID:10922-1704877200-1704882600@gailbrenner.com
SUMMARY:Coming Home Together Online Gathering—The Body as a Gateway for Healing and Awakening
DESCRIPTION:Coming Home Together Online Gathering:\nThe Body as a Gateway for Healing and Awakening \nWednesday\, January 10\, 9:00am – 10:30am Pacific\nNoon Eastern\, 5pm BST\non Zoom \nRecording will be available and sent to all who register. \nThe Coming Home Together online gathering offers a deep dive into the practicalities of awakened living. Your everyday human life will be the laboratory as we explore the myth of the separate self\, unexplored trauma patterns\, and everyday living of the deepest teachings of nondual reality. \nOur focus for this meeting is on the body as a gateway for healing and awakening. What is your relationship to your body? Your body image? The physical sensations and energies that arise? \nThere is much to be explored when we bring our attention to the physical realm of our experience. We find the root of emotions\, the residue of old habits and traumas…and the possibility for the free flow of the vibration of life as it appears through the body. \nPlease register here. Once you register\, you will be directed to the zoom link—and you will receive it by email one hour prior to our meeting. A sliding scale is offered for those with financial challenges. \n\nChoose the amount you would like to pay.Option 1 $15.00 USDOption 2 $9.00 USDOption 3 $4.00 USD\n\n\nMany of us live in our heads—without much awareness of our physicality. And when we open to experiences occurring in our bodies\, we find hidden contractions\, habitual ways of being\, and places that feel stuck or shut down. \nLet’s explore how we create the sense of separation that lives in the body and nervous system. Then we’ll bring awareness to these body experiences to liberate them from unconsciousness and the limits of our stories. \nBecause sensation without a story is simply life energy…without interpretation\, past\, or future. \nIn our sacred time together\, we’ll bring space\, breath\, and deep compassion to our body experiences. Through guided meditation\, practical guidance\, and heartfelt conversation\, we’ll turn toward our bodies\, holding all that arises in the infinite freedom of loving presence. We’ll discuss specific tools and practices for body awareness\, informed by wisdom traditions. \nAll are welcome as we lovingly embrace our humanness…and expand into overflowing appreciation\, vibrant joy\, and deep connection with all of Life. I look forward to being with you! \nQuestions? Please contact Gail here. \nDetails \nWednesday\, January 10\, 2024 9:00am – 10:30am Pacific \nStarts at noon Eastern\, 5pm BST\, 6pm CET \nRecording will be sent to everyone who registers. \nA sliding scale is offered for those with financial challenges.  \n\nChoose the amount you would like to pay.Option 1 $15.00 USDOption 2 $9.00 USDOption 3 $4.00 USD\n\n\nFriends are saying: \n\n“I am now experiencing longer moments of pure awareness and joy. No longer a slave to external circumstances and inner chatter. Loving life the way it is.” ~Susan R. \n“I liked the sense of trust\, profound acceptance\, safety\, unconditional love and support that Gail brought to us. The course made me realize the importance of being involved in a community of people dedicated to the most important thing to me\, Healing and Awakening. I just cannot do it alone!” ~Aline B. \n“Your work is a bridge between practical daily life and Supreme Reality.” ~Henrique N. \n“You radiate such warmth\, kindness\, beauty and wisdom. I had been stuck for so long and by listening to your sage advice\, am finally starting to see and feel the light. Your light helps us to shine our own.” ~Julie Desmarais \n  \n\n“At any moment\, within the field of your own experience\, there is an inner sanctuary of presence and stillness. You access this space by shifting your attention away from the jumble of thoughts\, feelings\, stories\, fears\, and external input such as others’ opinions. You simply turn inward—beyond all mind movement—and be. \nIn no time at all\, you find the ground of being\, the light of living vibration that’s here in every moment. It’s timeless\, which means it’s eternally present\, and all-embracing as the unity of all. Don’t be afraid of this vast love. Fall into its arms…”\n~Gail \nGail Brenner\, Ph.D. is your guide on this journey. She is a clinical psychologist and lover of truth with a fire that burns brightly. She brings to this work years of experience with individuals and groups and is known for creating the safety and trust needed for this deeper exploration. \nimage
URL:https://gailbrenner.com/event/coming-home-together-body-awakening/
LOCATION:online
END:VEVENT
BEGIN:VEVENT
DTSTART;TZID=America/Los_Angeles:20240117T090000
DTEND;TZID=America/Los_Angeles:20240117T100000
DTSTAMP:20260423T060153
CREATED:20240107T194420Z
LAST-MODIFIED:20240111T043746Z
UID:10935-1705482000-1705485600@gailbrenner.com
SUMMARY:Coming Home Together Online Gathering: Bringing Heaven to Earth: Fully Alive in Everyday Life
DESCRIPTION:Coming Home Together Online Gathering:\nBringing Heaven to Earth: Fully Alive in Everyday Life\n \nWednesday\, January 17\, 9:00am – 10:30am Pacific\nNoon Eastern\, 5pm BST\non Zoom \nRecording will be available and sent to all who register. \nThe Coming Home Together online gathering offers a deep dive into the practicalities of awakened living. Your everyday human life will be the laboratory as we explore the myth of the separate self\, unexplored trauma patterns\, and everyday living of the deepest teachings of nondual reality. \nOur focus for this gathering is on meeting everyday life with freshness\, aligned with your natural essence as whole\, peaceful\, primed for joy\, and lacking nothing. \nWe’ll get practical about relationships\, resentments\, hurts\, and frustrations of daily life. How do we navigate these situations without losing our authentic Being? How can you\, more and more\, step into your full magnificence as you were meant to be? \nPlease register here. Once you register\, you will be directed to the zoom link—and you will receive it by email one hour prior to our meeting. A sliding scale is offered for those with financial challenges. \n\nChoose the amount you would like to pay.Option 1 $15.00 USDOption 2 $9.00 USDOption 3 $4.00 USD\n\n\nWe’ll bring inquiry to our experience to ground in our heart’s desire and invite a greater level of consciousness in common life situations. We’ll reflect with precision on how we can bring our inner knowing into the moments of our lives. \nIn our sacred time together\, we’ll explore the limiting patterns we live by and offer insights to untangle them.  We are so much more than our imagined limits! \nThrough guided meditation and heartfelt conversation\, you’ll come away with practical skills to feel grounded\, safe\, and connected within yourself and in your life. You’ll experience more space for the natural arising of intimacy\, generosity\, inspiration\, and delight. \n You are welcome just as you are with your fears\, doubts\, shame\, and questions. We honor our humanness as we expand into overflowing appreciation\, vibrant joy\, and deep connection with all of Life. I look forward to being with you! \nQuestions? Please contact Gail here. \nDetails \nWednesday\, January 17\, 2024 9:00am – 10:30am Pacific \nStarts at noon Eastern\, 5pm BST\, 6pm CET \nRecording will be sent to everyone who registers. \nA sliding scale is offered for those with financial challenges.  \n\nChoose the amount you would like to pay.Option 1 $15.00 USDOption 2 $9.00 USDOption 3 $4.00 USD\n\n\nFriends are saying: \n\n“I am now experiencing longer moments of pure awareness and joy. No longer a slave to external circumstances and inner chatter. Loving life the way it is.” ~Susan R. \n“I liked the sense of trust\, profound acceptance\, safety\, unconditional love and support that Gail brought to us. The course made me realize the importance of being involved in a community of people dedicated to the most important thing to me\, Healing and Awakening. I just cannot do it alone!” ~Aline B. \n“Your work is a bridge between practical daily life and Supreme Reality.” ~Henrique N. \n“You radiate such warmth\, kindness\, beauty and wisdom. I had been stuck for so long and by listening to your sage advice\, am finally starting to see and feel the light. Your light helps us to shine our own.” ~Julie Desmarais \n  \n\n“At any moment\, within the field of your own experience\, there is an inner sanctuary of presence and stillness. You access this space by shifting your attention away from the jumble of thoughts\, feelings\, stories\, fears\, and external input such as others’ opinions. You simply turn inward—beyond all mind movement—and be. \nIn no time at all\, you find the ground of being\, the light of living vibration that’s here in every moment. It’s timeless\, which means it’s eternally present\, and all-embracing as the unity of all. Don’t be afraid of this vast love. Fall into its arms…”\n~Gail \nGail Brenner\, Ph.D. is your guide on this journey. She is a clinical psychologist and lover of truth with a fire that burns brightly. She brings to this work years of experience with individuals and groups and is known for creating the safety and trust needed for this deeper exploration. \nimage
URL:https://gailbrenner.com/event/coming-home-together-fully-alive/
LOCATION:online
END:VEVENT
BEGIN:VEVENT
DTSTART;TZID=America/Los_Angeles:20240124T090000
DTEND;TZID=America/Los_Angeles:20240124T103000
DTSTAMP:20260423T060153
CREATED:20240114T220239Z
LAST-MODIFIED:20240114T220239Z
UID:10953-1706086800-1706092200@gailbrenner.com
SUMMARY:Coming Home Together Online Gathering—Identity: Why It Matters to Know Who You Are
DESCRIPTION:Coming Home Together Online Gathering:\nIdentity: Why It Matter to Know Who You are \nWednesday\, January 24\, 9:00am – 10:30am Pacific\nNoon Eastern\, 5pm BST\, 6pm CET\non Zoom \nRecording will be available and sent to all who register. \nThe Coming Home Together online gathering offers a deep dive into the practicalities of awakened living. Your everyday human life is the laboratory as we open to the myth of the separate self\, unexplored trauma patterns\, and the right now experience of nondual reality. \nOur focus for this meeting is on the essential spiritual question\, “Who am I?” and why it matters to explore it. At the root of personal suffering is the belief that who we are is a person with a history\, story\, needs\, preferences\, fears\, and a sense of lack. As long as we identify with this core belief as the definition of who we are\, we will see ourselves and the world through these distorted filters.  \nFor example\, if you carry the belief that the world\, including other people\, is frightening and untrustworthy\, you will feel the need to protect yourself. You will evaluate people and situations according to this fear-based belief\, affecting satisfaction and fulfillment in your relationships and your life. You just won’t feel comfortable being fully authentic.  \nThis is true of any fear- or lack-based belief we think defines us. Attachment to any story\, emotion\, idea of freedom or enlightenment\, or ideas about the past or future will cause us to contract into a false sense of self and affect everything about our human experience in life. \nPlease register here. Once you register\, you will be directed to the zoom link—and you will receive it by email one hour prior to our meeting. A sliding scale is offered for those with financial challenges. \n\nChoose the amount you would like to pay.Option 1 $15.00 USDOption 2 $9.00 USDOption 3 $4.00 USD\n \nThe release from suffering occurs when our attachment to the mind completely disintegrates. We no longer look to any habitual beliefs to define us. We stop feeding any stories and looking to the mind to know who we are or how to act. We no longer give any weight to hopes\, expectations\, should’s—or any thought that takes us away from Presence here and now. \n This is a radical shift into freedom\, expansion\, and not knowing—and into the boundless peace beyond all mental ideas that has always been here and available. It is knowing and living from pure aliveness.  \nA quote from poet William Blake describes this possibility: “If the doors of perception were cleansed every thing would appear to man as it is\, Infinite.” By perception\, he means any ideas we believe to be true and real that veil our view. And what remains without them is infinite knowing…pure\, clear seeing. \nAre you interested in suffering less? We come together in the sacred space of loving community to explore the nature of identity and the freedom that’s possible when you know who you are—and who you’re not. Bring all of you—your fears\, doubt\, shame\, questions—and joy. All is welcome! \nTogether\, we lovingly embrace our humanness as we expand into overflowing appreciation and deep connection with all of Life. \nQuestions? Please contact Gail here. \nDetails \nWednesday\, January 24\, 2024 9:00am – 10:30am Pacific \nStarts at noon Eastern\, 5pm BST\, 6pm CET \nRecording will be sent to everyone who registers. \nA sliding scale is offered for those with financial challenges.  \n\nChoose the amount you would like to pay.Option 1 $15.00 USDOption 2 $9.00 USDOption 3 $4.00 USD\n\n\nFriends are saying: \n\n“I am now experiencing longer moments of pure awareness and joy. No longer a slave to external circumstances and inner chatter. Loving life the way it is.” ~Susan R. \n“I liked the sense of trust\, profound acceptance\, safety\, unconditional love and support that Gail brought to us. The course made me realize the importance of being involved in a community of people dedicated to the most important thing to me\, Healing and Awakening. I just cannot do it alone!” ~Aline B. \n“Your work is a bridge between practical daily life and Supreme Reality.” ~Henrique N. \n“You radiate such warmth\, kindness\, beauty and wisdom. I had been stuck for so long and by listening to your sage advice\, am finally starting to see and feel the light. Your light helps us to shine our own.” ~Julie Desmarais \n\n“At any moment\, within the field of your own experience\, there is an inner sanctuary of presence and stillness. You access this space by shifting your attention away from the jumble of thoughts\, feelings\, stories\, fears\, and external input such as others’ opinions. You simply turn inward—beyond all mind movement—and be. \nIn no time at all\, you find the ground of being\, the light of living vibration that’s here in every moment. It’s timeless\, which means it’s eternally present\, and all-embracing as the unity of all. Don’t be afraid of this vast love. Fall into its arms…”\n~Gail \nGail Brenner\, Ph.D. is your guide on this journey. She is a clinical psychologist and lover of truth with a fire that burns brightly. She brings to this work years of experience with individuals and groups and is known for creating the safety and trust needed for this deeper exploration.
URL:https://gailbrenner.com/event/coming-home-together-identity/
LOCATION:online
END:VEVENT
BEGIN:VEVENT
DTSTART;TZID=America/Los_Angeles:20240131T090000
DTEND;TZID=America/Los_Angeles:20240131T103000
DTSTAMP:20260423T060153
CREATED:20240122T182653Z
LAST-MODIFIED:20240131T162320Z
UID:10963-1706691600-1706697000@gailbrenner.com
SUMMARY:Coming Home Together Online Gathering— Deep Listening as a Way to Be
DESCRIPTION:Coming Home Together Online Gathering:\nDeep Listening as a Way to Be  \nWednesday\, January 31\, 9:00am – 10:30am Pacific\nNoon Eastern\, 5pm BST\non Zoom \nRecording will be available and sent to all who register. \nThe Coming Home Together online gathering offers a deep dive into the practicalities of awakened living.  \nOur focus for this meeting is on  listening deeply within. If we’re driven by unexplored fear\, we look to the mind for guidance about how to live. That’s how we get caught in endlessly trying to make decisions\, figure things out\, and find our way in life. It’s stressful and often fruitless as a path to the peace we long for.  \n But there’s another\, completely different way to be\, which is to stop\, relax\, open\, and get curious. Then we’re poised for deep listening to what wants to be shown to us. We take the position of alignment with life’s intelligence beyond the personal self\, not knowing anything\, and available to what appears.  \n Then we listen\, not from fear\, but with every cell in our bodies\, with our hearts wide open\, and alive in the deepest place in us that trusts life’s unfolding.  \nPlease register here. Once you register\, you will be directed to the zoom link—and you will receive it by email one hour prior to our meeting. A sliding scale is offered for those with financial challenges. \n\nChoose the amount you would like to pay.Option 1 $15.00 USDOption 2 $9.00 USDOption 3 $4.00 USD\n\n\n Together\, we’ll explore the practice of deep listening. When you let fear-based tendencies be\, what does life have in store for you? What is on the horizon itching to be expressed through you? And what is in the way of aligning with these truths? \n We find that there is no such thing as making a decision. Rather\, we surrender and allow as things unfold naturally…in the small actions of everyday life as well as in larger shifts into our full potential.  \n Through guided meditation\, practical guidance\, and heartfelt conversation\, we’ll explore the possibility of letting go into the river of life as it’s flowing right now…along with the fears that may arise.  \nWe lovingly embrace our humanness as we expand into overflowing appreciation\, vibrant joy\, and deep connection with all of Life. \nQuestions? Please contact Gail here. \nDetails \nWednesday\, January 31\, 2024 9:00am – 10:30am Pacific \nStarts at noon Eastern\, 5pm BST\, 6pm CET \nRecording will be sent to everyone who registers. \nA sliding scale is offered for those with financial challenges.  \n\nChoose the amount you would like to pay.Option 1 $15.00 USDOption 2 $9.00 USDOption 3 $4.00 USD\n\n\nFriends are saying: \n\n“I am now experiencing longer moments of pure awareness and joy. No longer a slave to external circumstances and inner chatter. Loving life the way it is.” ~Susan R. \n“I liked the sense of trust\, profound acceptance\, safety\, unconditional love and support that Gail brought to us. The course made me realize the importance of being involved in a community of people dedicated to the most important thing to me\, Healing and Awakening. I just cannot do it alone!” ~Aline B. \n“Your work is a bridge between practical daily life and Supreme Reality.” ~Henrique N. \n“You radiate such warmth\, kindness\, beauty and wisdom. I had been stuck for so long and by listening to your sage advice\, am finally starting to see and feel the light. Your light helps us to shine our own.” ~Julie Desmarais \n\n“At any moment\, within the field of your own experience\, there is an inner sanctuary of presence and stillness. You access this space by shifting your attention away from the jumble of thoughts\, feelings\, stories\, fears\, and external input such as others’ opinions. You simply turn inward—beyond all mind movement—and be. \nIn no time at all\, you find the ground of being\, the light of living vibration that’s here in every moment. It’s timeless\, which means it’s eternally present\, and all-embracing as the unity of all. Don’t be afraid of this vast love. Fall into its arms…”\n~Gail \nGail Brenner\, Ph.D. is your guide on this journey. She is a clinical psychologist and lover of truth with a fire that burns brightly. She brings to this work years of experience with individuals and groups and is known for creating the safety and trust needed for this deeper exploration.
URL:https://gailbrenner.com/event/coming-home-together-listening/
LOCATION:online
END:VEVENT
END:VCALENDAR