BEGIN:VCALENDAR
VERSION:2.0
PRODID:-//Dr. Gail Brenner - ECPv6.15.20//NONSGML v1.0//EN
CALSCALE:GREGORIAN
METHOD:PUBLISH
X-WR-CALNAME:Dr. Gail Brenner
X-ORIGINAL-URL:https://gailbrenner.com
X-WR-CALDESC:Events for Dr. Gail Brenner
REFRESH-INTERVAL;VALUE=DURATION:PT1H
X-Robots-Tag:noindex
X-PUBLISHED-TTL:PT1H
BEGIN:VTIMEZONE
TZID:America/Los_Angeles
BEGIN:DAYLIGHT
TZOFFSETFROM:-0800
TZOFFSETTO:-0700
TZNAME:PDT
DTSTART:20230312T100000
END:DAYLIGHT
BEGIN:STANDARD
TZOFFSETFROM:-0700
TZOFFSETTO:-0800
TZNAME:PST
DTSTART:20231105T090000
END:STANDARD
BEGIN:DAYLIGHT
TZOFFSETFROM:-0800
TZOFFSETTO:-0700
TZNAME:PDT
DTSTART:20240310T100000
END:DAYLIGHT
BEGIN:STANDARD
TZOFFSETFROM:-0700
TZOFFSETTO:-0800
TZNAME:PST
DTSTART:20241103T090000
END:STANDARD
BEGIN:DAYLIGHT
TZOFFSETFROM:-0800
TZOFFSETTO:-0700
TZNAME:PDT
DTSTART:20250309T100000
END:DAYLIGHT
BEGIN:STANDARD
TZOFFSETFROM:-0700
TZOFFSETTO:-0800
TZNAME:PST
DTSTART:20251102T090000
END:STANDARD
END:VTIMEZONE
BEGIN:VEVENT
DTSTART;TZID=America/Los_Angeles:20240207T090000
DTEND;TZID=America/Los_Angeles:20240207T103000
DTSTAMP:20260423T042657
CREATED:20240129T222925Z
LAST-MODIFIED:20240201T163420Z
UID:10972-1707296400-1707301800@gailbrenner.com
SUMMARY:Coming Home Together Online Gathering—Not at Peace? Let's Explore Attachment
DESCRIPTION:Coming Home Together Online Gathering:\nNot at Peace? Let’s Explore Attachment \nWednesday\, February 7\, 9:00am – 10:30am Pacific\nNoon Eastern\, 5pm BST\, 6pm CET\non Zoom \nRecording will be available and sent to all who register. \nThe Coming Home Together online gathering offers a deep dive into the practicalities of awakened living. Your everyday human life will be the laboratory as we explore the myth of the separate self\, unexplored trauma patterns\, and everyday living of the deepest teachings of nondual reality. \nOur focus for this meeting is on a deep exploration of attachment. What is attachment? It’s a whole body experience of leaving the present moment. We believe our desires and expectations that tell us we need something we don’t have for our peace and happiness. We experience a loss of freedom when we’re attached to certain outcomes happening. \nWe make our inner peace dependent on things we can’t control—people\, money\, success\, possessions\, health\, circumstances\, or even life itself—and when we do\, we suffer. \nPlease register here. Once you register\, you will be directed to the zoom link—and you will receive it by email one hour prior to our meeting. A sliding scale is offered for those with financial challenges. \n\nChoose the amount you would like to pay.Option 1 $15.00 USDOption 2 $9.00 USDOption 3 $4.00 USD\n\n\n If we stay mired in our attachments\, we’re resisting reality. It’s like living in a room filled with furniture—everywhere we turn we bump into something. We want life to be as we want it…and not how it actually is. Sound familiar? \nIn our time together\, we’ll open lovingly to an exploration of the ways we’re attached. We’ll go behind the curtain of our attachments to discover fear…of losing control\, of loss\, of not getting what we think we need. And we’ll open to the free flow of life… Can we align with the truth of our experience\, can we practice saying “yes” to reality as it is? \nThe exploration of attachments invites us to reflect on how we meet whatever appears in the moments of our lives. We may not be able to control what happens\, but we can choose how we want to show up and relate to our present moment experience. \nAnd here is where we find where we find wonder\, potential\, inspiration\, and spontaneity. \nThrough guided meditation\, practical guidance\, and heartfelt conversation\, we’ll discover the potential—already in you—to be fully alive in your life\, free beyond attachments. \nTogether\, we lovingly embrace our humanness as we expand into overflowing appreciation\, vibrant joy\, and deep connection with all of Life. \nQuestions? Please contact Gail here. \nDetails \nWednesday\, February 7\, 2024 9:00am – 10:30am Pacific \nStarts at noon Eastern\, 5pm BST\, 6pm CET \nRecording will be sent to everyone who registers. \nA sliding scale is offered for those with financial challenges.  \n\nChoose the amount you would like to pay.Option 1 $15.00 USDOption 2 $9.00 USDOption 3 $4.00 USD\n\n\nFriends are saying: \n\n“I am now experiencing longer moments of pure awareness and joy. No longer a slave to external circumstances and inner chatter. Loving life the way it is.” ~Susan R. \n“I liked the sense of trust\, profound acceptance\, safety\, unconditional love and support that Gail brought to us. The course made me realize the importance of being involved in a community of people dedicated to the most important thing to me\, Healing and Awakening. I just cannot do it alone!” ~Aline B. \n“Your work is a bridge between practical daily life and Supreme Reality.” ~Henrique N. \n“You radiate such warmth\, kindness\, beauty and wisdom. I had been stuck for so long and by listening to your sage advice\, am finally starting to see and feel the light. Your light helps us to shine our own.” ~Julie Desmarais \n  \n\n“At any moment\, within the field of your own experience\, there is an inner sanctuary of presence and stillness. You access this space by shifting your attention away from the jumble of thoughts\, feelings\, stories\, fears\, and external input such as others’ opinions. You simply turn inward—beyond all mind movement—and be. \nIn no time at all\, you find the ground of being\, the light of living vibration that’s here in every moment. It’s timeless\, which means it’s eternally present\, and all-embracing as the unity of all. Don’t be afraid of this vast love. Fall into its arms…”\n~Gail \nGail Brenner\, Ph.D. is your guide on this journey. She is a clinical psychologist and lover of truth with a fire that burns brightly. She brings to this work years of experience with individuals and groups and is known for creating the safety and trust needed for this deeper exploration.
URL:https://gailbrenner.com/event/coming-home-together-explore-attachment/
LOCATION:online
END:VEVENT
BEGIN:VEVENT
DTSTART;TZID=America/Los_Angeles:20240214T090000
DTEND;TZID=America/Los_Angeles:20240214T103000
DTSTAMP:20260423T042657
CREATED:20240207T034534Z
LAST-MODIFIED:20241125T163144Z
UID:10988-1707901200-1707906600@gailbrenner.com
SUMMARY:Coming Home Together Online Gathering—Awakening in Our Relationships
DESCRIPTION:Coming Home Together Online Gathering:\nAwakening in Our Relationships \nWednesday\, February 14\, 9:00am – 10:30am Pacific\nNoon Eastern\, 5pm BST\non Zoom \nRecording will be available and sent to all who register. \nThe Coming Home Together online gathering offers a deep dive into the practicalities of awakened living. Your everyday human life will be the laboratory as we explore the myth of the separate self\, unexplored trauma patterns\, and everyday living of the deepest teachings of nondual reality. \nPlease register here. Once you register\, you will be directed to the zoom link—and you will receive it by email one hour prior to our meeting. A sliding scale is offered for those with financial challenges. \nOur focus for this meeting is on bringing conscious awareness to how we show up in the sacred space of our relationships. \nIn our time together\, we’ll explore the patterns we bring to relationships that create a sense of separation—from ourselves\, others\, and all of life. These are fear-based programmed ways of being that we learned early in our lives and left us feeling unsafe\, rejected\, unseen\, or disconnected. \n\nChoose the amount you would like to pay.Option 1 $15.00 USDOption 2 $9.00 USDOption 3 $4.00 USD\n\n\nPeople-pleasing\, withdrawal\, needing to be right\, holding grudges\, defensiveness… These are signs of unexamined contractions that are ripe for liberation. \nUntying the knots that lie at the core of our relationship struggles brings openness\, ease\, and space for new and authentic ways of being. We discover we can meet the tender places in ourselves with deep acceptance and care. Then we have the space to open with compassion to the struggles others might be experiencing as well. \nThe intimate connection we all long for unfolds when energy flows freely…and offers a portal into the deepest knowing of infinite oneness beyond our personal identities. \nWith guided meditation\, teachings\, and conversation\, we’ll practice creating safe space for deepening connection. Together\, we lovingly embrace our humanness as we expand beyond the known into overflowing appreciation and deep connection with all of Life. I look forward to being with you! \nQuestions? Please contact Gail here. \nDetails \nWednesday\, February 14\, 2024 9:00am – 10:30am Pacific \nStarts at noon Eastern\, 5pm BST\, 6pm CET \nRecording will be sent to everyone who registers. \nA sliding scale is offered for those with financial challenges.  \n\nChoose the amount you would like to pay.Option 1 $15.00 USDOption 2 $9.00 USDOption 3 $4.00 USD\n\n\nFriends are saying: \n\n“I am now experiencing longer moments of pure awareness and joy. No longer a slave to external circumstances and inner chatter. Loving life the way it is.” ~Susan R. \n“I liked the sense of trust\, profound acceptance\, safety\, unconditional love and support that Gail brought to us. The course made me realize the importance of being involved in a community of people dedicated to the most important thing to me\, Healing and Awakening. I just cannot do it alone!” ~Aline B. \n“Your work is a bridge between practical daily life and Supreme Reality.” ~Henrique N. \n“You radiate such warmth\, kindness\, beauty and wisdom. I had been stuck for so long and by listening to your sage advice\, am finally starting to see and feel the light. Your light helps us to shine our own.” ~Julie Desmarais \n  \n\n“At any moment\, within the field of your own experience\, there is an inner sanctuary of presence and stillness. You access this space by shifting your attention away from the jumble of thoughts\, feelings\, stories\, fears\, and external input such as others’ opinions. You simply turn inward—beyond all mind movement—and be. \nIn no time at all\, you find the ground of being\, the light of living vibration that’s here in every moment. It’s timeless\, which means it’s eternally present\, and all-embracing as the unity of all. Don’t be afraid of this vast love. Fall into its arms…”\n~Gail \nGail Brenner\, Ph.D. is your guide on this journey. She is a clinical psychologist and lover of truth with a fire that burns brightly. She brings to this work years of experience with individuals and groups and is known for creating the safety and trust needed for this deeper exploration.
URL:https://gailbrenner.com/event/coming-home-together-our-relationships/
LOCATION:online
END:VEVENT
BEGIN:VEVENT
DTSTART;TZID=America/Los_Angeles:20240221T090000
DTEND;TZID=America/Los_Angeles:20240221T103000
DTSTAMP:20260423T042657
CREATED:20240212T161748Z
LAST-MODIFIED:20240212T162332Z
UID:11005-1708506000-1708511400@gailbrenner.com
SUMMARY:Coming Home Together Online Gathering—Wise Ways to Be with Emotions
DESCRIPTION:Coming Home Together Online Gathering:\nWise Ways to Be with Emotions \nWednesday\, February 21\, 9:00am – 10:30am Pacific\nNoon Eastern\, 5pm BST\, 6pm CET\non Zoom \nRecording will be available and sent to all who register. \nThe Coming Home Together online gathering offers a deep dive into the practicalities of awakened living. Your everyday human life will be the laboratory as we explore the myth of the separate self\, unexplored trauma patterns\, and everyday living of the deepest teachings of nondual reality. \nOur focus for this meeting is on bringing wise inquiry to emotions. In the timeless formless infinite field of pure being\, what we call emotions might appear\, but presence remains undisturbed.  \nPlease register here. Once you register\, you will be directed to the zoom link—and you will receive it by email one hour prior to our meeting. A sliding scale is offered for those with financial challenges. \n\nChoose the amount you would like to pay.Option 1 $15.00 USDOption 2 $9.00 USDOption 3 $4.00 USD\n\nYet\, we all feel emotions\, and they are a normal part of the experience of being human. If you feel stuck in limitation and confusion\, emotions are probably involved. Met with care and unconditional welcoming\, they are a gateway into realizing our true nature. \nCaught in our limiting desires to protect and control\, we’re pulled to avoid our emotions. We’re afraid of being overwhelmed by them\, and we feel we don’t have the skills needed to actually turn inward and be with them. This creates an inner war that breeds anxiety and discontent.In our time together\, we’ll practice inquiring into emotions. With openness and courage\, we turn toward our emotions\, and get to know how they live in our minds\, bodies\, and actions. This is the path to discovering freedom\, no matter how many times our emotions overtake us. \n We value the power of safe and loving community for this exploration. Resisting emotions is isolating and reinforces shame. In our time together\, in the spirit of peace and freedom\, we’ll open up to our experience of emotions. Because if we continue to be entangled in their stories\, we will continue to suffer.  \n Through guided meditation\, practical guidance\, and heartfelt conversation\, we’ll take our stand as loving aware presence and learn how to practice welcoming emotions freely\, taking our hands off the wheel and allowing their full liberation.  \nYou are unconditionally welcome just as you are. Together\, we lovingly embrace our humanness as we expand into overflowing appreciation\, vibrant joy\, and deep connection with all of Life. \nQuestions? Please contact Gail here. \nDetails \nWednesday\, February 21\, 2024 9:00am – 10:30am Pacific \nStarts at noon Eastern\, 5pm BST\, 6pm CET \nRecording will be sent to everyone who registers. \nA sliding scale is offered for those with financial challenges.  \n\nChoose the amount you would like to pay.Option 1 $15.00 USDOption 2 $9.00 USDOption 3 $4.00 USD\n\n\nFriends are saying: \n\n“I am now experiencing longer moments of pure awareness and joy. No longer a slave to external circumstances and inner chatter. Loving life the way it is.” ~Susan R. \n“I liked the sense of trust\, profound acceptance\, safety\, unconditional love and support that Gail brought to us. The course made me realize the importance of being involved in a community of people dedicated to the most important thing to me\, Healing and Awakening. I just cannot do it alone!” ~Aline B. \n“Your work is a bridge between practical daily life and Supreme Reality.” ~Henrique N. \n“You radiate such warmth\, kindness\, beauty and wisdom. I had been stuck for so long and by listening to your sage advice\, am finally starting to see and feel the light. Your light helps us to shine our own.” ~Julie Desmarais \n\n“At any moment\, within the field of your own experience\, there is an inner sanctuary of presence and stillness. You access this space by shifting your attention away from the jumble of thoughts\, feelings\, stories\, fears\, and external input such as others’ opinions. You simply turn inward—beyond all mind movement—and be. \nIn no time at all\, you find the ground of being\, the light of living vibration that’s here in every moment. It’s timeless\, which means it’s eternally present\, and all-embracing as the unity of all. Don’t be afraid of this vast love. Fall into its arms…”\n~Gail \nGail Brenner\, Ph.D. is your guide on this journey. She is a clinical psychologist and lover of truth with a fire that burns brightly. She brings to this work years of experience with individuals and groups and is known for creating the safety and trust needed for this deeper exploration.
URL:https://gailbrenner.com/event/coming-home-together-be-with-emotions/
LOCATION:online
END:VEVENT
END:VCALENDAR