BEGIN:VCALENDAR
VERSION:2.0
PRODID:-//Dr. Gail Brenner - ECPv6.15.20//NONSGML v1.0//EN
CALSCALE:GREGORIAN
METHOD:PUBLISH
X-ORIGINAL-URL:https://gailbrenner.com
X-WR-CALDESC:Events for Dr. Gail Brenner
REFRESH-INTERVAL;VALUE=DURATION:PT1H
X-Robots-Tag:noindex
X-PUBLISHED-TTL:PT1H
BEGIN:VTIMEZONE
TZID:America/Los_Angeles
BEGIN:DAYLIGHT
TZOFFSETFROM:-0800
TZOFFSETTO:-0700
TZNAME:PDT
DTSTART:20230312T100000
END:DAYLIGHT
BEGIN:STANDARD
TZOFFSETFROM:-0700
TZOFFSETTO:-0800
TZNAME:PST
DTSTART:20231105T090000
END:STANDARD
BEGIN:DAYLIGHT
TZOFFSETFROM:-0800
TZOFFSETTO:-0700
TZNAME:PDT
DTSTART:20240310T100000
END:DAYLIGHT
BEGIN:STANDARD
TZOFFSETFROM:-0700
TZOFFSETTO:-0800
TZNAME:PST
DTSTART:20241103T090000
END:STANDARD
BEGIN:DAYLIGHT
TZOFFSETFROM:-0800
TZOFFSETTO:-0700
TZNAME:PDT
DTSTART:20250309T100000
END:DAYLIGHT
BEGIN:STANDARD
TZOFFSETFROM:-0700
TZOFFSETTO:-0800
TZNAME:PST
DTSTART:20251102T090000
END:STANDARD
END:VTIMEZONE
BEGIN:VEVENT
DTSTART;TZID=America/Los_Angeles:20240403T090000
DTEND;TZID=America/Los_Angeles:20240403T103000
DTSTAMP:20260423T002752
CREATED:20240325T162534Z
LAST-MODIFIED:20240325T162534Z
UID:10820-1712134800-1712140200@gailbrenner.com
SUMMARY:Coming Home Together Online Gathering—Core Practices for the Path of Awakening
DESCRIPTION:Coming Home Together Online Gathering:\nCore Practices for the Path of Awakening\n \nWednesday\, April 3\, 9:00am – 10:30am Pacific\nNoon Eastern\, 5pm BST\non Zoom \nRecording will be available and sent to all who register. \nThe Coming Home Together online gathering offers a deep dive into the practicalities of awakened living. Your everyday human life will be the laboratory as we explore the myth of the separate self\, unexplored trauma patterns\, and everyday living of the deepest teachings of nondual reality. \nOur focus for this meeting is on core practices for the path of awakening in everyday life. Practices help us to integrate our deep love for freedom into the moments of our actual human lives and give us tools to rely on when strong conditioned patterns take hold. \n\nChoose the amount you would like to pay.Option 1 $15.00 USDOption 2 $9.00 USDOption 3 $4.00 USD\n\n\nDo you want the possibility of freedom to be your living reality? Then practice living it now with whatever appears. Let every single part of your experience come into the light of awareness\, leaving no stone unturned. That’s how the hidden beliefs at the root of the sense of separation (such as\, “I am inadequate”) are finally seen as the made-up stories that they are. \nHere are the five core practices I introduced in my book\, Suffering Is Optional. They are: \n\nTurning toward your experience;\nThe safe haven of being aware;\nLosing interest in thoughts;\nWelcoming feelings; and\nThe sacred return to loving aware presence.\n\nThese practices are like breadcrumbs on the spiritual path to support you in finding your way back from the illusion of reality created by your thoughts to the realization of the truth of your essential self. They’re not things you do to reach a goal. Rather\, they guide you to ultimately realize that the practice and the knowing of freedom are one and the same. \nDo any of these practices with not a sliver of resistance\, and you’ll discover that who you are has always been whole\, fully alive\, and overflowing as love… \nIn our time together\, we’ll unpack these five practices so they feel accessible to all. Through guided meditation\, practical guidance\, and heartfelt conversation\, we’ll open to all that is with compassion and love as we find our way home.  \nCome with your fears\, doubts\, shame\, and questions—and simply to share sacred space together in community with like-minded friends. \nTogether\, we lovingly embrace our humanness as we expand into appreciation\, vibrant joy\, and deep connection with all of Life. \nDetails \nWednesday\, April 3\, 2024 9:00am – 10:30am Pacific \nStarts at noon Eastern\, 5pm BST\, 6pm CET \nRecording will be sent to everyone who registers. \nA sliding scale is offered for those with financial challenges.  \n\nChoose the amount you would like to pay.Option 1 $15.00 USDOption 2 $9.00 USDOption 3 $4.00 USD\n\n\nFriends are saying: \n\n“I am now experiencing longer moments of pure awareness and joy. No longer a slave to external circumstances and inner chatter. Loving life the way it is.” ~Susan R. \n“I liked the sense of trust\, profound acceptance\, safety\, unconditional love and support that Gail brought to us. The course made me realize the importance of being involved in a community of people dedicated to the most important thing to me\, Healing and Awakening. I just cannot do it alone!” ~Aline B. \n“Your work is a bridge between practical daily life and Supreme Reality.” ~Henrique N. \n“You radiate such warmth\, kindness\, beauty and wisdom. I had been stuck for so long and by listening to your sage advice\, am finally starting to see and feel the light. Your light helps us to shine our own.” ~Julie Desmarais \n\n“At any moment\, within the field of your own experience\, there is an inner sanctuary of presence and stillness. You access this space by shifting your attention away from the jumble of thoughts\, feelings\, stories\, fears\, and external input such as others’ opinions. You simply turn inward—beyond all mind movement—and be. \nIn no time at all\, you find the ground of being\, the light of living vibration that’s here in every moment. It’s timeless\, which means it’s eternally present\, and all-embracing as the unity of all. Don’t be afraid of this vast love. Fall into its arms…”\n~Gail \nGail Brenner\, Ph.D. is your guide on this journey. She is a clinical psychologist and lover of truth with a fire that burns brightly. She brings to this work years of experience with individuals and groups and is known for creating the sense of safety and trust needed for this deeper exploration.
URL:https://gailbrenner.com/event/coming-home-together-core-practices/
LOCATION:online
END:VEVENT
BEGIN:VEVENT
DTSTART;TZID=America/Los_Angeles:20240410T090000
DTEND;TZID=America/Los_Angeles:20240410T103000
DTSTAMP:20260423T002752
CREATED:20240403T205559Z
LAST-MODIFIED:20240408T202030Z
UID:10757-1712739600-1712745000@gailbrenner.com
SUMMARY:Coming Home Together Online Gathering—Tender Inquiry Into Early Trauma Patterns
DESCRIPTION:Coming Home Together Online Gathering:\nTender Inquiry to Early Trauma Patterns \nWednesday\, April 10\, 9:00am – 10:30am Pacific\nNoon Eastern\, 5pm BST\, 6pm CET\non Zoom \nRecording will be available and sent to all who register. \nThe Coming Home Together online gathering offers a deep dive into the practicalities of awakened living. Your everyday human life will be the laboratory as we explore the myth of the separate self\, unexplored trauma patterns\, and everyday living of the deepest teachings of nondual reality. \nOur focus for this meeting is on a tender exploration of our early trauma patterns—investigating how disruption in our family relationships when were young creates limiting ways of being that we carry into adulthood. And we’ll open to living possibilities beyond these patterns.  \nPlease register here. Once you register\, you will be directed to the zoom link—and you will receive it by email one hour prior to our meeting. A sliding scale is offered for those with financial challenges. \n\nChoose the amount you would like to pay.Option 1 $15.00 USDOption 2 $9.00 USDOption 3 $4.00 USD\n\nIf we felt unsafe\, rejected\, unseen\, or disconnected early in our lives\, we develop an identity that we are not good enough or broken beyond repair. And we grow up trying to figure out how to cope with the sense that something is missing. Some of the ways we do that are overachieving\, perfectionism\, people pleasing\, self-judgment\, or hiding from life. \nTogether\, we create a field of safe space to explore these tender parts of ourselves. We’ll learn how to turn toward our experience with acceptance\, compassion\, and care. And we’ll discover the space to realize there is so much more to life than our patterns! \nOur time together includes guided meditation\, teachings\, practical tools\, and heartfelt conversation. We turn our attention inward to find our way through the mind-made limits and the stories that create personal suffering. And discover practical ways to return home to the ground of being…to freedom and liberation… \nFinally\, we realize that we can’t go it alone. Our disconnection from our divine nature happened in the context of relationship so we need to practice together—in a supportive and loving community—to find our way home. Come with your fears\, doubts\, shame\, and questions—and simply to share sacred space together in community with like-minded friends. \nTogether\, we lovingly embrace our humanness as we expand into overflowing appreciation\, vibrant joy\, and deep connection with all of Life. \nQuestions? Please contact Gail here. \nDetails \nWednesday\, April 10\, 2024 9:00am – 10:30am Pacific \nStarts at noon Eastern\, 5pm BST\, 6pm CET \nRecording will be sent to everyone who registers. \nA sliding scale is offered for those with financial challenges.  \n\nChoose the amount you would like to pay.Option 1 $15.00 USDOption 2 $9.00 USDOption 3 $4.00 USD\n\n\nFriends are saying: \n\n“I am now experiencing longer moments of pure awareness and joy. No longer a slave to external circumstances and inner chatter. Loving life the way it is.” ~Susan R. \n“I liked the sense of trust\, profound acceptance\, safety\, unconditional love and support that Gail brought to us. The course made me realize the importance of being involved in a community of people dedicated to the most important thing to me\, Healing and Awakening. I just cannot do it alone!” ~Aline B. \n“Your work is a bridge between practical daily life and Supreme Reality.” ~Henrique N. \n“You radiate such warmth\, kindness\, beauty and wisdom. I had been stuck for so long and by listening to your sage advice\, am finally starting to see and feel the light. Your light helps us to shine our own.” ~Julie Desmarais \n  \n\n“At any moment\, within the field of your own experience\, there is an inner sanctuary of presence and stillness. You access this space by shifting your attention away from the jumble of thoughts\, feelings\, stories\, fears\, and external input such as others’ opinions. You simply turn inward—beyond all mind movement—and be. \nIn no time at all\, you find the ground of being\, the light of living vibration that’s here in every moment. It’s timeless\, which means it’s eternally present\, and all-embracing as the unity of all. Don’t be afraid of this vast love. Fall into its arms…”\n~Gail \nGail Brenner\, Ph.D. is your guide on this journey. She is a clinical psychologist and lover of truth with a fire that burns brightly. She brings to this work years of experience with individuals and groups and is known for creating the safety and trust needed for this deeper exploration.
URL:https://gailbrenner.com/event/coming-home-together-tender-inquiry/
LOCATION:online
END:VEVENT
BEGIN:VEVENT
DTSTART;TZID=America/Los_Angeles:20240417T090000
DTEND;TZID=America/Los_Angeles:20240417T103000
DTSTAMP:20260423T002752
CREATED:20240408T212249Z
LAST-MODIFIED:20240408T212249Z
UID:11047-1713344400-1713349800@gailbrenner.com
SUMMARY:Coming Home Together Online Gathering: Relationships: A Path to Trauma Healing
DESCRIPTION:Coming Home Together Online Gathering:\nRelationships: A Path to Trauma Healing \nWednesday\, April 17\, 9:00am – 10:30am Pacific\nNoon Eastern\, 5pm BST\, 6pm CET\non Zoom \nRecording will be available and sent to all who register. \nThe Coming Home Together online gathering offers a deep dive into the practicalities of awakened living. Your everyday human life will be the laboratory as we explore the myth of the separate self\, unexplored trauma patterns\, and everyday living of the deepest teachings of nondual reality. \nOur focus for this meeting is on the gift our struggles in relationships offers us as a path to trauma healing. What did you learn about relationships when you were young that explains your relationship challenges now? \nOnce we recognize the young parts of ourselves that have been triggered\, we can practice turning toward them with oceans of compassion and understanding. As these fear-based reactions soften\, we realize there is freshness\, ease\, and space for new and authentic ways of being. \n\nChoose the amount you would like to pay.Option 1 $15.00 USDOption 2 $9.00 USDOption 3 $4.00 USD\n\n\nIn childhood\, many of us learned to abandon parts of ourselves in order to stay connected with our caregivers. We lost the capacity to trust in ourselves — and in Life — creating inner disconnection and disempowerment in our relationships. \nIn our time together\, we’ll embody: \n\nStaying rooted in ourselves while connecting with others; and\nHonoring what is true and authentic in our hearts even when we fear rejection.\n\nWe’ll recognize old beliefs that create confusion and mistrust and explore the brave step of trusting ourselves. We’ll turn away from looking to others to fulfill us and go inward\, reconnecting with ourselves and opening to all that arises with love\, care\, and deep acceptance. We’ll be present to listening inward to the heart’s intelligence. This is how we practice staying grounded through whatever arises in our relationships. \nWith self-acceptance\, courage\, and compassion\, we’ll transform relating based on fear and need into intimate connections where our true selves can shine. We will lovingly embrace our humanness as we expand into overflowing appreciation\, vibrant joy\, and deep connection with all of Life. \nQuestions? Please contact Gail here. \nDetails \nWednesday\, April 17\, 2024 9:00am – 10:30am Pacific \nStarts at noon Eastern\, 5pm BST\, 6pm CET \nRecording will be sent to everyone who registers. \nA sliding scale is offered for those with financial challenges.  \n\nChoose the amount you would like to pay.Option 1 $15.00 USDOption 2 $9.00 USDOption 3 $4.00 USD\n\n\nFriends are saying: \n\n“I am now experiencing longer moments of pure awareness and joy. No longer a slave to external circumstances and inner chatter. Loving life the way it is.” ~Susan R. \n“I liked the sense of trust\, profound acceptance\, safety\, unconditional love and support that Gail brought to us. The course made me realize the importance of being involved in a community of people dedicated to the most important thing to me\, Healing and Awakening. I just cannot do it alone!” ~Aline B. \n“Your work is a bridge between practical daily life and Supreme Reality.” ~Henrique N. \n“You radiate such warmth\, kindness\, beauty and wisdom. I had been stuck for so long and by listening to your sage advice\, am finally starting to see and feel the light. Your light helps us to shine our own.” ~Julie Desmarais \n  \n\n“At any moment\, within the field of your own experience\, there is an inner sanctuary of presence and stillness. You access this space by shifting your attention away from the jumble of thoughts\, feelings\, stories\, fears\, and external input such as others’ opinions. You simply turn inward—beyond all mind movement—and be. \nIn no time at all\, you find the ground of being\, the light of living vibration that’s here in every moment. It’s timeless\, which means it’s eternally present\, and all-embracing as the unity of all. Don’t be afraid of this vast love. Fall into its arms…”\n~Gail \nGail Brenner\, Ph.D. is your guide on this journey. She is a clinical psychologist and lover of truth with a fire that burns brightly. She brings to this work years of experience with individuals and groups and is known for creating the safety and trust needed for this deeper exploration.
URL:https://gailbrenner.com/event/coming-home-together-relationships-path/
LOCATION:Science and Nonduality Online
END:VEVENT
END:VCALENDAR