BEGIN:VCALENDAR
VERSION:2.0
PRODID:-//Dr. Gail Brenner - ECPv6.15.20//NONSGML v1.0//EN
CALSCALE:GREGORIAN
METHOD:PUBLISH
X-ORIGINAL-URL:https://gailbrenner.com
X-WR-CALDESC:Events for Dr. Gail Brenner
REFRESH-INTERVAL;VALUE=DURATION:PT1H
X-Robots-Tag:noindex
X-PUBLISHED-TTL:PT1H
BEGIN:VTIMEZONE
TZID:America/Los_Angeles
BEGIN:DAYLIGHT
TZOFFSETFROM:-0800
TZOFFSETTO:-0700
TZNAME:PDT
DTSTART:20230312T100000
END:DAYLIGHT
BEGIN:STANDARD
TZOFFSETFROM:-0700
TZOFFSETTO:-0800
TZNAME:PST
DTSTART:20231105T090000
END:STANDARD
BEGIN:DAYLIGHT
TZOFFSETFROM:-0800
TZOFFSETTO:-0700
TZNAME:PDT
DTSTART:20240310T100000
END:DAYLIGHT
BEGIN:STANDARD
TZOFFSETFROM:-0700
TZOFFSETTO:-0800
TZNAME:PST
DTSTART:20241103T090000
END:STANDARD
BEGIN:DAYLIGHT
TZOFFSETFROM:-0800
TZOFFSETTO:-0700
TZNAME:PDT
DTSTART:20250309T100000
END:DAYLIGHT
BEGIN:STANDARD
TZOFFSETFROM:-0700
TZOFFSETTO:-0800
TZNAME:PST
DTSTART:20251102T090000
END:STANDARD
END:VTIMEZONE
BEGIN:VEVENT
DTSTART;TZID=America/Los_Angeles:20240501T090000
DTEND;TZID=America/Los_Angeles:20240501T103000
DTSTAMP:20260422T224526
CREATED:20240415T170905Z
LAST-MODIFIED:20240417T150028Z
UID:11066-1714554000-1714559400@gailbrenner.com
SUMMARY:Coming Home Together Online Gathering—Trauma Healing and Awakening in the Body
DESCRIPTION:Coming Home Together Online Gathering:\nTrauma Healing and Awakening in the Body \nWednesday\, May 1\, 9:00am – 10:30am Pacific\nNoon Eastern\, 5pm BST\non Zoom \nRecording will be available and sent to all who register. \nThe Coming Home Together online gathering offers a deep dive into the practicalities of awakened living. Your everyday human life will be the laboratory as we explore the myth of the separate self\, unexplored trauma patterns\, and everyday living of the deepest teachings of nondual reality. \nOur focus for this meeting is on the body as a gateway for healing and awakening. What is your relationship to your body? Your body image? The physical sensations and energies that arise? Numbness and dissociation? \nThere is much to be explored when we bring our attention to the physical realm of our experience. We find the root of emotions\, the residue of old habits and traumas…and the possibility for the free flow of the vibration of life as it appears through the body. We realize we can live in daily life in our bodies\, fully experiencing all that is.  \nPlease register here. Once you register\, you will be directed to the zoom link—and you will receive it by email one hour prior to our meeting. A sliding scale is offered for those with financial challenges. \n\nChoose the amount you would like to pay.Option 1 $15.00 USDOption 2 $9.00 USDOption 3 $4.00 USD\n\n\nMany of us live in our heads—without much awareness of our physicality. And when we open to experiences occurring in our bodies\, we find hidden contractions\, habitual ways of being\, and places that feel stuck or shut down. \nLet’s explore how we disconnect from life…how does the sense of separation live in our bodies and nervous systems? Then we’ll bring awareness to these body experiences to liberate them from unconsciousness and the limits of our stories. \nBecause sensation without a story is simply life energy…without interpretation\, past\, or future. We begin to enjoy this embodied aliveness! \nIn our sacred time together\, we’ll bring space\, breath\, and deep compassion to our body experiences. Through guided meditation\, practical guidance\, and heartfelt conversation\, we’ll turn toward our bodies\, holding all that arises in the infinite freedom of loving presence. We’ll discuss specific tools and practices for body awareness\, informed by wisdom traditions. \nAll are welcome as we lovingly embrace our humanness…and expand into overflowing appreciation\, vibrant joy\, and deep connection with all of Life. I look forward to being with you! \nQuestions? Please contact Gail here. \nDetails \nWednesday\, May 1\, 2024 9:00am – 10:30am Pacific \nStarts at noon Eastern\, 5pm BST\, 6pm CET \nRecording will be sent to everyone who registers. \nA sliding scale is offered for those with financial challenges.  \n\nChoose the amount you would like to pay.Option 1 $15.00 USDOption 2 $9.00 USDOption 3 $4.00 USD\n\n\nFriends are saying: \n\n“I am now experiencing longer moments of pure awareness and joy. No longer a slave to external circumstances and inner chatter. Loving life the way it is.” ~Susan R. \n“I liked the sense of trust\, profound acceptance\, safety\, unconditional love and support that Gail brought to us. The course made me realize the importance of being involved in a community of people dedicated to the most important thing to me\, Healing and Awakening. I just cannot do it alone!” ~Aline B. \n“Your work is a bridge between practical daily life and Supreme Reality.” ~Henrique N. \n“You radiate such warmth\, kindness\, beauty and wisdom. I had been stuck for so long and by listening to your sage advice\, am finally starting to see and feel the light. Your light helps us to shine our own.” ~Julie Desmarais \n  \n\n“At any moment\, within the field of your own experience\, there is an inner sanctuary of presence and stillness. You access this space by shifting your attention away from the jumble of thoughts\, feelings\, stories\, fears\, and external input such as others’ opinions. You simply turn inward—beyond all mind movement—and be. \nIn no time at all\, you find the ground of being\, the light of living vibration that’s here in every moment. It’s timeless\, which means it’s eternally present\, and all-embracing as the unity of all. Don’t be afraid of this vast love. Fall into its arms…”\n~Gail \nGail Brenner\, Ph.D. is your guide on this journey. She is a clinical psychologist and lover of truth with a fire that burns brightly. She brings to this work years of experience with individuals and groups and is known for creating the safety and trust needed for this deeper exploration. \nimage
URL:https://gailbrenner.com/event/coming-home-together-body-healing/
LOCATION:online
END:VEVENT
BEGIN:VEVENT
DTSTART;TZID=America/Los_Angeles:20240508T090000
DTEND;TZID=America/Los_Angeles:20240508T103000
DTSTAMP:20260422T224526
CREATED:20240425T204414Z
LAST-MODIFIED:20240505T034646Z
UID:11090-1715158800-1715164200@gailbrenner.com
SUMMARY:Coming Home Together Online Gathering—Cultivating Curiosity\, Humility\, Compassion\, and Devotion
DESCRIPTION:Coming Home Together Online Gathering:\nCultivating Curiosity\, Humility\, Compassion\, and Devotion\n \nWednesday\, May 8\, 9:00am – 10:30am Pacific\nNoon Eastern\, 5pm BST\, 6pm CET\non Zoom \nRecording will be available and sent to all who register. \nThe Coming Home Together gathering offers a deep dive into the practicalities of awakened living. Your everyday human life is the laboratory as we explore the myth of the separate self\, unexplored trauma patterns\, and living the deepest nondual teachings of infinite oneness.  \nOur focus for this meeting is on exploring some qualities to embody as we live the freedom of our true nature. No matter how deep our experience is of endless openness beyond time and space\, we find ourselves in the challenges and joys of daily life.  How can we live these moments fully\, informed by the inner knowing that who we are is not limited and lacking?  \nPlease register here. Once you register\, you will be directed to the zoom link—and you will receive it by email one hour prior to our meeting. A sliding scale is offered for those with financial challenges. \n\nChoose the amount you would like to pay.Option 1 $15.00 USDOption 2 $9.00 USDOption 3 $4.00 USD\n\n  \nWe will shine the light of our inquiry on curiosity\, humility\, compassion\, and devotion. What is our experience when we deeply feel into these qualities of being? How can we infuse them into our relationships with ourselves\, other people\, and life? What is it like to live without the illusion of the separate self? \nIn a supportive field of loving connection\, we’ll open to these essential qualities in our own experience. We’ll explore how our view expands as we let go of limited ways of being and embody spaciousness\, aliveness\, and love. This is your natural being\, who you have always been… \nOur time together includes guided meditation\, teachings\, helpful tools\, and Q&A. Come with your fears\, doubts\, shame\, and questions—and simply to share sacred space together in community with like-minded friends.  \nTogether\, we lovingly embrace our humanness as we expand into overflowing appreciation\, vibrant joy\, and deep connection with all of Life. \nQuestions? Please contact Gail here. \nDetails \nWednesday\, May 8\, 2024 9:00am – 10:30am Pacific \nStarts at noon Eastern\, 5pm BST\, 6pm CET \nRecording will be sent to everyone who registers. \nA sliding scale is offered for those with financial challenges.  \n\nChoose the amount you would like to pay.Option 1 $15.00 USDOption 2 $9.00 USDOption 3 $4.00 USD\n\n\nFriends are saying: \n\n“I am now experiencing longer moments of pure awareness and joy. No longer a slave to external circumstances and inner chatter. Loving life the way it is.” ~Susan R. \n“I liked the sense of trust\, profound acceptance\, safety\, unconditional love and support that Gail brought to us. The course made me realize the importance of being involved in a community of people dedicated to the most important thing to me\, Healing and Awakening. I just cannot do it alone!” ~Aline B \n“Your work is a bridge between practical daily life and Supreme Reality.” ~Henrique N. \n“You radiate such warmth\, kindness\, beauty and wisdom. I had been stuck for so long and by listening to your sage advice\, am finally starting to see and feel the light. Your light helps us to shine our own.” ~Julie Desmarais \n\n“At any moment\, within the field of your own experience\, there is an inner sanctuary of presence and stillness. You access this space by shifting your attention away from the jumble of thoughts\, feelings\, stories\, fears\, and external input such as others’ opinions. You simply turn inward—beyond all mind movement—and be. \nIn no time at all\, you find the ground of being\, the light of living vibration that’s here in every moment. It’s timeless\, which means it’s eternally present\, and all-embracing as the unity of all. Don’t be afraid of this vast love. Fall into its arms…”\n~Gail \nGail Brenner\, Ph.D. is your guide on this journey. She is a clinical psychologist and lover of truth with a fire that burns brightly. She brings to this work years of experience with individuals and groups and is known for creating the safety and trust needed for this deeper exploration.
URL:https://gailbrenner.com/event/coming-home-together-cultivate-qualities/
LOCATION:online
END:VEVENT
BEGIN:VEVENT
DTSTART;TZID=America/Los_Angeles:20240515T090000
DTEND;TZID=America/Los_Angeles:20240515T103000
DTSTAMP:20260422T224526
CREATED:20240505T042401Z
LAST-MODIFIED:20240505T042401Z
UID:11098-1715763600-1715769000@gailbrenner.com
SUMMARY:Coming Home Together Online Gathering—The Gifts of Anger
DESCRIPTION:Coming Home Together Online Gathering:\nThe Gifts of Anger \nWednesday\, May 15\, 9:00am – 10:30am Pacific\nNoon Eastern\, 5pm BST\, 6pm CET\non Zoom \nRecording will be available and sent to all who register. \nThe Coming Home Together online gathering offers a deep dive into the practicalities of awakened living. Your everyday human life will be the laboratory as we explore the myth of the separate self\, unexplored trauma patterns\, and everyday living of the deepest teachings of nondual reality. \nOur focus for this meeting is on the experience of anger. How can we know the freedom of our true nature\, even when anger is present? How can we meet it with understanding and compassion? What are the gifts that anger offers us? \nAnger is a challenging emotion for many of us—because its energy can be strong. We’re scared of anger and suppress it\, or it bursts out and wreaks havoc on ourselves and our relationships.  \nPlease register here. Once you register\, you will be directed to the zoom link—and you will receive it by email one hour prior to our meeting. A sliding scale is offered for those with financial challenges. \n\nChoose the amount you would like to pay.Option 1 $15.00 USDOption 2 $9.00 USDOption 3 $4.00 USD\n\n\nHow does anger live in your system? Hidden in fear\, shutting you down\, ready to explode\, a seething slow burn\, in judgment and sarcasm? \nAwakened consciousness is naturally open to everything. In our gathering together\, we’ll bring anger out of the shadows and into the light of conscious awareness—because if anger is present it’s here to be seen\, felt\, and known. We’ll explore the story it tells and tune into its enlivening energy that comes through the body. And we’ll include the messages you received about anger when you were young.  \nWith great compassion\, we’ll give anger space to be\, acknowledging the power it can offer us for clarity\, self-care\, boundaries\, and the experience of our essential aliveness.  \n Through guided meditation\, teachings\, and Q&A\, we’ll address ways to express this sometimes confusing emotion with authenticity and care and explore self-care practices that support its integration. Come with your questions\, confusions\, shame\, stuck places…and curiosity.  \nNo longer afraid of the power of anger\, you’ll realize its gifts…energy\, aliveness\, and expansive inner freedom… \nQuestions? Please contact Gail here. \nDetails \nWednesday\, May 15\, 2023 9:00am – 10:30am Pacific \nStarts at noon Eastern\, 5pm BST\, 6pm CET \nRecording will be sent to everyone who registers. \nA sliding scale is offered for those with financial challenges.  \n\nChoose the amount you would like to pay.Option 1 $15.00 USDOption 2 $9.00 USDOption 3 $4.00 USD\n\n\nFriends are saying: \n\n“I am now experiencing longer moments of pure awareness and joy. No longer a slave to external circumstances and inner chatter. Loving life the way it is.” ~Susan R. \n“I liked the sense of trust\, profound acceptance\, safety\, unconditional love and support that Gail brought to us. The course made me realize the importance of being involved in a community of people dedicated to the most important thing to me\, Healing and Awakening. I just cannot do it alone!” ~Aline B. \n“Your work is a bridge between practical daily life and Supreme Reality.” ~Henrique N. \n“You radiate such warmth\, kindness\, beauty and wisdom. I had been stuck for so long and by listening to your sage advice\, am finally starting to see and feel the light. Your light helps us to shine our own.” ~Julie Desmarais \n  \n\n“At any moment\, within the field of your own experience\, there is an inner sanctuary of presence and stillness. You access this space by shifting your attention away from the jumble of thoughts\, feelings\, stories\, fears\, and external input such as others’ opinions. You simply turn inward—beyond all mind movement—and be. \nIn no time at all\, you find the ground of being\, the light of living vibration that’s here in every moment. It’s timeless\, which means it’s eternally present\, and all-embracing as the unity of all. Don’t be afraid of this vast love. Fall into its arms…”\n~Gail \nGail Brenner\, Ph.D. is your guide on this journey. She is a clinical psychologist and lover of truth with a fire that burns brightly. She brings to this work years of experience with individuals and groups and is known for creating the safety and trust needed for this deeper exploration.
URL:https://gailbrenner.com/event/coming-home-together-anger/
LOCATION:online
END:VEVENT
BEGIN:VEVENT
DTSTART;TZID=America/Los_Angeles:20240522T090000
DTEND;TZID=America/Los_Angeles:20240522T103000
DTSTAMP:20260422T224526
CREATED:20240515T213606Z
LAST-MODIFIED:20240515T213606Z
UID:11140-1716368400-1716373800@gailbrenner.com
SUMMARY:Coming Home Together Online Gathering—Bringing the Light of Universal Intelligence to Personal Needs and Boundaries
DESCRIPTION:Coming Home Together Online Gathering:\nBringing the Light of Universal Intelligence to Personal Needs and Boundaries\n \nWednesday\, May 22\, 9:00am – 10:30am Pacific\nNoon Eastern\, 5pm BST\, 6pm CET\non Zoom \nRecording will be available and sent to all who register. \nThe Coming Home Together online gathering offers a deep dive into the practicalities of awakened living. Your everyday human life will be the laboratory as we explore the myth of the separate self\, unexplored trauma patterns\, and everyday living of the deepest teachings of nondual reality. \nOur focus for this meeting is on  bringing clarity to our experience of personal needs and boundaries. In the realm of our relationships\, we might become aware of what we’re not getting\, how we want to be treated\, and how we want others to change so we feel safer and more comfortable.  \nPlease register here. Once you register\, you will be directed to the zoom link—and you will receive it by email one hour prior to our meeting. A sliding scale is offered for those with financial challenges. \n\nChoose the amount you would like to pay.Option 1 $15.00 USDOption 2 $9.00 USDOption 3 $4.00 USD\n\n\nAs you may know\, these needs and boundary requests sometimes become a point of friction. We long to be treated with love and care and welcomed just as we are\, yet we realize we can’t control what others do and say. People might respond with resistance if they feel triggered in response to our requests\, leading to frustration\, hurt\, and disconnection.  \nNot getting the emotional support we want from others can be a source of great pain for all involved. \nIn this gathering\, we’ll open to the direct experience of needs and boundaries. With compassion\, we’ll unpack how it feels in our bodies to need what we’re not getting and trace it back to include the stories from our childhoods.\n \nWe’ll address the practicalities of when and how to express ourselves to others. And we’ll follow the invitation into our own vulnerability\, including compassion for our own and others’ struggles\, finding safety within\, and staying in connection even when it’s hard. \nTogether\, we lovingly embrace our humanness as we expand into appreciation\, vibrant joy\, and deep connection with all of Life. \nCome with your fears\, doubts\, shame\, and questions—and simply to share sacred space together in community with like-minded friends. \nQuestions? Please contact Gail here. \nDetails \nWednesday\, May 22\, 2024 9:00am – 10:30am\nStarts at noon Eastern\, 5pm BST\, 6pm CET \nRecording will be sent to everyone who registers. \nA sliding scale is offered for those with financial challenges.  \n\nChoose the amount you would like to pay.Option 1 $15.00 USDOption 2 $9.00 USDOption 3 $4.00 USD\n\n\nFriends are saying: \n\n“I am now experiencing longer moments of pure awareness and joy. No longer a slave to external circumstances and inner chatter. Loving life the way it is.” ~Susan R. \n“What you’re pointing to is so difficult to talk about in words\, but you describe it so brilliantly and give such practical\, actionable steps to follow that I truly\, deeply get it. I just cannot express to you how transformative your approach has been for me. I am inhabiting my life with so much more peace and openness\, flow and freedom.” ~Sandra Joseph\, Broadway star and author of Unmasking What Matters \n“Thank you so much for your teachings and for all the compassion and love you transmit to me\, and so many others. Your teachings are a gift of grace and love.” ~Pat Brown \n“Your work is a bridge between practical daily life and Supreme Reality.” ~Henrique N. \n“I felt bathed in presence on the retreat. Your clarity and presentation style was lovely. I found the guided meditations to be very helpful. I appreciate how relatable you are in the group\, how you don’t set yourself apart.” ~Denis N. \n\n“At any moment\, within the field of your own experience\, there is an inner sanctuary of presence and stillness. You access this space by shifting your attention away from the jumble of thoughts\, feelings\, stories\, fears\, and external input such as others’ opinions. You simply turn inward—beyond all mind movement—and be. \nIn no time at all\, you find the ground of being\, the light of living vibration that’s here in every moment. It’s timeless\, which means it’s eternally present\, and all-embracing as the unity of all. Don’t be afraid of this vast love. Fall into its arms…”\n~Gail \nGail Brenner\, Ph.D. is your guide on this journey. She is a clinical psychologist and lover of truth with a fire that burns brightly. She brings to this work years of experience with individuals and groups and is known for creating the safety and trust needed for this deeper exploration.
URL:https://gailbrenner.com/event/coming-home-together-needs/
LOCATION:online
END:VEVENT
BEGIN:VEVENT
DTSTART;TZID=America/Los_Angeles:20240529T090000
DTEND;TZID=America/Los_Angeles:20240529T103000
DTSTAMP:20260422T224526
CREATED:20240507T164042Z
LAST-MODIFIED:20240515T211210Z
UID:11109-1716973200-1716978600@gailbrenner.com
SUMMARY:Coming Home Together Online Gathering—Discovering Freedom Beyond the Concept of Time
DESCRIPTION:Coming Home Together Online Gathering:\nDiscovering Freedom Beyond the Concept of Time\n \nWednesday\, May 29\, 9:00am – 10:30am Pacific\nNoon Eastern\, 5pm BST\, 6pm CET\non Zoom \nRecording will be available and sent to all who register. \nThe Coming Home Together online gathering offers a deep dive into the practicalities of awakened living. Your everyday human life will be the laboratory as we explore the myth of the separate self\, unexplored trauma patterns\, and everyday living of the deepest teachings of nondual reality. \nOur focus for this meeting is on time and timelessness. The past and future are mind-made concepts that create a sense of fear and lack. When we live in time\, we feel the weight of our past history and worries about the future as we attempt to live in presence. There is much said in our culture about being in the present moment. That’s because here is where we have the direct experience of life rather than the stories about our lives that are created in our minds. \nPlease register here. Once you register\, you will be directed to the zoom link—and you will receive it by email one hour prior to our meeting. A sliding scale is offered for those with financial challenges. \n\nChoose the amount you would like to pay.Option 1 $15.00 USDOption 2 $9.00 USDOption 3 $4.00 USD\n\n\nOur true nature as consciousness is timeless…no memory\, no past\, no time for problems to form\, no time for suffering\, no future fear…and no mind. There is just This\, the alive reality of the now\, directly experienced as it is. Thought isn’t needed\, in fact\, thinking about what’s happening takes us away from the reality of it. \nRealizing timelessness\, we know that every moment is fresh and new…so alive! There is always the opportunity to recognize wonder\, delight\, mystery\, and the unknown. There is no same-old\, same-old\, no boredom. Only This…This…This…with no resistance whatsoever. \nAs a being in human form the recognition of timelessness leaves us without an anchor in the known. Free of the limitation of thought\, we’re available to inspiration\, creativity\, and infinite knowing. Even if thoughts are present\, the mind is vast and open\, empty and alert. \nCome explore how time limits us in past and future and discover reality free of time. We leave the tunnel vision of old\, constricting ideas as we expand into our true home of unbounded consciousness. \nTogether\, we lovingly embrace our humanness as we expand into appreciation\, vibrant joy\, and deep connection with all of Life. \nCome with your fears\, doubts\, shame\, and questions—and simply to share sacred space together in community with like-minded friends. \nQuestions? Please contact Gail here. \nDetails \nWednesday\, May 29\, 2024 9:00am – 10:30am\nStarts at noon Eastern\, 5pm BST\, 6pm CET \nRecording will be sent to everyone who registers. \nA sliding scale is offered for those with financial challenges.  \n\nChoose the amount you would like to pay.Option 1 $15.00 USDOption 2 $9.00 USDOption 3 $4.00 USD\n\n\nFriends are saying: \n\n“I am now experiencing longer moments of pure awareness and joy. No longer a slave to external circumstances and inner chatter. Loving life the way it is.” ~Susan R. \n“What you’re pointing to is so difficult to talk about in words\, but you describe it so brilliantly and give such practical\, actionable steps to follow that I truly\, deeply get it. I just cannot express to you how transformative your approach has been for me. I am inhabiting my life with so much more peace and openness\, flow and freedom.” ~Sandra Joseph\, Broadway star and author of Unmasking What Matters \n“Thank you so much for your teachings and for all the compassion and love you transmit to me\, and so many others. Your teachings are a gift of grace and love.” ~Pat Brown \n“Your work is a bridge between practical daily life and Supreme Reality.” ~Henrique N. \n“I felt bathed in presence on the retreat. Your clarity and presentation style was lovely. I found the guided meditations to be very helpful. I appreciate how relatable you are in the group\, how you don’t set yourself apart.” ~Denis N. \n\n“At any moment\, within the field of your own experience\, there is an inner sanctuary of presence and stillness. You access this space by shifting your attention away from the jumble of thoughts\, feelings\, stories\, fears\, and external input such as others’ opinions. You simply turn inward—beyond all mind movement—and be. \nIn no time at all\, you find the ground of being\, the light of living vibration that’s here in every moment. It’s timeless\, which means it’s eternally present\, and all-embracing as the unity of all. Don’t be afraid of this vast love. Fall into its arms…”\n~Gail \nGail Brenner\, Ph.D. is your guide on this journey. She is a clinical psychologist and lover of truth with a fire that burns brightly. She brings to this work years of experience with individuals and groups and is known for creating the safety and trust needed for this deeper exploration.
URL:https://gailbrenner.com/event/coming-home-together-beyond-time/
LOCATION:online
END:VEVENT
END:VCALENDAR