BEGIN:VCALENDAR
VERSION:2.0
PRODID:-//Dr. Gail Brenner - ECPv6.15.20//NONSGML v1.0//EN
CALSCALE:GREGORIAN
METHOD:PUBLISH
X-ORIGINAL-URL:https://gailbrenner.com
X-WR-CALDESC:Events for Dr. Gail Brenner
REFRESH-INTERVAL;VALUE=DURATION:PT1H
X-Robots-Tag:noindex
X-PUBLISHED-TTL:PT1H
BEGIN:VTIMEZONE
TZID:America/Los_Angeles
BEGIN:DAYLIGHT
TZOFFSETFROM:-0800
TZOFFSETTO:-0700
TZNAME:PDT
DTSTART:20230312T100000
END:DAYLIGHT
BEGIN:STANDARD
TZOFFSETFROM:-0700
TZOFFSETTO:-0800
TZNAME:PST
DTSTART:20231105T090000
END:STANDARD
BEGIN:DAYLIGHT
TZOFFSETFROM:-0800
TZOFFSETTO:-0700
TZNAME:PDT
DTSTART:20240310T100000
END:DAYLIGHT
BEGIN:STANDARD
TZOFFSETFROM:-0700
TZOFFSETTO:-0800
TZNAME:PST
DTSTART:20241103T090000
END:STANDARD
BEGIN:DAYLIGHT
TZOFFSETFROM:-0800
TZOFFSETTO:-0700
TZNAME:PDT
DTSTART:20250309T100000
END:DAYLIGHT
BEGIN:STANDARD
TZOFFSETFROM:-0700
TZOFFSETTO:-0800
TZNAME:PST
DTSTART:20251102T090000
END:STANDARD
END:VTIMEZONE
BEGIN:VEVENT
DTSTART;TZID=America/Los_Angeles:20240904T090000
DTEND;TZID=America/Los_Angeles:20240904T103000
DTSTAMP:20260422T155112
CREATED:20240825T040241Z
LAST-MODIFIED:20240825T041006Z
UID:11306-1725440400-1725445800@gailbrenner.com
SUMMARY:Coming Home Together Online Gathering—Getting to the Core of Early Trauma Patterns
DESCRIPTION:Coming Home Together Online Gathering:\nGetting to the Core of Early Trauma Patterns \nWednesday\, September 4\, 9:00am – 10:30am Pacific\nNoon Eastern\, 5pm BST\non Zoom \nRecording will be available and sent to all who register. \nThe Coming Home Together online gathering offers a deep dive into the practicalities of awakened living. Your everyday human life will be the laboratory as we explore the myth of the separate self\, unexplored trauma patterns\, and everyday living of the deepest teachings of nondual reality. \nOur focus for this meeting is on giving our compassionate attention to how disruption in our early relationships affects us. If we felt unsafe\, rejected\, unseen\, or disconnected early in our lives\, we develop an identity that we are unworthy\, not good enough\, or wounded beyond repair.  \nWe grow up trying to figure out how to cope with the sense that something is missing. Some of the ways we do that are overachieving\, perfectionism\, people pleasing\, self-judgment\, or hiding from life. \n\nChoose the amount you would like to pay.Option 1 $15.00 USDOption 2 $9.00 USDOption 3 $4.00 USD\n\n\nTogether\, we create a field of safe space to explore these tender parts of ourselves. As we discover we can meet them with deep acceptance and care\, we have space to realize there is so much more to life than our patterns! \nMany of our conditioned patterns have plagued us for years. We hear about freedom as a possibility\, but we just don’t know how to find our way there. We feel stuck in the painful sense of separation…from ourselves and the sacredness of all of Life.  \nIn our time together\, we’ll practice staying grounded in our present moment experience\, and from here we turn our attention inward to recognize our mind-made limited stories from the past that create personal suffering.  \nFinally\, we realize that we can’t go it alone. Our disconnection from our divine nature happened in the context of relationship so we need to practice together—in a supportive and loving community—to find our way home.  \nOur gathering includes guided meditation\, heartfelt teachings\, practical tools\, and Q&A.  \nCome with your fears\, doubts\, shame\, and questions—and simply to share sacred space together in community with like-minded friends. Together\, we lovingly embrace our humanness as we expand into overflowing appreciation\, vibrant joy\, and deep connection with all of Life. I look forward to being with you! \nQuestions? Please contact Gail here. \nDetails \nWednesday\, September 4\, 2024 9:00am – 10:30am Pacific \nStarts at noon Eastern\, 5pm BST\, 6pm CET \nRecording will be sent to everyone who registers. \nA sliding scale is offered for those with financial challenges.  \n\nChoose the amount you would like to pay.Option 1 $15.00 USDOption 2 $9.00 USDOption 3 $4.00 USD\n\n\nFriends are saying: \n\n“What you’re pointing to is so difficult to talk about in words\, but you describe it so brilliantly and give such practical\, actionable steps to follow that I truly\, deeply get it. I just cannot express to you how transformative your approach has been for me. I am inhabiting my life with so much more peace and openness\, flow and freedom.” ~Sandra Joseph\, Broadway star and author of Unmasking What Matters \n“I liked the sense of trust\, profound acceptance\, safety\, unconditional love and support that Gail brought to us. The course made me realize the importance of being involved in a community of people dedicated to the most important thing to me\, Healing and Awakening. I just cannot do it alone!” ~Aline B. \n“I felt bathed in presence on the retreat. Your clarity and presentation style was lovely. I found the guided meditations to be very helpful. I appreciate how relatable you are in the group\, how you don’t set yourself apart.” ~Denis N. \n“Thank you so much for your teachings and for all the compassion and love you transmit to me\, and so many others. Your teachings are a gift of grace and love.” ~Pat Brown \n“You radiate such warmth\, kindness\, beauty and wisdom. I had been stuck for so long and by listening to your sage advice\, am finally starting to see and feel the light. Your light helps us to shine our own.” ~Julie Desmarais \n\n“At any moment\, within the field of your own experience\, there is an inner sanctuary of presence and stillness. You access this space by shifting your attention away from the jumble of thoughts\, feelings\, stories\, fears\, and external input such as others’ opinions. You simply turn inward—beyond all mind movement—and be. \nIn no time at all\, you find the ground of being\, the light of living vibration that’s here in every moment. It’s timeless\, which means it’s eternally present\, and all-embracing as the unity of all. Don’t be afraid of this vast love. Fall into its arms…”\n~Gail \nGail Brenner\, Ph.D. is your guide on this journey. She is a clinical psychologist and lover of truth with a fire that burns brightly. She brings to this work years of experience with individuals and groups and is known for creating the safety and trust needed for this deeper exploration. \nimage
URL:https://gailbrenner.com/event/coming-home-together-core-early-trauma/
LOCATION:online
END:VEVENT
BEGIN:VEVENT
DTSTART;TZID=America/Los_Angeles:20240911T090000
DTEND;TZID=America/Los_Angeles:20240911T103000
DTSTAMP:20260422T155112
CREATED:20240902T010827Z
LAST-MODIFIED:20240902T010827Z
UID:11322-1726045200-1726050600@gailbrenner.com
SUMMARY:Coming Home Together Online Gathering—Emotional Freedom
DESCRIPTION:Coming Home Together Online Gathering:\nEmotional Freedom \nWednesday\, September 11\, 9:00am – 10:30am Pacific\nNoon Eastern\, 5pm BST\, 6pm CET\non Zoom \nRecording will be available and sent to all who register. \nThe Coming Home Together online gathering offers a deep dive into the practicalities of awakened living. Your everyday human life will be the laboratory as we explore the myth of the separate self\, unexplored trauma patterns\, and everyday living of the deepest teachings of nondual reality. \nOur focus for this meeting is on bringing wise inquiry to emotions. In the timeless formless infinite field of pure being\, what we call emotions might appear…and presence remains undisturbed. Yet\, we all feel emotions and know them to be a normal part of the experience of being human.  \nPlease register here. Once you register\, you will be directed to the zoom link—and you will receive it by email one hour prior to our meeting. A sliding scale is offered for those with financial challenges. \n\nChoose the amount you would like to pay.Option 1 $15.00 USDOption 2 $9.00 USDOption 3 $4.00 USD\n \nIf you feel stuck in limitation\, confusion—or any form of suffering—emotions are involved. And when we meet them with care and unconditional welcoming\, they become a gateway into realizing our true nature. We liberate the experience of emotions from the stories that make them real\, as they transform into pure\, alive energy. Many of us habitually turn away from our emotions\, creating a sense of division inside. We’re afraid of being overwhelmed by them\, and we feel we don’t have the skills needed to actually turn inward and lovingly be with them. We feel the war inside ourselves\, fueled by resistance\, that breeds anxiety\, fear\, and discontent. \n\nIn our time together\, we’ll get curious about our emotions. Finding courage within\, we make the sacred movement to turn toward the fear\, grief\, anger\, and shame to get to know how these experiences live in our minds\, bodies\, and actions. No longer pushing them away\, we meet them with the kindness and love they’ve been longing for. This is the path to discovering freedom\, and the loving practice of welcoming them no matter how many times they appear. \n We value the power of safe and loving community for this exploration. Resisting emotions is isolating and reinforces shame. In our time together—in the spirit of peace and freedom—we’ll open up to our experience of emotions. Because if we continue to be entangled in their stories\, we will continue to suffer.  \n Through guided meditation\, practical guidance\, and heartfelt conversation\, we’ll take our stand as loving aware presence and learn how to practice welcoming emotions freely\, taking our hands off the wheel and allowing their full liberation.  \nYou are unconditionally welcome just as you are. Together\, we lovingly embrace our humanness as we expand into overflowing appreciation\, vibrant joy\, and deep connection with all of Life. \nQuestions? Please contact Gail here. \nDetails \nWednesday\, September 11\, 2024 9:00am – 10:30am Pacific \nStarts at noon Eastern\, 5pm BST\, 6pm CET \nRecording will be sent to everyone who registers. \nA sliding scale is offered for those with financial challenges.  \n\nChoose the amount you would like to pay.Option 1 $15.00 USDOption 2 $9.00 USDOption 3 $4.00 USD\n\n\nFriends are saying: \n\n“What you’re pointing to is so difficult to talk about in words\, but you describe it so brilliantly and give such practical\, actionable steps to follow that I truly\, deeply get it. I just cannot express to you how transformative your approach has been for me. I am inhabiting my life with so much more peace and openness\, flow and freedom.” ~Sandra Joseph\, Broadway star and author of Unmasking What Matters \n“I liked the sense of trust\, profound acceptance\, safety\, unconditional love and support that Gail brought to us. The course made me realize the importance of being involved in a community of people dedicated to the most important thing to me\, Healing and Awakening. I just cannot do it alone!” ~Aline B. \n“I felt bathed in presence on the retreat. Your clarity and presentation style was lovely. I found the guided meditations to be very helpful. I appreciate how relatable you are in the group\, how you don’t set yourself apart.” ~Denis N. \n“Thank you so much for your teachings and for all the compassion and love you transmit to me\, and so many others. Your teachings are a gift of grace and love.” ~Pat Brown \n“You radiate such warmth\, kindness\, beauty and wisdom. I had been stuck for so long and by listening to your sage advice\, am finally starting to see and feel the light. Your light helps us to shine our own.” ~Julie Desmarais \n\n“At any moment\, within the field of your own experience\, there is an inner sanctuary of presence and stillness. You access this space by shifting your attention away from the jumble of thoughts\, feelings\, stories\, fears\, and external input such as others’ opinions. You simply turn inward—beyond all mind movement—and be. \nIn no time at all\, you find the ground of being\, the light of living vibration that’s here in every moment. It’s timeless\, which means it’s eternally present\, and all-embracing as the unity of all. Don’t be afraid of this vast love. Fall into its arms…”\n~Gail \nGail Brenner\, Ph.D. is your guide on this journey. She is a clinical psychologist and lover of truth with a fire that burns brightly. She brings to this work years of experience with individuals and groups and is known for creating the safety and trust needed for this deeper exploration. \nimage
URL:https://gailbrenner.com/event/coming-home-together-em-freedom/
LOCATION:online
END:VEVENT
BEGIN:VEVENT
DTSTART;TZID=America/Los_Angeles:20240918T090000
DTEND;TZID=America/Los_Angeles:20240918T103000
DTSTAMP:20260422T155112
CREATED:20240909T164840Z
LAST-MODIFIED:20240911T041407Z
UID:11328-1726650000-1726655400@gailbrenner.com
SUMMARY:Coming Home Together Online Gathering—Freedom From Past and Future
DESCRIPTION:Coming Home Together Online Gathering:\nFreedom From Past and Future\n \nWednesday\, September 18\, 9:00am – 10:30am Pacific\nNoon Eastern\, 5pm BST\, 6pm CET\non Zoom \nRecording will be available and sent to all who register. \nThe Coming Home Together online gathering offers a deep dive into the practicalities of awakened living. Your everyday human life will be the laboratory as we explore the myth of the separate self\, unexplored trauma patterns\, and everyday living of the deepest teachings of nondual reality. \nOur focus for this meeting is on time and timelessness. The past and future are mind-made concepts that create a sense of fear and lack. When we live in time\, we feel the weight of our past history and worries about the future as we attempt to live in presence. There is much said in our culture about being in the present moment. That’s because here is where we have the direct experience of life rather than living in imagined stories about our lives that are created in our minds. \nPlease register here. Once you register\, you will be directed to the zoom link—and you will receive it by email one hour prior to our meeting. A sliding scale is offered for those with financial challenges. \n\nChoose the amount you would like to pay.Option 1 $15.00 USDOption 2 $9.00 USDOption 3 $4.00 USD\n\n\nOur true nature as consciousness is timeless…no memory\, no past\, no time for problems to form\, no time for suffering\, no future fear…and no mind. There is just This\, the alive reality of the now\, directly experienced as it is. Thought isn’t needed\, in fact\, thinking about what’s happening takes us away from the reality of it. \nRealizing timelessness\, we know that every moment is fresh and new…so alive!  \nHow can we integrate this truth about time into our daily lives? When we’re caught in stories about the past and future\, we contract into a limited sense of ourselves\, others\, and the world. Realizing this\, we return\, over and over\, to radiant presence\, here and now and always available. We directly experience the living reality of where we are or who we’re with…free of layers of thinking. \nWe recognize wonder\, delight\, mystery\, and the unknown. There is no same-old\, same-old\, no boredom\, no expectations. Only This that’s arising now…with no resistance whatsoever. \nIn the reality of timelessness\, there’s no anchor in the known. Without the limitation of thought\, we’re available to inspiration\, creativity\, and infinite knowing. Even if thoughts are present\, the mind is vast and open\, empty and alert. \nCome explore how time limits us in past and future and discover reality free of time. We leave the tunnel vision of old\, constricting ideas as we expand into our true home of unbounded consciousness. \nTogether\, we lovingly embrace our humanness as we expand into appreciation\, vibrant joy\, and deep connection with all of Life. \nCome with your fears\, doubts\, shame\, and questions—and simply to share sacred space together in community with like-minded friends. \nQuestions? Please contact Gail here. \nDetails \nWednesday\, September 18\, 2024 9:00am – 10:30am\nStarts at noon Eastern\, 5pm BST\, 6pm CET \nRecording will be sent to everyone who registers. \nA sliding scale is offered for those with financial challenges.  \n\nChoose the amount you would like to pay.Option 1 $15.00 USDOption 2 $9.00 USDOption 3 $4.00 USD\n\n\nFriends are saying: \n\n“What you’re pointing to is so difficult to talk about in words\, but you describe it so brilliantly and give such practical\, actionable steps to follow that I truly\, deeply get it. I just cannot express to you how transformative your approach has been for me. I am inhabiting my life with so much more peace and openness\, flow and freedom.” ~Sandra Joseph\, Broadway star and author of Unmasking What Matters \n“I liked the sense of trust\, profound acceptance\, safety\, unconditional love and support that Gail brought to us. The course made me realize the importance of being involved in a community of people dedicated to the most important thing to me\, Healing and Awakening. I just cannot do it alone!” ~Aline B. \n“I felt bathed in presence on the retreat. Your clarity and presentation style was lovely. I found the guided meditations to be very helpful. I appreciate how relatable you are in the group\, how you don’t set yourself apart.” ~Denis N. \n“Thank you so much for your teachings and for all the compassion and love you transmit to me\, and so many others. Your teachings are a gift of grace and love.” ~Pat Brown \n“You radiate such warmth\, kindness\, beauty and wisdom. I had been stuck for so long and by listening to your sage advice\, am finally starting to see and feel the light. Your light helps us to shine our own.” ~Julie Desmarais \n\n“At any moment\, within the field of your own experience\, there is an inner sanctuary of presence and stillness. You access this space by shifting your attention away from the jumble of thoughts\, feelings\, stories\, fears\, and external input such as others’ opinions. You simply turn inward—beyond all mind movement—and be. \nIn no time at all\, you find the ground of being\, the light of living vibration that’s here in every moment. It’s timeless\, which means it’s eternally present\, and all-embracing as the unity of all. Don’t be afraid of this vast love. Fall into its arms…”\n~Gail \nGail Brenner\, Ph.D. is your guide on this journey. She is a clinical psychologist and lover of truth with a fire that burns brightly. She brings to this work years of experience with individuals and groups and is known for creating the safety and trust needed for this deeper exploration.
URL:https://gailbrenner.com/event/coming-home-together-freedom-beyond-time/
LOCATION:online
END:VEVENT
END:VCALENDAR