BEGIN:VCALENDAR
VERSION:2.0
PRODID:-//Dr. Gail Brenner - ECPv6.15.20//NONSGML v1.0//EN
CALSCALE:GREGORIAN
METHOD:PUBLISH
X-ORIGINAL-URL:https://gailbrenner.com
X-WR-CALDESC:Events for Dr. Gail Brenner
REFRESH-INTERVAL;VALUE=DURATION:PT1H
X-Robots-Tag:noindex
X-PUBLISHED-TTL:PT1H
BEGIN:VTIMEZONE
TZID:America/Los_Angeles
BEGIN:DAYLIGHT
TZOFFSETFROM:-0800
TZOFFSETTO:-0700
TZNAME:PDT
DTSTART:20240310T100000
END:DAYLIGHT
BEGIN:STANDARD
TZOFFSETFROM:-0700
TZOFFSETTO:-0800
TZNAME:PST
DTSTART:20241103T090000
END:STANDARD
BEGIN:DAYLIGHT
TZOFFSETFROM:-0800
TZOFFSETTO:-0700
TZNAME:PDT
DTSTART:20250309T100000
END:DAYLIGHT
BEGIN:STANDARD
TZOFFSETFROM:-0700
TZOFFSETTO:-0800
TZNAME:PST
DTSTART:20251102T090000
END:STANDARD
BEGIN:DAYLIGHT
TZOFFSETFROM:-0800
TZOFFSETTO:-0700
TZNAME:PDT
DTSTART:20260308T100000
END:DAYLIGHT
BEGIN:STANDARD
TZOFFSETFROM:-0700
TZOFFSETTO:-0800
TZNAME:PST
DTSTART:20261101T090000
END:STANDARD
END:VTIMEZONE
BEGIN:VEVENT
DTSTART;TZID=America/Los_Angeles:20250604T090000
DTEND;TZID=America/Los_Angeles:20250604T103000
DTSTAMP:20260421T223019
CREATED:20250528T145816Z
LAST-MODIFIED:20250528T145816Z
UID:11717-1749027600-1749033000@gailbrenner.com
SUMMARY:Coming Home Together Online Gathering—Freedom Beyond the Inner Critic
DESCRIPTION:Coming Home Together Online Gathering:\nFreedom Beyond the Inner Critic \nWednesday\, June 4\, 9:00am – 10:30am Pacific\nNoon Eastern\, 5pm BST\non Zoom \nRecording will be available and sent to all who register. \nThe Coming Home Together online gathering offers a deep dive into the practicalities of awakened living.  \nOur focus for this meeting is on the harsh voice and false identity of the inner critic. Many of us are aware of this strong and negative habitual voice that appears in our minds. This voice can be shaming\, militant\, perfectionistic\, and demanding. \nAlthough its intention is often to protect us\, it makes us contract into a separate and limited identity\, turns us against our truth\, and traps us by its high standards. We may not realize how stressful it is to live under its control. \nPlease register here. Once you register\, you will be directed to the zoom link—and you will receive it by email one hour prior to our meeting. A sliding scale is offered for those with financial challenges. \n\nChoose the amount you would like to pay.Option 1 $15.00 USDOption 2 $9.00 USDOption 3 $4.00 USD\n\n\nIn our time together\, we’ll unpack the inner critic thought pattern with understanding and compassion. We’ll learn to identify when it has taken hold\, and feel into the fear\, grief\, and anger that lie at its core.  \nWe’ll practice untangling our attention from what it tells us so we have the space to connect with what is true and alive in us. As our attachment to this voice softens\, we’ll relax into ways of living that are kind and loving toward all that arises…and more aligned with the unity of all. \nHow do you work toward goals without the inner critic driving you? How do you function when when this critical and negative noise subsides? When the inner critic is in charge\, we’re out of touch with our vulnerability\, truth\, and deep knowing. We’ll welcome these suppressed parts of ourselves into the light of loving awareness where they can flourish\, innocent and free… \n Through guided meditation\, practical guidance\, and heartfelt conversation\, we’ll explore the freedom that’s possible\, here and now\, beyond the contraction of the inner critic. \nTogether\, we lovingly embrace our humanness as we expand into overflowing appreciation\, vibrant joy\, and deep connection with all of Life. \nQuestions? Please contact Gail here. \nDetails \nWednesday\, June 4\, 2025 9:00am – 10:30am Pacific \nStarts at noon Eastern\, 5pm BST\, 6pm CET \nRecording will be sent to everyone who registers. \nA sliding scale is offered for those with financial challenges.  \n\nChoose the amount you would like to pay.Option 1 $15.00 USDOption 2 $9.00 USDOption 3 $4.00 USD\n\n\nFriends are saying: \n\n“I am now experiencing longer moments of pure awareness and joy. No longer a slave to external circumstances and inner chatter. Loving life the way it is.” ~Susan R. \n“I liked the sense of trust\, profound acceptance\, safety\, unconditional love and support that Gail brought to us. The course made me realize the importance of being involved in a community of people dedicated to the most important thing to me\, Healing and Awakening. I just cannot do it alone!” ~Aline B. \n“Your work is a bridge between practical daily life and Supreme Reality.” ~Henrique N. \n“You radiate such warmth\, kindness\, beauty and wisdom. I had been stuck for so long and by listening to your sage advice\, am finally starting to see and feel the light. Your light helps us to shine our own.” ~Julie Desmarais \n\n“At any moment\, within the field of your own experience\, there is an inner sanctuary of presence and stillness. You access this space by shifting your attention away from the jumble of thoughts\, feelings\, stories\, fears\, and external input such as others’ opinions. You simply turn inward—beyond all mind movement—and be. \nIn no time at all\, you find the ground of being\, the light of living vibration that’s here in every moment. It’s timeless\, which means it’s eternally present\, and all-embracing as the unity of all. Don’t be afraid of this vast love. Fall into its arms…”\n~Gail \nGail Brenner\, Ph.D. is your guide on this journey. She is a clinical psychologist and lover of truth with a fire that burns brightly. She brings to this work years of experience with individuals and groups and is known for creating the safety and trust needed for this deeper exploration.
URL:https://gailbrenner.com/event/coming-home-together-inner-critic/
LOCATION:online
END:VEVENT
BEGIN:VEVENT
DTSTART;TZID=America/Los_Angeles:20250611T090000
DTEND;TZID=America/Los_Angeles:20250611T103000
DTSTAMP:20260421T223019
CREATED:20250604T025632Z
LAST-MODIFIED:20250604T025729Z
UID:11727-1749632400-1749637800@gailbrenner.com
SUMMARY:Coming Home Together Online Gathering—Sharing Presence in Our Relationships
DESCRIPTION:Coming Home Together Online Gathering:\nSharing Presence in Our Relationships \nWednesday\, June 11\, 9:00am – 10:30am Pacific\nNoon Eastern\, 5pm BST\, 6pm CET\non Zoom \nRecording will be available and sent to all who register. \nThe Coming Home Together online gathering offers a deep dive into the practicalities of awakened living. Your everyday human life will be the laboratory as we explore the myth of the separate self\, unexplored trauma patterns\, and everyday living of the deepest teachings of nondual reality. \nOur focus for this meeting is on  bringing awareness to the shared field of presence in our relationships.  \nIn any interaction\, there is the energy of the shared field that is created by the people who are present. Often\, the field contains contractions and relational habits\, leading to resistance\, discomfort\, and longing for real connection.  \nAnd when we are consciously aware in the field\, there is the potential of just being together in presence\, holding whatever arises in openness and love…being infinite awareness together beyond any separation. This is the medicine for our experiences very early in life of feeling alone and disconnected—when we most needed others for safety and care. \nPlease register here. Once you register\, you will be directed to the zoom link—and you will receive it by email one hour prior to our meeting. A sliding scale is offered for those with financial challenges. \n\nChoose the amount you would like to pay.Option 1 $15.00 USDOption 2 $9.00 USDOption 3 $4.00 USD\n\n\nIn our time together\, we’ll begin to more deeply feel ourselves\, others\, and the shared relational field we create together. We’ll turn toward ourselves to recognize how we close off from authentic connection and the strategies we use to get our needs met. These are signs that a conditioned pattern has taken hold. \nWhen that happens\, we’re identifying with the limiting story that tells us we’re not good enough or need to be in control. Then we project our fears and needs onto others\, hoping for things to improve\, but getting familiar results such as abandonment\, rejection\, and not being seen. \nWe’ll also open to how we feel inside when we’re with others who are triggered or disconnected. When they project their fears and needs onto us\, we may end up in a relationship dance that feels unfulfilling. And with awareness\, we can hold even those contractions in love. \nCome and explore the invitation to see through the veils of conditioning that appear in our relationships. With attention to our shared relational field\, we’ll turn inward to lovingly welcome the tender places in us that we’re afraid to express. \nThen we’ll feel into the possibility of showing up with others—innocent and free—having the courage to inhabit what is naturally true and alive in us. \nThrough guided meditation\, practical guidance\, and heartfelt conversation\, we’ll explore the possibility of intimate connection by bringing attention the shared space of pure being. Together\, we lovingly embrace our humanness as we expand into overflowing appreciation\, vibrant joy\, and deep connection with all of Life. \nQuestions? Please contact Gail here. \nDetails \nWednesday\, June 11\, 2025 9:00am – 10:30am Pacific \nStarts at noon Eastern\, 5pm BST\, 6pm CET \nRecording will be sent to everyone who registers. \nA sliding scale is offered for those with financial challenges.  \n\nChoose the amount you would like to pay.Option 1 $15.00 USDOption 2 $9.00 USDOption 3 $4.00 USD\n\n\nFriends are saying: \n\n“I am now experiencing longer moments of pure awareness and joy. No longer a slave to external circumstances and inner chatter. Loving life the way it is.” ~Susan R. \n“I liked the sense of trust\, profound acceptance\, safety\, unconditional love and support that Gail brought to us. The course made me realize the importance of being involved in a community of people dedicated to the most important thing to me\, Healing and Awakening. I just cannot do it alone!” ~Aline B. \n“Your work is a bridge between practical daily life and Supreme Reality.” ~Henrique N. \n“You radiate such warmth\, kindness\, beauty and wisdom. I had been stuck for so long and by listening to your sage advice\, am finally starting to see and feel the light. Your light helps us to shine our own.” ~Julie Desmarais \n  \n\n“At any moment\, within the field of your own experience\, there is an inner sanctuary of presence and stillness. You access this space by shifting your attention away from the jumble of thoughts\, feelings\, stories\, fears\, and external input such as others’ opinions. You simply turn inward—beyond all mind movement—and be. \nIn no time at all\, you find the ground of being\, the light of living vibration that’s here in every moment. It’s timeless\, which means it’s eternally present\, and all-embracing as the unity of all. Don’t be afraid of this vast love. Fall into its arms…”\n~Gail \nGail Brenner\, Ph.D. is your guide on this journey. She is a clinical psychologist and lover of truth with a fire that burns brightly. She brings to this work years of experience with individuals and groups and is known for creating the safety and trust needed for this deeper exploration. \nimage
URL:https://gailbrenner.com/event/coming-home-together-sharing-presence/
LOCATION:online
END:VEVENT
BEGIN:VEVENT
DTSTART;TZID=America/Los_Angeles:20250618T090000
DTEND;TZID=America/Los_Angeles:20250618T103000
DTSTAMP:20260421T223019
CREATED:20250611T010640Z
LAST-MODIFIED:20250611T010714Z
UID:11711-1750237200-1750242600@gailbrenner.com
SUMMARY:Coming Home Together Online Gathering—Opening to Curiosity\, Humility\, Compassion\, and Devotion
DESCRIPTION:Coming Home Together Online Gathering:\nOpening to Curiosity\, Humility\, Compassion\, and Devotion\n \nWednesday\, June 18\, 9:00am – 10:30am Pacific\nNoon Eastern\, 5pm BST\, 6pm CET\non Zoom \nRecording will be available and sent to all who register. \nThe Coming Home Together gathering offers a deep dive into the practicalities of awakened living. Your everyday human life is the laboratory as we explore the myth of the separate self\, unexplored trauma patterns\, and living the deepest nondual teachings of infinite oneness.  \nOur focus for this meeting is on exploring ways to celebrate and remember the sacred knowing of our true nature. No matter how deep our experience is of endless openness beyond time and space\, we find ourselves living the challenges and joys of daily life. How can we live these moments aligned with the truth of reality\, informed by the revelation that who we are is not limited and lacking?  \nPlease register here. Once you register\, you will be directed to the zoom link—and you will receive it by email one hour prior to our meeting. A sliding scale is offered for those with financial challenges. \n\nChoose the amount you would like to pay.Option 1 $15.00 USDOption 2 $9.00 USDOption 3 $4.00 USD\n\n  \nWe will shine the light of our inquiry on curiosity\, humility\, compassion\, and devotion. What is our experience when we deeply feel into these qualities of being? How can we infuse them into our relationships with ourselves\, other people\, nature\, and life? What is it like to live without the illusion of the separate self and knowing our connection to all? \nIn a supportive field of shared presence\, we’ll open to these essential qualities in our own experience. We’ll explore how our view expands as we let go of limited ways of being and embody spaciousness\, aliveness\, and love. This is your natural being\, who you have always been… \nOur time together includes guided meditation\, teachings\, helpful tools\, and Q&A. Come with your fears\, doubts\, shame\, and questions—and simply to share sacred space together in community with like-minded friends.  \nTogether\, we lovingly embrace our humanness as we expand into overflowing appreciation\, vibrant joy\, and deep connection with all of Life. \nQuestions? Please contact Gail here. \nDetails \nWednesday\, June 18\, 2025 9:00am – 10:30am Pacific \nStarts at noon Eastern\, 5pm BST\, 6pm CET \nRecording will be sent to everyone who registers. \nA sliding scale is offered for those with financial challenges.  \n\nChoose the amount you would like to pay.Option 1 $15.00 USDOption 2 $9.00 USDOption 3 $4.00 USD\n\n\nFriends are saying: \n\n“I am now experiencing longer moments of pure awareness and joy. No longer a slave to external circumstances and inner chatter. Loving life the way it is.” ~Susan R. \n“I liked the sense of trust\, profound acceptance\, safety\, unconditional love and support that Gail brought to us. The course made me realize the importance of being involved in a community of people dedicated to the most important thing to me\, Healing and Awakening. I just cannot do it alone!” ~Aline B \n“Your work is a bridge between practical daily life and Supreme Reality.” ~Henrique N. \n“You radiate such warmth\, kindness\, beauty and wisdom. I had been stuck for so long and by listening to your sage advice\, am finally starting to see and feel the light. Your light helps us to shine our own.” ~Julie Desmarais \n\n“At any moment\, within the field of your own experience\, there is an inner sanctuary of presence and stillness. You access this space by shifting your attention away from the jumble of thoughts\, feelings\, stories\, fears\, and external input such as others’ opinions. You simply turn inward—beyond all mind movement—and be. \nIn no time at all\, you find the ground of being\, the light of living vibration that’s here in every moment. It’s timeless\, which means it’s eternally present\, and all-embracing as the unity of all. Don’t be afraid of this vast love. Fall into its arms…”\n~Gail \nGail Brenner\, Ph.D. is your guide on this journey. She is a clinical psychologist and lover of truth with a fire that burns brightly. She brings to this work years of experience with individuals and groups and is known for creating the safety and trust needed for this deeper exploration.
URL:https://gailbrenner.com/event/coming-home-together-humility/
LOCATION:online
END:VEVENT
BEGIN:VEVENT
DTSTART;TZID=America/Los_Angeles:20250625T090000
DTEND;TZID=America/Los_Angeles:20250625T103000
DTSTAMP:20260421T223019
CREATED:20250616T180152Z
LAST-MODIFIED:20250617T011359Z
UID:11712-1750842000-1750847400@gailbrenner.com
SUMMARY:Coming Home Together Online Gathering—Fear\, Anxiety\, and Trust in the Unfolding of Life
DESCRIPTION:Coming Home Together Online Gathering:\nFear\, Anxiety\, and Trust in the Unfolding of Life \nWednesday\, June 25\, 9:00am – 10:30am Pacific\nNoon Eastern\, 5pm BST\non Zoom \nRecording will be available and sent to all who register. \nThe Coming Home Together online gathering offers a deep dive into the practicalities of awakened living. Your everyday human life will be the laboratory as we explore the myth of the separate self\, unexplored trauma patterns\, and everyday living of the deepest teachings of nondual reality. \nOur focus for this meeting is on  fear and freedom from fear. Do fear and anxiety disturb you?  \nThese are essential emotions to investigate on the path of awakening. If left unexplored\, they pull our attention into our minds and a sense of separation. We forget that we can rest as Being which trusts the natural unfolding of life. \nPlease register here. Once you register\, you will be directed to the zoom link—and you will receive it by email one hour prior to our meeting. A sliding scale is offered for those with financial challenges. \n\nChoose the amount you would like to pay.Option 1 $15.00 USDOption 2 $9.00 USDOption 3 $4.00 USD\n\n\nWhen fear and anxiety rule\, believing their stories limits us in life. Thoughts filled with worry and negativity will be our living experience. We dwell in our heads—while we unknowingly overlook the here-and-now presence of infinite peace and love. \nFear is behind the disconnection expressed in so many ways in our world today that create conflict\, aggression\, division\, and painful othering. \nFear is a survival mechanism that is built into the human brain and nervous system. Yet\, the realization of our true nature invites us to explore beyond its protective voice. In our gathering together\, we’ll explore how fear\, and its cousin anxiety\, show up in the body and the stories they tell us that keep us rattled.  \nWhen we believe what anxious thoughts tell us\, we’re living in a fear-fueled fantasy in our minds\, disconnected from aliveness\, awareness\, and truth here and now. We’ll investigate to see if these stories we live by are actually true. How do we live if we’re not guided by fear and anxiety? Who are we in this boundless freedom? \nThrough guided meditation\, practical guidance\, and heartfelt conversation\, you’ll discover the potential—already in you—to be fully alive in your life\, free beyond the limits of fear. \nTogether\, we lovingly embrace our humanness as we expand into overflowing appreciation\, vibrant joy\, and deep connection with all of Life. \nQuestions? Please contact Gail here. \nDetails \nWednesday\, June 25\, 2025 9:00am – 10:30am Pacific \nStarts at noon Eastern\, 5pm BST\, 6pm CET \nRecording will be sent to everyone who registers. \nA sliding scale is offered for those with financial challenges.  \n\nChoose the amount you would like to pay.Option 1 $15.00 USDOption 2 $9.00 USDOption 3 $4.00 USD\n\n\nFriends are saying: \n\n“What you’re pointing to is so difficult to talk about in words\, but you describe it so brilliantly and give such practical\, actionable steps to follow that I truly\, deeply get it. I just cannot express to you how transformative your approach has been for me. I am inhabiting my life with so much more peace and openness\, flow and freedom.” ~Sandra Joseph\, Broadway star and author of Unmasking What Matters \n“I liked the sense of trust\, profound acceptance\, safety\, unconditional love and support that Gail brought to us. The course made me realize the importance of being involved in a community of people dedicated to the most important thing to me\, Healing and Awakening. I just cannot do it alone!” ~Aline B. \n“I felt bathed in presence on the retreat. Your clarity and presentation style was lovely. I found the guided meditations to be very helpful. I appreciate how relatable you are in the group\, how you don’t set yourself apart.” ~Denis N. \n“Thank you so much for your teachings and for all the compassion and love you transmit to me\, and so many others. Your teachings are a gift of grace and love.” ~Pat Brown \n“You radiate such warmth\, kindness\, beauty and wisdom. I had been stuck for so long and by listening to your sage advice\, am finally starting to see and feel the light. Your light helps us to shine our own.” ~Julie Desmarais \n\n“At any moment\, within the field of your own experience\, there is an inner sanctuary of presence and stillness. You access this space by shifting your attention away from the jumble of thoughts\, feelings\, stories\, fears\, and external input such as others’ opinions. You simply turn inward—beyond all mind movement—and be. \nIn no time at all\, you find the ground of being\, the light of living vibration that’s here in every moment. It’s timeless\, which means it’s eternally present\, and all-embracing as the unity of all. Don’t be afraid of this vast love. Fall into its arms…”\n~Gail \nGail Brenner\, Ph.D. is your guide on this journey. She is a clinical psychologist and lover of truth with a fire that burns brightly. She brings to this work years of experience with individuals and groups and is known for creating the safety and trust needed for this deeper exploration.
URL:https://gailbrenner.com/event/coming-home-together-fear-anxiety/
LOCATION:online
END:VEVENT
END:VCALENDAR