BEGIN:VCALENDAR
VERSION:2.0
PRODID:-//Dr. Gail Brenner - ECPv6.15.20//NONSGML v1.0//EN
CALSCALE:GREGORIAN
METHOD:PUBLISH
X-ORIGINAL-URL:https://gailbrenner.com
X-WR-CALDESC:Events for Dr. Gail Brenner
REFRESH-INTERVAL;VALUE=DURATION:PT1H
X-Robots-Tag:noindex
X-PUBLISHED-TTL:PT1H
BEGIN:VTIMEZONE
TZID:America/Los_Angeles
BEGIN:DAYLIGHT
TZOFFSETFROM:-0800
TZOFFSETTO:-0700
TZNAME:PDT
DTSTART:20240310T100000
END:DAYLIGHT
BEGIN:STANDARD
TZOFFSETFROM:-0700
TZOFFSETTO:-0800
TZNAME:PST
DTSTART:20241103T090000
END:STANDARD
BEGIN:DAYLIGHT
TZOFFSETFROM:-0800
TZOFFSETTO:-0700
TZNAME:PDT
DTSTART:20250309T100000
END:DAYLIGHT
BEGIN:STANDARD
TZOFFSETFROM:-0700
TZOFFSETTO:-0800
TZNAME:PST
DTSTART:20251102T090000
END:STANDARD
BEGIN:DAYLIGHT
TZOFFSETFROM:-0800
TZOFFSETTO:-0700
TZNAME:PDT
DTSTART:20260308T100000
END:DAYLIGHT
BEGIN:STANDARD
TZOFFSETFROM:-0700
TZOFFSETTO:-0800
TZNAME:PST
DTSTART:20261101T090000
END:STANDARD
END:VTIMEZONE
BEGIN:VEVENT
DTSTART;TZID=America/Los_Angeles:20250702T090000
DTEND;TZID=America/Los_Angeles:20250702T103000
DTSTAMP:20260421T204620
CREATED:20250623T005336Z
LAST-MODIFIED:20250629T230201Z
UID:11761-1751446800-1751452200@gailbrenner.com
SUMMARY:Coming Home Together Online Gathering—Getting to the Core of Early Trauma Patterns
DESCRIPTION:Coming Home Together Online Gathering:\nGetting to the Core of Early Trauma Patterns \nWednesday\, July 2\, 9:00am – 10:30am Pacific\nNoon Eastern\, 5pm BST\non Zoom \nRecording will be available and sent to all who register. \nThe Coming Home Together online gathering offers a deep dive into the practicalities of awakened living. Your everyday human life will be the laboratory as we explore the myth of the separate self\, unexplored trauma patterns\, and everyday living of the deepest teachings of nondual reality. \nOur focus for this meeting is on giving our compassionate attention to how disruption in our early relationships affects us. If we felt unsafe\, rejected\, unseen\, or disconnected early in our lives\, we develop an identity that we are unworthy\, not good enough\, or wounded beyond repair. \nPlease register here. Once you register\, you will be directed to the zoom link—and you will receive it by email one hour prior to our meeting. A sliding scale is offered for those with financial challenges. \nChoose the amount you would like to pay.Option 1 $15.00 USDOption 2 $9.00 USDOption 3 $4.00 USD\n\n\nWe haven’t had the support we need to regulate our nervous systems so we can feel balanced and grounded in ourselves and in life. \nAnd we grow up trying to figure out how to cope with the sense that something is missing. Some of the ways we do that are overachieving\, perfectionism\, people pleasing\, self-judgment\, or hiding from life. \nTogether\, we create a field of safe space to explore these tender parts of ourselves. We support each other to meet them with deep acceptance and care\, and have the space to realize there is so much more to life than our patterns! \nMany of our conditioned patterns have plagued us for years. We hear about freedom as a possibility\, but we just don’t know how to find our way there. We feel stuck in the painful sense of separation…from ourselves and the sacredness of all of Life.  \nIn our time together\, we’ll practice staying grounded in our present moment experience\, and from here we turn our attention inward to recognize our mind-made limited stories from the past that create personal suffering.  \nFinally\, we realize that we can’t go it alone. Our disconnection from our divine nature happened in the context of relationship so we need to practice together—in loving community—to find our way home. We lean into our shared being—and our shared breath—to support us.  \nOur gathering includes guided meditation\, heartfelt teachings\, practical tools\, and Q&A.  \nCome with your fears\, doubts\, shame\, and questions—and simply to share sacred space together in community with like-minded friends. Together\, we lovingly embrace our humanness as we expand into overflowing appreciation\, vibrant joy\, and deep connection with all of Life. I look forward to being with you! \nQuestions? Please contact Gail here. \nDetails \nWednesday\, July 2\, 2025 9:00am – 10:30am Pacific \nStarts at noon Eastern\, 5pm BST\, 6pm CET \nRecording will be sent to everyone who registers. \nA sliding scale is offered for those with financial challenges.  \n\nChoose the amount you would like to pay.Option 1 $15.00 USDOption 2 $9.00 USDOption 3 $4.00 USD\n\n\nFriends are saying: \n\n“What you’re pointing to is so difficult to talk about in words\, but you describe it so brilliantly and give such practical\, actionable steps to follow that I truly\, deeply get it. I just cannot express to you how transformative your approach has been for me. I am inhabiting my life with so much more peace and openness\, flow and freedom.” ~Sandra Joseph\, Broadway star and author of Unmasking What Matters \n“I liked the sense of trust\, profound acceptance\, safety\, unconditional love and support that Gail brought to us. The course made me realize the importance of being involved in a community of people dedicated to the most important thing to me\, Healing and Awakening. I just cannot do it alone!” ~Aline B. \n“I felt bathed in presence on the retreat. Your clarity and presentation style was lovely. I found the guided meditations to be very helpful. I appreciate how relatable you are in the group\, how you don’t set yourself apart.” ~Denis N. \n“Thank you so much for your teachings and for all the compassion and love you transmit to me\, and so many others. Your teachings are a gift of grace and love.” ~Pat Brown \n“You radiate such warmth\, kindness\, beauty and wisdom. I had been stuck for so long and by listening to your sage advice\, am finally starting to see and feel the light. Your light helps us to shine our own.” ~Julie Desmarais \n\n“At any moment\, within the field of your own experience\, there is an inner sanctuary of presence and stillness. You access this space by shifting your attention away from the jumble of thoughts\, feelings\, stories\, fears\, and external input such as others’ opinions. You simply turn inward—beyond all mind movement—and be. \nIn no time at all\, you find the ground of being\, the light of living vibration that’s here in every moment. It’s timeless\, which means it’s eternally present\, and all-embracing as the unity of all. Don’t be afraid of this vast love. Fall into its arms…”\n~Gail \nGail Brenner\, Ph.D. is your guide on this journey. She is a clinical psychologist and lover of truth with a fire that burns brightly. She brings to this work years of experience with individuals and groups and is known for creating the safety and trust needed for this deeper exploration. \nimage
URL:https://gailbrenner.com/event/coming-home-together-getting-to-core/
LOCATION:online
END:VEVENT
BEGIN:VEVENT
DTSTART;TZID=America/Los_Angeles:20250709T090000
DTEND;TZID=America/Los_Angeles:20250709T103000
DTSTAMP:20260421T204620
CREATED:20250630T201518Z
LAST-MODIFIED:20250630T202315Z
UID:11771-1752051600-1752057000@gailbrenner.com
SUMMARY:Coming Home Together Online Gathering—The Sacred Work of Trauma Healing and Awakening
DESCRIPTION:Coming Home Together Online Gathering:\nThe Sacred Work of Trauma Healing and Awakening \nWednesday\, July 9\, 9:00am – 10:30am Pacific\nNoon Eastern\, 5pm BST\, 6pm CET\non Zoom \nRecording will be available and sent to all who register. \nThe Coming Home Together online gathering offers a deep dive into the practicalities of awakened living. Your everyday human life will be the laboratory as we explore the myth of the separate self\, unexplored trauma patterns\, and everyday living of the deepest teachings of nondual reality. \nOur focus for this meeting is on turning toward our early trauma patterns—with compassionate and loving hearts—investigating how disruption in our family environments when were young creates limiting ways of being that we carry into adulthood. \nAnd we’ll shine the light of our awareness on the truth of who we are\, our essential wholeness that has never been touched by anything that’s happened… \nPlease register here. Once you register\, you will be directed to the zoom link—and you will receive it by email one hour prior to our meeting. A sliding scale is offered for those with financial challenges. \n\nChoose the amount you would like to pay.Option 1 $15.00 USDOption 2 $9.00 USDOption 3 $4.00 USD\n\n  \nIf you felt unsafe\, rejected\, unseen\, or disconnected early in your life\, it’s common to develop a conditioned identity that you are not good enough or broken beyond repair. Your attention goes into your mind and away from your heart\, trying to figure out how to cope with the sense that something is wrong or missing.  \nA seed starts growing in us when we realize how much our conditioned patterns mask our happiness. Many of these patterns have plagued us for years. We hear about freedom as a possibility\, but we just don’t know how to find our way there. We feel stuck in the painful sense of separation…from ourselves\, others\, and the sacredness of all of Life. \nAs we deepen in the holy work of trauma healing\, we learn to care for the painful places that live in us. As the contractions of our trauma soften\, there’s space to blossom into ourselves. Almost like a miracle\, we begin to experience happiness\, wonder\, creativity\, and authentic relationships. \n Together\, we create a field of safe space to explore the ways we get stuck. We’ll turn toward our inner experience with compassion\, care\, and unconditional acceptance. And we’ll realize there is so much more to life than our patterns! \n Our time together includes guided meditation\, teachings\, practical tools\, and heartfelt conversation. \nFinally\, we realize that we can’t go it alone. Our disconnection from our divine nature happened in the context of relationship so we need to practice together—in a supportive and loving community—to find our way home. Come with your fears\, doubts\, shame\, and questions—and simply to share sacred space together in community with like-minded friends. \nTogether\, we lovingly embrace our humanness as we expand into overflowing appreciation\, vibrant joy\, and deep connection with all of Life. \nQuestions? Please contact Gail here. \nDetails \nWednesday\, July 9\, 2025 9:00am – 10:30am Pacific \nStarts at noon Eastern\, 5pm BST\, 6pm CET \nRecording will be sent to everyone who registers. \nA sliding scale is offered for those with financial challenges.  \n\nChoose the amount you would like to pay.Option 1 $15.00 USDOption 2 $9.00 USDOption 3 $4.00 USD\n\n\nFriends are saying: \n\n“I am now experiencing longer moments of pure awareness and joy. No longer a slave to external circumstances and inner chatter. Loving life the way it is.” ~Susan R. \n“I liked the sense of trust\, profound acceptance\, safety\, unconditional love and support that Gail brought to us. The course made me realize the importance of being involved in a community of people dedicated to the most important thing to me\, Healing and Awakening. I just cannot do it alone!” ~Aline B. \n“Your work is a bridge between practical daily life and Supreme Reality.” ~Henrique N. \n“You radiate such warmth\, kindness\, beauty and wisdom. I had been stuck for so long and by listening to your sage advice\, am finally starting to see and feel the light. Your light helps us to shine our own.” ~Julie Desmarais \n\n“At any moment\, within the field of your own experience\, there is an inner sanctuary of presence and stillness. You access this space by shifting your attention away from the jumble of thoughts\, feelings\, stories\, fears\, and external input such as others’ opinions. You simply turn inward—beyond all mind movement—and be. \nIn no time at all\, you find the ground of being\, the light of living vibration that’s here in every moment. It’s timeless\, which means it’s eternally present\, and all-embracing as the unity of all. Don’t be afraid of this vast love. Fall into its arms…”\n~Gail \nGail Brenner\, Ph.D. is your guide on this journey. She is a clinical psychologist and lover of truth with a fire that burns brightly. She brings to this work years of experience with individuals and groups and is known for creating the safety and trust needed for this deeper exploration.
URL:https://gailbrenner.com/event/coming-home-together-sacred-work-healing-awakening/
LOCATION:online
END:VEVENT
BEGIN:VEVENT
DTSTART;TZID=America/Los_Angeles:20250716T090000
DTEND;TZID=America/Los_Angeles:20250716T103000
DTSTAMP:20260421T204620
CREATED:20250709T222449Z
LAST-MODIFIED:20250709T222449Z
UID:11781-1752656400-1752661800@gailbrenner.com
SUMMARY:Coming Home Together Online Gathering—Rest in Being; Not in Thinking
DESCRIPTION:Coming Home Together Online Gathering:\nRest in Being; Not in Thinking \nWednesday\, July 16\, 9:00am – 10:30am Pacific\nNoon Eastern\, 5pm BST\, 6pm CET\non Zoom \nRecording will be available and sent to all who register. \nThe Coming Home Together online gathering offers a deep dive into the practicalities of awakened living. Your everyday human life is the laboratory as we open to the myth of the separate self\, unexplored trauma patterns\, and the right now experience of nondual reality. \nOur focus for this meeting is on finding freedom from the mind’s stories. Our exploration shows us that attachment to the contents of our minds distracts us from experiencing the aliveness of our true nature…and living day-to-day in this freedom. \nPlease register here. Once you register\, you will be directed to the zoom link—and you will receive it by email one hour prior to our meeting. A sliding scale is offered for those with financial challenges. \n\nChoose the amount you would like to pay.Option 1 $15.00 USDOption 2 $9.00 USDOption 3 $4.00 USD\n\nOnce we’re no longer interested in using the mind to define ourselves and our reality\, we’re immediately present\, open to all that is\, free of mind-created fear and angst. We’re available to actually live the fullness of who we are—in our relationships with ourselves\, others\, and life as it unfolds in every moment. This is embodied freedom.  \nCompletely losing interest in the mind reveals the direct\, abiding experience of peace beyond peace…  \nIn our time together\, we’ll look at the ways the mind works\, including judgments\, opinions\, comparisons\, stories\, problem-solving\, and general nonstop commentary. What is behind the mind’s functioning? What does it have to do with feeling separate? And how do we unattach from the contents of the mind? (Hint: it’s not about making thoughts stop.) \nThrough guided meditation\, we’ll experiment with letting go of the mind’s stories and instead rest here…in open spaciousness…in pure loving awareness free of thinking…accessing the power of simply being present. \nWe move from what the mind tells us about “reality” to realize the direct experience of liberation here and now…with a radiant mind that is clear and open like the sky…lit up with wonder and delight… \nWe come together in the sacred space of loving community for this deep exploration\, including guided meditation\, teachings\, helpful tools\, and Q&A. Bring all of you—your fears\, doubt\, shame\, questions—and joy. All is welcome! \nTogether\, we lovingly embrace our humanness as we expand into overflowing appreciation and deep connection with all of Life. \nQuestions? Please contact Gail here. \nDetails \nWednesday\, July 16\, 2025 9:00am – 10:30am Pacific \nStarts at noon Eastern\, 5pm BST\, 6pm CET \nRecording will be sent to everyone who registers. \nA sliding scale is offered for those with financial challenges.  \n\nChoose the amount you would like to pay.Option 1 $15.00 USDOption 2 $9.00 USDOption 3 $4.00 USD\n\n\nFriends are saying: \n\n“I am now experiencing longer moments of pure awareness and joy. No longer a slave to external circumstances and inner chatter. Loving life the way it is.” ~Susan R. \n“I liked the sense of trust\, profound acceptance\, safety\, unconditional love and support that Gail brought to us. The course made me realize the importance of being involved in a community of people dedicated to the most important thing to me\, Healing and Awakening. I just cannot do it alone!” ~Aline B. \n“Your work is a bridge between practical daily life and Supreme Reality.” ~Henrique N. \n“You radiate such warmth\, kindness\, beauty and wisdom. I had been stuck for so long and by listening to your sage advice\, am finally starting to see and feel the light. Your light helps us to shine our own.” ~Julie Desmarais \n\n“At any moment\, within the field of your own experience\, there is an inner sanctuary of presence and stillness. You access this space by shifting your attention away from the jumble of thoughts\, feelings\, stories\, fears\, and external input such as others’ opinions. You simply turn inward—beyond all mind movement—and be. \nIn no time at all\, you find the ground of being\, the light of living vibration that’s here in every moment. It’s timeless\, which means it’s eternally present\, and all-embracing as the unity of all. Don’t be afraid of this vast love. Fall into its arms…”\n~Gail \nGail Brenner\, Ph.D. is your guide on this journey. She is a clinical psychologist and lover of truth with a fire that burns brightly. She brings to this work years of experience with individuals and groups and is known for creating the safety and trust needed for this deeper exploration. \nimage
URL:https://gailbrenner.com/event/coming-home-together-rest/
LOCATION:online
END:VEVENT
BEGIN:VEVENT
DTSTART;TZID=America/Los_Angeles:20250723T090000
DTEND;TZID=America/Los_Angeles:20250723T103000
DTSTAMP:20260421T204620
CREATED:20250714T231855Z
LAST-MODIFIED:20250714T231855Z
UID:11697-1753261200-1753266600@gailbrenner.com
SUMMARY:Coming Home Together Online Gathering—Wise Inquiry Into Emotions
DESCRIPTION:Coming Home Together Online Gathering:\nWise Inquiry Into Emotions \nWednesday\, July 23\, 9:00am – 10:30am Pacific\nNoon Eastern\, 5pm BST\, 6pm CET\non Zoom \nRecording will be available and sent to all who register. \nThe Coming Home Together online gathering offers a deep dive into the practicalities of awakened living. Your everyday human life will be the laboratory as we explore the myth of the separate self\, unexplored trauma patterns\, and everyday living of the deepest teachings of nondual reality. \nOur focus for this meeting is on bringing wise inquiry to emotions. In the timeless formless infinite field of pure being\, what we call emotions might appear\, but presence remains undisturbed. Yet\, we all feel emotions\, and they are a normal part of the experience of being human. If you feel stuck in limitation and confusion\, emotions are probably involved. Met with care and unconditional welcoming\, they are a gateway into realizing our true nature. \nPlease register here. Once you register\, you will be directed to the zoom link—and you will receive it by email one hour prior to our meeting. A sliding scale is offered for those with financial challenges. \n\nChoose the amount you would like to pay.Option 1 $15.00 USDOption 2 $9.00 USDOption 3 $4.00 USD\n\n\nCaught in our limiting desires to protect and control\, we’re pulled to avoid our emotions. We’re afraid of being overwhelmed by them\, and we feel we don’t have the skills needed to actually turn inward and be with them. This creates an inner war that breeds anxiety and discontent. \nIn our time together\, we’ll practice inquiring into emotions. With openness and courage\, we turn toward our emotions\, and get to know how they live in our minds\, bodies\, and actions. This is the path to discovering freedom\, no matter how many times our emotions overtake us. \n We value the power of safe and loving community for this exploration because we need others for support and nervous system regulation. Resisting emotions is isolating and reinforces shame. In our time together\, in the spirit of peace and freedom\, we’ll open up to our experience of emotions. Because if we continue to be entangled in their stories\, we will continue to suffer.  \n Through guided meditation\, practical guidance\, and heartfelt conversation\, we’ll take our stand as loving aware presence and learn how to practice welcoming emotions freely\, taking our hands off the wheel and allowing their full liberation.  \nYou are unconditionally welcome just as you are. Together\, we lovingly embrace our humanness as we expand into overflowing appreciation\, vibrant joy\, and deep connection with all of Life. \nQuestions? Please contact Gail here. \nDetails \nWednesday\, July 23\, 2024 9:00am – 10:30am Pacific \nStarts at noon Eastern\, 5pm BST\, 6pm CET \nRecording will be sent to everyone who registers. \nA sliding scale is offered for those with financial challenges.  \n\nChoose the amount you would like to pay.Option 1 $15.00 USDOption 2 $9.00 USDOption 3 $4.00 USD\n\n\nFriends are saying: \n\n“I am now experiencing longer moments of pure awareness and joy. No longer a slave to external circumstances and inner chatter. Loving life the way it is.” ~Susan R. \n“I liked the sense of trust\, profound acceptance\, safety\, unconditional love and support that Gail brought to us. The course made me realize the importance of being involved in a community of people dedicated to the most important thing to me\, Healing and Awakening. I just cannot do it alone!” ~Aline B. \n“Your work is a bridge between practical daily life and Supreme Reality.” ~Henrique N. \n“You radiate such warmth\, kindness\, beauty and wisdom. I had been stuck for so long and by listening to your sage advice\, am finally starting to see and feel the light. Your light helps us to shine our own.” ~Julie Desmarais \n\n“At any moment\, within the field of your own experience\, there is an inner sanctuary of presence and stillness. You access this space by shifting your attention away from the jumble of thoughts\, feelings\, stories\, fears\, and external input such as others’ opinions. You simply turn inward—beyond all mind movement—and be. \nIn no time at all\, you find the ground of being\, the light of living vibration that’s here in every moment. It’s timeless\, which means it’s eternally present\, and all-embracing as the unity of all. Don’t be afraid of this vast love. Fall into its arms…”\n~Gail \nGail Brenner\, Ph.D. is your guide on this journey. She is a clinical psychologist and lover of truth with a fire that burns brightly. She brings to this work years of experience with individuals and groups and is known for creating the safety and trust needed for this deeper exploration.
URL:https://gailbrenner.com/event/coming-home-together-wise-inquiry-into-emotions/
LOCATION:online
END:VEVENT
END:VCALENDAR