BEGIN:VCALENDAR
VERSION:2.0
PRODID:-//Dr. Gail Brenner - ECPv6.15.20//NONSGML v1.0//EN
CALSCALE:GREGORIAN
METHOD:PUBLISH
X-WR-CALNAME:Dr. Gail Brenner
X-ORIGINAL-URL:https://gailbrenner.com
X-WR-CALDESC:Events for Dr. Gail Brenner
REFRESH-INTERVAL;VALUE=DURATION:PT1H
X-Robots-Tag:noindex
X-PUBLISHED-TTL:PT1H
BEGIN:VTIMEZONE
TZID:America/Los_Angeles
BEGIN:DAYLIGHT
TZOFFSETFROM:-0800
TZOFFSETTO:-0700
TZNAME:PDT
DTSTART:20240310T100000
END:DAYLIGHT
BEGIN:STANDARD
TZOFFSETFROM:-0700
TZOFFSETTO:-0800
TZNAME:PST
DTSTART:20241103T090000
END:STANDARD
BEGIN:DAYLIGHT
TZOFFSETFROM:-0800
TZOFFSETTO:-0700
TZNAME:PDT
DTSTART:20250309T100000
END:DAYLIGHT
BEGIN:STANDARD
TZOFFSETFROM:-0700
TZOFFSETTO:-0800
TZNAME:PST
DTSTART:20251102T090000
END:STANDARD
BEGIN:DAYLIGHT
TZOFFSETFROM:-0800
TZOFFSETTO:-0700
TZNAME:PDT
DTSTART:20260308T100000
END:DAYLIGHT
BEGIN:STANDARD
TZOFFSETFROM:-0700
TZOFFSETTO:-0800
TZNAME:PST
DTSTART:20261101T090000
END:STANDARD
END:VTIMEZONE
BEGIN:VEVENT
DTSTART;TZID=America/Los_Angeles:20250806T090000
DTEND;TZID=America/Los_Angeles:20250806T103000
DTSTAMP:20260421T190027
CREATED:20250721T204631Z
LAST-MODIFIED:20250721T210411Z
UID:11797-1754470800-1754476200@gailbrenner.com
SUMMARY:Coming Home Together Online Gathering—Trauma Healing and Awakening in the Body
DESCRIPTION:Coming Home Together Online Gathering:\nTrauma Healing and Awakening in the Body \nWednesday\, August 6\, 9:00am – 10:30am Pacific\nNoon Eastern\, 5pm BST\non Zoom \nRecording will be available and sent to all who register. \nThe Coming Home Together online gathering offers a deep dive into the practicalities of awakened living. Your everyday human life will be the laboratory as we explore the myth of the separate self\, unexplored trauma patterns\, and everyday living of the deepest teachings of nondual reality. \nOur focus for this meeting is on the body as a gateway for healing and awakening. What is your relationship to your body? Your body image? The physical sensations and energies that arise? Numbness and dissociation? Your nervous system? \nPlease register here. Once you register\, you will be directed to the zoom link—and you will receive it by email one hour prior to our meeting. A sliding scale is offered for those with financial challenges. \n\nChoose the amount you would like to pay.Option 1 $15.00 USDOption 2 $9.00 USDOption 3 $4.00 USD\n\n\nThere is much to be explored when we bring our attention to the physical realm of our experience. We find the root of emotions\, the residue of old habits and traumas…and the possibility for the free flow of the vibration of life as it appears through the body. We realize we can live in daily life in our bodies\, fully experiencing all that is.  \nMany of us live in our heads—without much awareness of our physicality. And when we open to experiences occurring in our bodies\, we find hidden contractions\, habitual ways of being\, and places that feel stuck or shut down. \nLet’s explore how we disconnect from life…how does the sense of separation live in our bodies and nervous systems? Then we’ll bring awareness to these body experiences to liberate them from unconsciousness and the limits of our stories. \nBecause sensation without a story is simply life energy…without interpretation\, past\, or future. We begin to enjoy this embodied aliveness! \nIn our sacred time together\, we’ll bring space\, breath\, and deep compassion to our body experiences. Through guided meditation\, practical guidance\, and heartfelt conversation\, we’ll turn toward our bodies\, holding all that arises in the infinite freedom of loving presence. We’ll discuss specific tools and practices for body awareness\, informed by wisdom traditions. \nAll are welcome as we lovingly embrace our humanness…and expand into overflowing appreciation\, vibrant joy\, and deep connection with all of Life. I look forward to being with you! \nQuestions? Please contact Gail here. \nDetails \nWednesday\, August 6\, 2025 9:00am – 10:30am Pacific \nStarts at noon Eastern\, 5pm BST\, 6pm CET \nRecording will be sent to everyone who registers. \nA sliding scale is offered for those with financial challenges.  \n\nChoose the amount you would like to pay.Option 1 $15.00 USDOption 2 $9.00 USDOption 3 $4.00 USD\n\n\nFriends are saying: \n\n“I am now experiencing longer moments of pure awareness and joy. No longer a slave to external circumstances and inner chatter. Loving life the way it is.” ~Susan R. \n“I liked the sense of trust\, profound acceptance\, safety\, unconditional love and support that Gail brought to us. The course made me realize the importance of being involved in a community of people dedicated to the most important thing to me\, Healing and Awakening. I just cannot do it alone!” ~Aline B. \n“Your work is a bridge between practical daily life and Supreme Reality.” ~Henrique N. \n“You radiate such warmth\, kindness\, beauty and wisdom. I had been stuck for so long and by listening to your sage advice\, am finally starting to see and feel the light. Your light helps us to shine our own.” ~Julie Desmarais \n  \n\n“At any moment\, within the field of your own experience\, there is an inner sanctuary of presence and stillness. You access this space by shifting your attention away from the jumble of thoughts\, feelings\, stories\, fears\, and external input such as others’ opinions. You simply turn inward—beyond all mind movement—and be. \nIn no time at all\, you find the ground of being\, the light of living vibration that’s here in every moment. It’s timeless\, which means it’s eternally present\, and all-embracing as the unity of all. Don’t be afraid of this vast love. Fall into its arms…”\n~Gail \nGail Brenner\, Ph.D. is your guide on this journey. She is a clinical psychologist and lover of truth with a fire that burns brightly. She brings to this work years of experience with individuals and groups and is known for creating the safety and trust needed for this deeper exploration. \nimage
URL:https://gailbrenner.com/event/coming-home-together-awakening-in-the-body/
LOCATION:online
END:VEVENT
BEGIN:VEVENT
DTSTART;TZID=America/Los_Angeles:20250813T090000
DTEND;TZID=America/Los_Angeles:20250813T103000
DTSTAMP:20260421T190027
CREATED:20250805T182553Z
LAST-MODIFIED:20250805T182553Z
UID:11807-1755075600-1755081000@gailbrenner.com
SUMMARY:Coming Home Together Online Gathering—Awakened Living in Body\, Mind\, and Heart
DESCRIPTION:Coming Home Together Online Gathering:\nAwakened Living in Body\, Mind\, and Heart \nWednesday\, August 13\, 9:00am – 10:30am Pacific\nNoon Eastern\, 5pm BST\non Zoom \nRecording will be available and sent to all who register. \nThe Coming Home Together online gathering offers a deep dive into the practicalities of awakened living. Your everyday human life will be the laboratory as we explore the myth of the separate self\, unexplored trauma patterns\, and everyday living of the deepest teachings of nondual reality. \nOur focus for this meeting is on  awakened living in our bodies\, minds\, and hearts. When we begin to open beyond our conditioned patterns and the limiting and repetitive stories in the mind\, we discover a tremendous amount of space for fresh and new ways of being. \nPlease register here. Once you register\, you will be directed to the zoom link—and you will receive it by email one hour prior to our meeting. A sliding scale is offered for those with financial challenges. \n\nChoose the amount you would like to pay.Option 1 $15.00 USDOption 2 $9.00 USDOption 3 $4.00 USD\n\n\n No longer caught in self-focused thinking\, we become aware that the gifts of our human capacities are in service to Life\, which includes everything in form. \n How can the infinite spaciousness of awakening infuse our bodies\, minds\, and hearts? How can we bring this deep knowing into how we show up with ourselves\, others\, and life situations? This is what we’ll explore in our time together.  \n Awakening to our true nature means that we no longer identify as a person who is limited and separate. With this shift\, we begin to notice that our bodies are naturally more relaxed\, our minds are free\, and our hearts overflow with gratitude and generosity. We feel oneness with all\, which impacts our view of ourselves\, others\, and life situations.  \nThe invitation into the embodiment of awakening is available to everyone. Even as we feel identified with our conditioned patterns and explore what remains of them\, we can still practice aligning our bodies\, minds\, and hearts with their natural state. \nThrough guided meditation\, practical guidance\, and heartfelt conversation\, we’ll explore each of these realms of our human experience and practice embodying our essential freedom as a lived experience in every moment.  \nLet’s practice the direct experience of living this freedom! \nTogether\, we lovingly embrace our humanness as we expand into overflowing appreciation\, vibrant joy\, and deep connection with all of Life. \nQuestions? Please contact Gail here. \nDetails \nWednesday\, August 13\, 2025 9:00am – 10:30am Pacific \nStarts at noon Eastern\, 5pm BST\, 6pm CET \nRecording will be sent to everyone who registers. \nA sliding scale is offered for those with financial challenges.  \n\nChoose the amount you would like to pay.Option 1 $15.00 USDOption 2 $9.00 USDOption 3 $4.00 USD\n\n\nFriends are saying: \n\n“What you’re pointing to is so difficult to talk about in words\, but you describe it so brilliantly and give such practical\, actionable steps to follow that I truly\, deeply get it. I just cannot express to you how transformative your approach has been for me. I am inhabiting my life with so much more peace and openness\, flow and freedom.” ~Sandra Joseph\, Broadway star and author of Unmasking What Matters \n“I liked the sense of trust\, profound acceptance\, safety\, unconditional love and support that Gail brought to us. The course made me realize the importance of being involved in a community of people dedicated to the most important thing to me\, Healing and Awakening. I just cannot do it alone!” ~Aline B. \n“I felt bathed in presence on the retreat. Your clarity and presentation style was lovely. I found the guided meditations to be very helpful. I appreciate how relatable you are in the group\, how you don’t set yourself apart.” ~Denis N. \n“Thank you so much for your teachings and for all the compassion and love you transmit to me\, and so many others. Your teachings are a gift of grace and love.” ~Pat Brown \n“You radiate such warmth\, kindness\, beauty and wisdom. I had been stuck for so long and by listening to your sage advice\, am finally starting to see and feel the light. Your light helps us to shine our own.” ~Julie Desmarais \n\n“At any moment\, within the field of your own experience\, there is an inner sanctuary of presence and stillness. You access this space by shifting your attention away from the jumble of thoughts\, feelings\, stories\, fears\, and external input such as others’ opinions. You simply turn inward—beyond all mind movement—and be. \nIn no time at all\, you find the ground of being\, the light of living vibration that’s here in every moment. It’s timeless\, which means it’s eternally present\, and all-embracing as the unity of all. Don’t be afraid of this vast love. Fall into its arms…”\n~Gail \nGail Brenner\, Ph.D. is your guide on this journey. She is a clinical psychologist and lover of truth with a fire that burns brightly. She brings to this work years of experience with individuals and groups and is known for creating the safety and trust needed for this deeper exploration.
URL:https://gailbrenner.com/event/coming-home-together-body-mind-heart/
LOCATION:online
END:VEVENT
BEGIN:VEVENT
DTSTART;TZID=America/Los_Angeles:20250820T090000
DTEND;TZID=America/Los_Angeles:20250820T103000
DTSTAMP:20260421T190027
CREATED:20250811T160552Z
LAST-MODIFIED:20250811T160552Z
UID:11064-1755680400-1755685800@gailbrenner.com
SUMMARY:Coming Home Together Online Gathering—Feeling Safe: Gateway to Awakening
DESCRIPTION:Coming Home Together Online Gathering:\nFeeling Safe: Gateway to Awakening \nWednesday\, August 20\, 9:00am – 10:30am Pacific\nNoon Eastern\, 5pm BST\, 6pm CET\non Zoom \nRecording will be available and sent to all who register. \nThe Coming Home Together online gathering offers a deep dive into the practicalities of awakened living. Your everyday human life will be the laboratory as we explore the myth of the separate self\, unexplored trauma patterns\, and everyday living of the deepest teachings of nondual reality. \nPlease register here. Once you register\, you will be directed to the zoom link—and you will receive it by email one hour prior to our meeting. A sliding scale is offered for those with financial challenges. \n\nChoose the amount you would like to pay.Option 1 $15.00 USDOption 2 $9.00 USDOption 3 $4.00 USD\n\n\nOur focus for this meeting is on  what it means to feel safe and the role of safety in realizing our true nature. \nMany of us grow up not feeling emotionally safe in our families. The effects of this lack of safety can be far-reaching. We resort to strategies to cope and survive such as trying to figure everything out in our heads\, judging ourselves and others (the inner critic)\, people pleasing\, addiction\, and perfectionism.  \nAnd with no way of learning how to care for the emotions that naturally arise\, we disconnect from the most tender parts of our experience.  \nOver time\, we develop entrenched views of ourselves and others that are fear-based and limited. This is how we feel separate from ourselves and from life…and as we all know\, this is not a satisfying way to live. \nTrapped in these identities\, we long for wholeness\, but our search gets derailed by the inner mistrust we carry. \nThe realization of our true nature involves a shift of identification from a contracted sense of the personal self into the boundless field of alive presence. The tensions around fear and mistrust relax completely…and if they temporarily arise\, they come and go without attachment. We remain as peace.  \nIn our time together\, in loving community\, we’ll explore emotional safety. What is it? How do we find it? And how does it support the realization of who we are beyond any mind-made patterns? \nYou are welcome with your fears\, doubts\, shame\, and questions—and simply to share sacred space in community with like-minded friends. Together\, we lovingly embrace our humanness as we expand into overflowing appreciation and deep connection with all of Life. I look forward to being with you! \nQuestions? Please contact Gail here. \nDetails \nWednesday\, August 20\, 2025 9:00am – 10:30am Pacific \nStarts at noon Eastern\, 5pm BST\, 6pm CET \nRecording will be sent to everyone who registers. \nA sliding scale is offered for those with financial challenges.  \n\nChoose the amount you would like to pay.Option 1 $15.00 USDOption 2 $9.00 USDOption 3 $4.00 USD\n\n\nFriends are saying: \n\n“I am now experiencing longer moments of pure awareness and joy. No longer a slave to external circumstances and inner chatter. Loving life the way it is.” ~Susan R. \n“I liked the sense of trust\, profound acceptance\, safety\, unconditional love and support that Gail brought to us. The course made me realize the importance of being involved in a community of people dedicated to the most important thing to me\, Healing and Awakening. I just cannot do it alone!” ~Aline B. \n“Your work is a bridge between practical daily life and Supreme Reality.” ~Henrique N. \n“You radiate such warmth\, kindness\, beauty and wisdom. I had been stuck for so long and by listening to your sage advice\, am finally starting to see and feel the light. Your light helps us to shine our own.” ~Julie Desmarais \n  \n\n“At any moment\, within the field of your own experience\, there is an inner sanctuary of presence and stillness. You access this space by shifting your attention away from the jumble of thoughts\, feelings\, stories\, fears\, and external input such as others’ opinions. You simply turn inward—beyond all mind movement—and be. \nIn no time at all\, you find the ground of being\, the light of living vibration that’s here in every moment. It’s timeless\, which means it’s eternally present\, and all-embracing as the unity of all. Don’t be afraid of this vast love. Fall into its arms…”\n~Gail \nGail Brenner\, Ph.D. is your guide on this journey. She is a clinical psychologist and lover of truth with a fire that burns brightly. She brings to this work years of experience with individuals and groups and is known for creating the safety and trust needed for this deeper exploration.
URL:https://gailbrenner.com/event/coming-home-together-safe/
LOCATION:online
END:VEVENT
BEGIN:VEVENT
DTSTART;TZID=America/Los_Angeles:20250827T090000
DTEND;TZID=America/Los_Angeles:20250827T103000
DTSTAMP:20260421T190027
CREATED:20250819T215633Z
LAST-MODIFIED:20250819T215633Z
UID:11821-1756285200-1756290600@gailbrenner.com
SUMMARY:Coming Home Together Online Gathering—The Spiritual Path to Inner Freedom
DESCRIPTION:Coming Home Together Online Gathering:\nThe Spiritual Path to Inner Freedom \nWednesday\, August 27\, 9:00am – 10:30am Pacific\nNoon Eastern\, 5pm BST\non Zoom \nRecording will be available and sent to all who register. \nThe Coming Home Together online gathering offers a deep dive into the practicalities of awakened living. Your everyday human life will be the laboratory as we explore the myth of the separate self\, unexplored trauma patterns\, and everyday living of the deepest teachings of nondual reality. \nPlease register here. Once you register\, you will be directed to the zoom link—and you will receive it by email one hour prior to our meeting. A sliding scale is offered for those with financial challenges. \n\nChoose the amount you would like to pay.Option 1 $15.00 USDOption 2 $9.00 USDOption 3 $4.00 USD\n\n\nOur focus for this meeting is on  the spiritual path. What is the path? What are we looking for? How can we meet the twists and turns along the way? \nIn this gathering\, we will take a bird’s eye view of the spiritual path to understand what it is…and isn’t. If you are on the path of awakening\, something has lit up in your being that invites you into a deep exploration of all that is. We take our blinders off\, and bring everything that arises under the microscope of awareness\, authenticity\, and love. We’re motivated to see things clearly as they are and not clouded by the mind’s illusions.  \nThis is the path to inner freedom. \nWe call this passion for inner freedom the pathless path. We’re not getting something we don’t already have. We’re not fixing what we think might be broken in us. We’re not waiting for divine intervention.  \nThe pathless path is recognizing what is already here. Yet\, as we all know\, our attention can be pulled into familiar patterns that make us feel limited and separate. We believe our stories of inadequacy\, lack\, and fear. We feel lost in our minds and emotions and disconnected from the truth of being. How do we find our way home to the place of freedom…that we never left?   \nWhen we explore outside our familiar stories and mental patterns\, we find\, shining brilliantly\, the timeless essence of boundless peace\, freedom\, and love. This is you…who you’ve always been despite any stories that tell you otherwise. The truth was only temporarily hidden.  \nCome and explore the spiritual path to inner freedom in safe and supportive community. With guided meditation\, teachings\, and conversation\, we’ll lovingly open to the mind’s conditioned ideas that convince us we’re not free and discover the way into the ever-present possibility of peace…the silent stillness of infinite being… \nYou are welcome with your fears\, doubts\, shame\, and questions—and simply to share sacred space in community with like-minded friends. Together\, we lovingly embrace our humanness as we expand into overflowing appreciation and deep connection with all of Life. I look forward to being with you! \nQuestions? Please contact Gail here. \nDetails \nWednesday\, August 27\, 2025 9:00am – 10:30am Pacific \nStarts at noon Eastern\, 5pm BST\, 6pm CET \nRecording will be sent to everyone who registers. \nA sliding scale is offered for those with financial challenges.  \n\nChoose the amount you would like to pay.Option 1 $15.00 USDOption 2 $9.00 USDOption 3 $4.00 USD\n\n\nFriends are saying: \n\n“I am now experiencing longer moments of pure awareness and joy. No longer a slave to external circumstances and inner chatter. Loving life the way it is.” ~Susan R. \n“I liked the sense of trust\, profound acceptance\, safety\, unconditional love and support that Gail brought to us. The course made me realize the importance of being involved in a community of people dedicated to the most important thing to me\, Healing and Awakening. I just cannot do it alone!” ~Aline B. \n“Your work is a bridge between practical daily life and Supreme Reality.” ~Henrique N. \n“You radiate such warmth\, kindness\, beauty and wisdom. I had been stuck for so long and by listening to your sage advice\, am finally starting to see and feel the light. Your light helps us to shine our own.” ~Julie Desmarais \n  \n\n“At any moment\, within the field of your own experience\, there is an inner sanctuary of presence and stillness. You access this space by shifting your attention away from the jumble of thoughts\, feelings\, stories\, fears\, and external input such as others’ opinions. You simply turn inward—beyond all mind movement—and be. \nIn no time at all\, you find the ground of being\, the light of living vibration that’s here in every moment. It’s timeless\, which means it’s eternally present\, and all-embracing as the unity of all. Don’t be afraid of this vast love. Fall into its arms…”\n~Gail \nGail Brenner\, Ph.D. is your guide on this journey. She is a clinical psychologist and lover of truth with a fire that burns brightly. She brings to this work years of experience with individuals and groups and is known for creating the safety and trust needed for this deeper exploration. \nimage
URL:https://gailbrenner.com/event/coming-home-together-path/
LOCATION:online
END:VEVENT
END:VCALENDAR