BEGIN:VCALENDAR
VERSION:2.0
PRODID:-//Dr. Gail Brenner - ECPv6.15.20//NONSGML v1.0//EN
CALSCALE:GREGORIAN
METHOD:PUBLISH
X-ORIGINAL-URL:https://gailbrenner.com
X-WR-CALDESC:Events for Dr. Gail Brenner
REFRESH-INTERVAL;VALUE=DURATION:PT1H
X-Robots-Tag:noindex
X-PUBLISHED-TTL:PT1H
BEGIN:VTIMEZONE
TZID:America/Los_Angeles
BEGIN:DAYLIGHT
TZOFFSETFROM:-0800
TZOFFSETTO:-0700
TZNAME:PDT
DTSTART:20250309T100000
END:DAYLIGHT
BEGIN:STANDARD
TZOFFSETFROM:-0700
TZOFFSETTO:-0800
TZNAME:PST
DTSTART:20251102T090000
END:STANDARD
BEGIN:DAYLIGHT
TZOFFSETFROM:-0800
TZOFFSETTO:-0700
TZNAME:PDT
DTSTART:20260308T100000
END:DAYLIGHT
BEGIN:STANDARD
TZOFFSETFROM:-0700
TZOFFSETTO:-0800
TZNAME:PST
DTSTART:20261101T090000
END:STANDARD
BEGIN:DAYLIGHT
TZOFFSETFROM:-0800
TZOFFSETTO:-0700
TZNAME:PDT
DTSTART:20270314T100000
END:DAYLIGHT
BEGIN:STANDARD
TZOFFSETFROM:-0700
TZOFFSETTO:-0800
TZNAME:PST
DTSTART:20271107T090000
END:STANDARD
END:VTIMEZONE
BEGIN:VEVENT
DTSTART;TZID=America/Los_Angeles:20260211T090000
DTEND;TZID=America/Los_Angeles:20260211T103000
DTSTAMP:20260421T091425
CREATED:20260129T152534Z
LAST-MODIFIED:20260129T165120Z
UID:11488-1770800400-1770805800@gailbrenner.com
SUMMARY:Coming Home Together Online Gathering—From Cluttered Mind to Radiant\, Open Mind
DESCRIPTION:Coming Home Together Online Gathering:\nFrom Cluttered Mind to Radiant\, Open Mind  \nWednesday\, February 11\, 9:00am – 10:30am Pacific\nNoon Eastern\, 5pm BST\non Zoom \nRecording will be available and sent to all who register. \nThe Coming Home Together online gathering is a safe space and loving community for trauma healing and awakened living\, informed by the deepest teachings of nondual reality. \nOur focus for this meeting is on exploring the mind. If we’re interested in being alive to our present moment experience\, this is a useful exploration. Because it’s attachment to the contents of the mind that takes us away. \nPlease register here. Once you register\, you will be directed to the zoom link—and you will receive it by email one hour prior to our meeting. A sliding scale is offered for those with financial challenges. \n\nChoose the amount you would like to pay.Option 1 $15.00 USDOption 2 $9.00 USDOption 3 $4.00 USD\n\nIn our time together\, we’ll look at the ways the mind works\, including judgments\, opinions\, comparisons\, stories\, and general nonstop commentary. What is behind the mind’s functioning? How does it create the sense of separation? And what is it like to be less involved with thinking? (Hint: it’s not about making thoughts stop.) \nThrough guided meditation\, we’ll experiment with letting go of the mind’s stories and instead rest here…in open spaciousness…in pure loving awareness… \nWe move from a mind-created “reality” to realize the direct experience of what is here and alive right now…with a radiant mind clear and open like the sky… \nWe come together in the sacred space of loving community for this deep exploration\, including teachings\, conversation\, and Q&A. Bring all of you—your fears\, doubt\, shame\, questions—and joy. All are welcome! \nTogether\, we lovingly embrace our humanness as we expand into overflowing appreciation\, unconditional welcoming of what is\, and deep connection with all of Life. \nQuestions? Please contact Gail here. \nDetails \nWednesday\, February 11\, 2026 9:00am – 10:30am Pacific \nStarts at noon Eastern\, 5pm BST\, 6pm CET \nRecording will be sent to everyone who registers. \nA sliding scale is offered for those with financial challenges.  \n\nChoose the amount you would like to pay.Option 1 $15.00 USDOption 2 $9.00 USDOption 3 $4.00 USD\n\n\nFriends are saying: \n\n“I am now experiencing longer moments of pure awareness and joy. No longer a slave to external circumstances and inner chatter. Loving life the way it is.” ~Susan R. \n“I liked the sense of trust\, profound acceptance\, safety\, unconditional love and support that Gail brought to us. The course made me realize the importance of being involved in a community of people dedicated to the most important thing to me\, Healing and Awakening. I just cannot do it alone!” ~Aline B. \n“Your work is a bridge between practical daily life and Supreme Reality.” ~Henrique N. \n“You radiate such warmth\, kindness\, beauty and wisdom. I had been stuck for so long and by listening to your sage advice\, am finally starting to see and feel the light. Your light helps us to shine our own.” ~Julie Desmarais \n  \n\n“At any moment\, within the field of your own experience\, there is an inner sanctuary of presence and stillness. You access this space by shifting your attention away from the jumble of thoughts\, feelings\, stories\, fears\, and external input such as others’ opinions. You simply turn inward—beyond all mind movement—and be. \nIn no time at all\, you find the ground of being\, the light of living vibration that’s here in every moment. It’s timeless\, which means it’s eternally present\, and all-embracing as the unity of all. Don’t be afraid of this vast love. Fall into its arms…”\n~Gail \nGail Brenner\, Ph.D. is your guide on this journey. She is a clinical psychologist and lover of truth with a fire that burns brightly. She brings to this work years of experience with individuals and groups and is known for creating the safety and trust needed for this deeper exploration. \nimage
URL:https://gailbrenner.com/event/coming-home-together-radiant-open-mind/
LOCATION:online
END:VEVENT
BEGIN:VEVENT
DTSTART;TZID=America/Los_Angeles:20260218T090000
DTEND;TZID=America/Los_Angeles:20260218T103000
DTSTAMP:20260421T091425
CREATED:20260211T012149Z
LAST-MODIFIED:20260211T012149Z
UID:11893-1771405200-1771410600@gailbrenner.com
SUMMARY:Coming Home Together Online Gathering—Deep Listening: A Portal to Connection and Embodied Freedom
DESCRIPTION:Coming Home Together Online Gathering:\nDeep Listening: A Portal to Connection and Embodied Freedom \nWednesday\, February 18 9:00am – 10:30am Pacific\nNoon Eastern\, 5pm BST\non Zoom \nRecording will be available and sent to all who register. \nThe Coming Home Together online gathering is a safe space and loving community for trauma healing and awakened living\, informed by the deepest teachings of nondual reality. \nOur focus for this meeting is on deep listening as a way to be. Do you feel lonely and disconnected? Separate from your true nature? Then consider listening as a portal into divine connection with all things. \nPlease register here. Once you register\, you will be directed to the zoom link—and you will receive it by email one hour prior to our meeting. A sliding scale is offered for those with financial challenges. \n\nChoose the amount you would like to pay.Option 1 $15.00 USDOption 2 $9.00 USDOption 3 $4.00 USD\n\nHow often are we in our heads in a conversation\, not actually connected to the person in front of us. And how much do we miss out on our here-and-now experience\, when we’re not actually alive to it? \nIf we’re driven by unexplored fear or need\, we’re looking for guidance in our thoughts about how to live and be. Our programmed patterns are in charge as we get caught in endlessly trying to make decisions\, navigate our relationships\, and find our way in life. It’s stressful…and fruitless as a path to happiness… \nGreat news! There’s another completely different way to be\, which is to stop\, relax\, open\, and get curious. We listen\, not through veils of fear or lack\, but with every cell in our bodies\, with our hearts and minds wide open\, alive and receptive in the deepest place in us that trusts life’s unfolding. \nThis way invites us to shift away from our thinking minds so we’re available to all that’s here now—discovering intimate connection with each other\, the aliveness of the moment\, and life’s intelligence. \nIn our time together\, we’ll explore the practice of deep listening\, first to strengthen our connections with each other\, and then to open to knowing the truth of reality as one with life\, unity with all…clear seeing with nothing in the way. \nWhen you let fear- and need-based tendencies be\, what does life have in store for you? What is on the horizon itching to be expressed through you? What truth have you been avoiding? How intimate can your relationships be? \nThrough guided meditation\, practical guidance\, and heartfelt conversation\, we’ll explore the possibility of being fully available to the river of life as it’s flowing right now… \nWe lovingly embrace our humanness as we expand into overflowing appreciation\, vibrant joy\, and deep connection with all of Life. \nQuestions? Please contact Gail here. \nDetails \nWednesday\, February 18\, 2026 9:00am – 10:30am Pacific \nStarts at noon Eastern\, 5pm BST\, 6pm CET \nRecording will be sent to everyone who registers. \nA sliding scale is offered for those with financial challenges.  \n\nChoose the amount you would like to pay.Option 1 $15.00 USDOption 2 $9.00 USDOption 3 $4.00 USD\n\n\nFriends are saying: \n\n“I am now experiencing longer moments of pure awareness and joy. No longer a slave to external circumstances and inner chatter. Loving life the way it is.” ~Susan R. \n“I liked the sense of trust\, profound acceptance\, safety\, unconditional love and support that Gail brought to us. The course made me realize the importance of being involved in a community of people dedicated to the most important thing to me\, Healing and Awakening. I just cannot do it alone!” ~Aline B. \n“Your work is a bridge between practical daily life and Supreme Reality.” ~Henrique N. \n“You radiate such warmth\, kindness\, beauty and wisdom. I had been stuck for so long and by listening to your sage advice\, am finally starting to see and feel the light. Your light helps us to shine our own.” ~Julie Desmarais \n\n“At any moment\, within the field of your own experience\, there is an inner sanctuary of presence and stillness. You access this space by shifting your attention away from the jumble of thoughts\, feelings\, stories\, fears\, and external input such as others’ opinions. You simply turn inward—beyond all mind movement—and be. \nIn no time at all\, you find the ground of being\, the light of living vibration that’s here in every moment. It’s timeless\, which means it’s eternally present\, and all-embracing as the unity of all. Don’t be afraid of this vast love. Fall into its arms…”\n~Gail \nGail Brenner\, Ph.D. is your guide on this journey. She is a clinical psychologist and lover of truth with a fire that burns brightly. She brings to this work years of experience with individuals and groups and is known for creating the safety and trust needed for this deeper exploration. \nimage
URL:https://gailbrenner.com/event/coming-home-together-deep-listening-portal/
LOCATION:online
END:VEVENT
BEGIN:VEVENT
DTSTART;TZID=America/Los_Angeles:20260225T090000
DTEND;TZID=America/Los_Angeles:20260225T103000
DTSTAMP:20260421T091425
CREATED:20260217T044529Z
LAST-MODIFIED:20260217T044529Z
UID:12041-1772010000-1772015400@gailbrenner.com
SUMMARY:Coming Home Together Online Gathering—Getting to the Core of Early Trauma Patterns
DESCRIPTION:Coming Home Together Online Gathering:\nGetting to the Core of Early Trauma Patterns \nWednesday\, February 25\, 9:00am – 10:30am Pacific\nNoon Eastern\, 5pm BST\non Zoom \nRecording will be available and sent to all who register. \nThe Coming Home Together online gathering is a safe space and loving community for trauma healing and awakened living\, informed by the deepest teachings of nondual reality. \nOur focus for this meeting is on giving our compassionate attention to how disruption in our early relationships affects us. If we felt unsafe\, rejected\, unseen\, or disconnected early in our lives\, we develop an identity that we are unworthy\, not good enough\, or wounded beyond repair. \nPlease register here. Once you register\, you will be directed to the zoom link—and you will receive it by email one hour prior to our meeting. A sliding scale is offered for those with financial challenges. \nChoose the amount you would like to pay.Option 1 $15.00 USDOption 2 $9.00 USDOption 3 $4.00 USD\n\n\nWe haven’t had the support we need to regulate our nervous systems so we can feel balanced and grounded in ourselves and in life. \nAnd we grow up trying to figure out how to cope with the sense that something is missing. Some of the ways we do that are overachieving\, perfectionism\, people pleasing\, self-judgment\, or hiding from life. \nTogether\, we create a field of safe space to explore these tender parts of ourselves. We support each other to meet them with deep acceptance and care\, and have the space to realize there is so much more to life than our patterns! \nMany of our conditioned patterns have plagued us for years. We hear about freedom as a possibility\, but we just don’t know how to find our way there. We feel stuck in the painful sense of separation…from ourselves and the sacredness of all of Life.  \nIn our time together\, we’ll practice staying grounded in our present moment experience\, and from here we turn our attention inward to recognize our mind-made limited stories from the past that create personal suffering.  \nFinally\, we realize that we can’t go it alone. Our disconnection from our divine nature happened in the context of relationship so we need to practice together—in loving community—to find our way home. We lean into our shared being—and our shared breath—to support us.  \nOur gathering includes guided meditation\, heartfelt teachings\, practical tools\, and Q&A.  \nCome with your fears\, doubts\, shame\, and questions—and simply to share sacred space together in community with like-minded friends. Together\, we lovingly embrace our humanness as we expand into overflowing appreciation\, vibrant joy\, and deep connection with all of Life. I look forward to being with you! \nQuestions? Please contact Gail here. \nDetails \nWednesday\, February 25\, 2026 9:00am – 10:30am Pacific \nStarts at noon Eastern\, 5pm BST\, 6pm CET \nRecording will be sent to everyone who registers. \nA sliding scale is offered for those with financial challenges.  \n\nChoose the amount you would like to pay.Option 1 $15.00 USDOption 2 $9.00 USDOption 3 $4.00 USD\n\n\nFriends are saying: \n\n“What you’re pointing to is so difficult to talk about in words\, but you describe it so brilliantly and give such practical\, actionable steps to follow that I truly\, deeply get it. I just cannot express to you how transformative your approach has been for me. I am inhabiting my life with so much more peace and openness\, flow and freedom.” ~Sandra Joseph\, Broadway star and author of Unmasking What Matters \n“I liked the sense of trust\, profound acceptance\, safety\, unconditional love and support that Gail brought to us. The course made me realize the importance of being involved in a community of people dedicated to the most important thing to me\, Healing and Awakening. I just cannot do it alone!” ~Aline B. \n“I felt bathed in presence on the retreat. Your clarity and presentation style was lovely. I found the guided meditations to be very helpful. I appreciate how relatable you are in the group\, how you don’t set yourself apart.” ~Denis N. \n“Thank you so much for your teachings and for all the compassion and love you transmit to me\, and so many others. Your teachings are a gift of grace and love.” ~Pat Brown \n“You radiate such warmth\, kindness\, beauty and wisdom. I had been stuck for so long and by listening to your sage advice\, am finally starting to see and feel the light. Your light helps us to shine our own.” ~Julie Desmarais \n\n“At any moment\, within the field of your own experience\, there is an inner sanctuary of presence and stillness. You access this space by shifting your attention away from the jumble of thoughts\, feelings\, stories\, fears\, and external input such as others’ opinions. You simply turn inward—beyond all mind movement—and be. \nIn no time at all\, you find the ground of being\, the light of living vibration that’s here in every moment. It’s timeless\, which means it’s eternally present\, and all-embracing as the unity of all. Don’t be afraid of this vast love. Fall into its arms…”\n~Gail \nGail Brenner\, Ph.D. is your guide on this journey. She is a clinical psychologist and lover of truth with a fire that burns brightly. She brings to this work years of experience with individuals and groups and is known for creating the safety and trust needed for this deeper exploration. \nimage
URL:https://gailbrenner.com/event/coming-home-together-core-trauma/
LOCATION:online
END:VEVENT
END:VCALENDAR