BEGIN:VCALENDAR
VERSION:2.0
PRODID:-//Dr. Gail Brenner - ECPv6.15.20//NONSGML v1.0//EN
CALSCALE:GREGORIAN
METHOD:PUBLISH
X-WR-CALNAME:Dr. Gail Brenner
X-ORIGINAL-URL:https://gailbrenner.com
X-WR-CALDESC:Events for Dr. Gail Brenner
REFRESH-INTERVAL;VALUE=DURATION:PT1H
X-Robots-Tag:noindex
X-PUBLISHED-TTL:PT1H
BEGIN:VTIMEZONE
TZID:America/Los_Angeles
BEGIN:DAYLIGHT
TZOFFSETFROM:-0800
TZOFFSETTO:-0700
TZNAME:PDT
DTSTART:20250309T100000
END:DAYLIGHT
BEGIN:STANDARD
TZOFFSETFROM:-0700
TZOFFSETTO:-0800
TZNAME:PST
DTSTART:20251102T090000
END:STANDARD
BEGIN:DAYLIGHT
TZOFFSETFROM:-0800
TZOFFSETTO:-0700
TZNAME:PDT
DTSTART:20260308T100000
END:DAYLIGHT
BEGIN:STANDARD
TZOFFSETFROM:-0700
TZOFFSETTO:-0800
TZNAME:PST
DTSTART:20261101T090000
END:STANDARD
BEGIN:DAYLIGHT
TZOFFSETFROM:-0800
TZOFFSETTO:-0700
TZNAME:PDT
DTSTART:20270314T100000
END:DAYLIGHT
BEGIN:STANDARD
TZOFFSETFROM:-0700
TZOFFSETTO:-0800
TZNAME:PST
DTSTART:20271107T090000
END:STANDARD
END:VTIMEZONE
BEGIN:VEVENT
DTSTART;TZID=America/Los_Angeles:20260304T090000
DTEND;TZID=America/Los_Angeles:20260304T103000
DTSTAMP:20260421T071951
CREATED:20260223T184609Z
LAST-MODIFIED:20260225T155215Z
UID:12046-1772614800-1772620200@gailbrenner.com
SUMMARY:Coming Home Together Online Gathering—Unpacking Hurt and Disappointment
DESCRIPTION:Coming Home Together Online Gathering:\nUnpacking Hurt and Disappointment \nWednesday\, March 4\, 9:00am – 10:30am Pacific\nNoon Eastern\, 5pm BST\, 6pm CET\non Zoom \nRecording will be available and sent to all who register. \nThe Coming Home Together online gathering offers a deep dive into the practicalities of awakened living. Your everyday human life will be the laboratory as we explore the myth of the separate self\, unexplored trauma patterns\, and everyday living of the deepest teachings of nondual reality. \nOur focus for this meeting is on bringing wise inquiry to the sticky experiences of hurt and disappointment. These are longheld stories entwined with emotions that can be so painful! And they feel intensely personal. \nPlease register here. Once you register\, you will be directed to the zoom link—and you will receive it by email one hour prior to our meeting. A sliding scale is offered for those with financial challenges. \n\nChoose the amount you would like to pay.Option 1 $15.00 USDOption 2 $9.00 USDOption 3 $4.00 USD\n\nIn the spirit of liberation from all contractions of separation\, we’ll open the door into these experiences and unpack them. \nBoth hurt and disappointment are fundamentally relational. We feel them in reaction to other people—what they should or shouldn’t do—and these stories can keep us stuck for a very long time. \nHolding onto them\, we project out our young needs and feel disappointed and hurt when they’re not met. These experiences take up residence in our minds\, bodies\, and nervous systems. Can you feel the tension and heaviness? \nThe medicine for hurt and disappointment is a brave and loving inner exploration. This is what brings us to clear seeing about these difficult experiences so they can soften. Together\, we’ll feel into our direct experience and offer loving attention to the young parts longing to be seen and met. \nWe’ll open to insights and tools that help to loosen the grip of our tender needs. And we’ll invite the fragments of ourselves\, still looking for love “out there\,” to be held and welcomed into the light of our unlimited capacity for loving awareness. We start to feel empowered\, spacious\, and free. \nYou are unconditionally welcome just as you are for this exploration. Together\, we lovingly embrace our humanness as we expand into overflowing appreciation\, vibrant joy\, and deep connection with all of Life. \nQuestions? Please contact Gail here. \nDetails \nWednesday\, March 4\, 2026 9:00am – 10:30am Pacific \nStarts at noon Eastern\, 5pm BST\, 6pm CET \nRecording will be sent to everyone who registers. \nA sliding scale is offered for those with financial challenges.  \n\nChoose the amount you would like to pay.Option 1 $15.00 USDOption 2 $9.00 USDOption 3 $4.00 USD\n\n\nFriends are saying: \n\n“I am now experiencing longer moments of pure awareness and joy. No longer a slave to external circumstances and inner chatter. Loving life the way it is.” ~Susan R. \n“I liked the sense of trust\, profound acceptance\, safety\, unconditional love and support that Gail brought to us. The course made me realize the importance of being involved in a community of people dedicated to the most important thing to me\, Healing and Awakening. I just cannot do it alone!” ~Aline B. \n“Your work is a bridge between practical daily life and Supreme Reality.” ~Henrique N. \n“You radiate such warmth\, kindness\, beauty and wisdom. I had been stuck for so long and by listening to your sage advice\, am finally starting to see and feel the light. Your light helps us to shine our own.” ~Julie Desmarais \n\n“At any moment\, within the field of your own experience\, there is an inner sanctuary of presence and stillness. You access this space by shifting your attention away from the jumble of thoughts\, feelings\, stories\, fears\, and external input such as others’ opinions. You simply turn inward—beyond all mind movement—and be. \nIn no time at all\, you find the ground of being\, the light of living vibration that’s here in every moment. It’s timeless\, which means it’s eternally present\, and all-embracing as the unity of all. Don’t be afraid of this vast love. Fall into its arms…”\n~Gail \nGail Brenner\, Ph.D. is your guide on this journey. She is a clinical psychologist and lover of truth with a fire that burns brightly. She brings to this work years of experience with individuals and groups and is known for creating the safety and trust needed for this deeper exploration.
URL:https://gailbrenner.com/event/coming-home-together-hurt-disappointment/
LOCATION:online
END:VEVENT
BEGIN:VEVENT
DTSTART;TZID=America/Los_Angeles:20260311T090000
DTEND;TZID=America/Los_Angeles:20260311T103000
DTSTAMP:20260421T071951
CREATED:20260304T220615Z
LAST-MODIFIED:20260304T220615Z
UID:12061-1773219600-1773225000@gailbrenner.com
SUMMARY:Coming Home Together Online Gathering—Not at Peace? Let's Explore Attachment
DESCRIPTION:Coming Home Together Online Gathering:\nNot at Peace? Let’s Explore Attachment \nWednesday\, March 11\, 9:00am – 10:30am Pacific\nNoon Eastern\, 4pm BST\, 5pm CET\non Zoom \n\nPLEASE NOTE START TIME IS ONE HOUR EARLIER THIS WEEK IN THE UK AND MAINLAND EUROPE \n\nRecording will be available and sent to all who register. \nThe Coming Home Together online gathering is a safe space and loving community for trauma healing and awakened living\, informed by the deepest teachings of nondual reality.. \nOur focus for this meeting is on a deep exploration of attachment. What is attachment? It’s a whole body experience of leaving the present moment. We believe our desires and expectations that tell us we need something we don’t have for our peace and happiness. We experience a loss of freedom when we’re attached to certain outcomes happening. \nWe make our inner peace dependent on things we can’t control—people\, money\, success\, possessions\, health\, circumstances\, or even life itself—and when we do\, we suffer. \nPlease register here. Once you register\, you will be directed to the zoom link—and you will receive it by email one hour prior to our meeting. A sliding scale is offered for those with financial challenges. \n\nChoose the amount you would like to pay.Option 1 $15.00 USDOption 2 $9.00 USDOption 3 $4.00 USD\n\n\n If we stay mired in our attachments\, we’re resisting reality. It’s like living in a room filled with furniture—everywhere we turn we bump into something. We want life to be as we want it…and not how it actually is. Sound familiar? \nIn our time together\, we’ll open lovingly to an exploration of the ways we’re attached. We’ll go behind the curtain of our attachments to discover fear…of losing control\, of loss\, of not getting what we think we need. And we’ll open to the free flow of life… Can we align with—and trust—the truth of our experience\, can we practice saying “yes” to reality as it is? \nThe exploration of attachments invites us to reflect on how we meet whatever appears in the moments of our lives. We may not be able to control what happens\, but we can choose how we want to show up and relate to our present moment experience. \nAnd here is where we find where we find wonder\, potential\, inspiration\, and spontaneity. \nThrough guided meditation\, practical guidance\, and heartfelt conversation\, we’ll discover the potential—already in you—to be fully alive in your life\, free beyond attachments. \nTogether\, we lovingly embrace our humanness as we expand into overflowing appreciation\, vibrant joy\, and deep connection with all of Life. \nQuestions? Please contact Gail here. \nDetails \nWednesday\, March 11\, 2026 9:00am – 10:30am Pacific \nStarts at noon Eastern\, 4pm BST\, 5pm CET \n\nPLEASE NOTE START TIME IS ONE HOUR EARLIER THIS WEEK IN THE UK AND MAINLAND EUROPE \n\nRecording will be sent to everyone who registers. \nA sliding scale is offered for those with financial challenges.  \n\nChoose the amount you would like to pay.Option 1 $15.00 USDOption 2 $9.00 USDOption 3 $4.00 USD\n\n\nFriends are saying: \n\n“What you’re pointing to is so difficult to talk about in words\, but you describe it so brilliantly and give such practical\, actionable steps to follow that I truly\, deeply get it. I just cannot express to you how transformative your approach has been for me. I am inhabiting my life with so much more peace and openness\, flow and freedom.” ~Sandra Joseph\, Broadway star and author of Unmasking What Matters \n“I liked the sense of trust\, profound acceptance\, safety\, unconditional love and support that Gail brought to us. The course made me realize the importance of being involved in a community of people dedicated to the most important thing to me\, Healing and Awakening. I just cannot do it alone!” ~Aline B. \n“I felt bathed in presence on the retreat. Your clarity and presentation style was lovely. I found the guided meditations to be very helpful. I appreciate how relatable you are in the group\, how you don’t set yourself apart.” ~Denis N. \n“Thank you so much for your teachings and for all the compassion and love you transmit to me\, and so many others. Your teachings are a gift of grace and love.” ~Pat Brown \n“You radiate such warmth\, kindness\, beauty and wisdom. I had been stuck for so long and by listening to your sage advice\, am finally starting to see and feel the light. Your light helps us to shine our own.” ~Julie Desmarais \n\n“At any moment\, within the field of your own experience\, there is an inner sanctuary of presence and stillness. You access this space by shifting your attention away from the jumble of thoughts\, feelings\, stories\, fears\, and external input such as others’ opinions. You simply turn inward—beyond all mind movement—and be. \nIn no time at all\, you find the ground of being\, the light of living vibration that’s here in every moment. It’s timeless\, which means it’s eternally present\, and all-embracing as the unity of all. Don’t be afraid of this vast love. Fall into its arms…”\n~Gail \nGail Brenner\, Ph.D. is your guide on this journey. She is a clinical psychologist and lover of truth with a fire that burns brightly. She brings to this work years of experience with individuals and groups and is known for creating the safety and trust needed for this deeper exploration.
URL:https://gailbrenner.com/event/coming-home-together-lets-explore-attachment/
LOCATION:online
END:VEVENT
BEGIN:VEVENT
DTSTART;TZID=America/Los_Angeles:20260318T090000
DTEND;TZID=America/Los_Angeles:20260318T103000
DTSTAMP:20260421T071951
CREATED:20260309T180902Z
LAST-MODIFIED:20260309T180902Z
UID:12068-1773824400-1773829800@gailbrenner.com
SUMMARY:Coming Home Together Online Gathering—Trauma Healing and Awakening in the Body
DESCRIPTION:Coming Home Together Online Gathering:\nTrauma Healing and Awakening in the Body \nWednesday\, March 18\, 9:00am – 10:30am Pacific\nNoon Eastern\, 4pm BST\non Zoom \n\nPLEASE NOTE START TIME IS ONE HOUR EARLIER THIS WEEK IN THE UK AND MAINLAND EUROPE \n\nRecording will be available and sent to all who register. \nThe Coming Home Together online gathering is a safe space and loving community for trauma healing and awakened living\, informed by the deepest teachings of nondual reality. \nOur focus for this meeting is on the body as a gateway for healing and awakening. What is your relationship to your body? Your body image? The physical sensations and energies that arise? Numbness and dissociation? Your nervous system? \nPlease register here. Once you register\, you will be directed to the zoom link—and you will receive it by email one hour prior to our meeting. A sliding scale is offered for those with financial challenges. \n\nChoose the amount you would like to pay.Option 1 $15.00 USDOption 2 $9.00 USDOption 3 $4.00 USD\n\n\nThere is much to be explored when we bring our attention to the physical realm of our experience. We find the root of emotions\, the residue of old habits and traumas…and the possibility for the free flow of the vibration of life as it appears through the body. We realize we can live in daily life in our bodies\, fully experiencing all that is.  \nMany of us live in our heads—without much awareness of our physicality. And when we open to experiences occurring in our bodies\, we find hidden contractions\, habitual ways of being\, and places that feel stuck or shut down. \nLet’s explore how we disconnect from life…how does the sense of separation live in our bodies and nervous systems? Then we’ll bring awareness to these body experiences to liberate them from unconsciousness and the limits of our stories. \nBecause sensation without a story is simply life energy…without interpretation\, past\, or future. We begin to enjoy this embodied aliveness! \nIn our sacred time together\, we’ll bring space\, breath\, and deep compassion to our body experiences. Through guided meditation\, practical guidance\, and heartfelt conversation\, we’ll turn toward our bodies\, holding all that arises in the infinite freedom of loving presence. We’ll discuss specific tools and practices for body awareness\, informed by wisdom traditions. \nAll are welcome as we lovingly embrace our humanness…and expand into overflowing appreciation\, vibrant joy\, and deep connection with all of Life. I look forward to being with you! \nQuestions? Please contact Gail here. \nDetails \nWednesday\, March 18\, 2026 9:00am – 10:30am Pacific \nStarts at noon Eastern\, 4pm BST\, 5pm CET \n\nPLEASE NOTE START TIME IS ONE HOUR EARLIER THIS WEEK IN THE UK AND MAINLAND EUROPE \n\nRecording will be sent to everyone who registers. \nA sliding scale is offered for those with financial challenges.  \n\nChoose the amount you would like to pay.Option 1 $15.00 USDOption 2 $9.00 USDOption 3 $4.00 USD\n\n\nFriends are saying: \n\n“I am now experiencing longer moments of pure awareness and joy. No longer a slave to external circumstances and inner chatter. Loving life the way it is.” ~Susan R. \n“I liked the sense of trust\, profound acceptance\, safety\, unconditional love and support that Gail brought to us. The course made me realize the importance of being involved in a community of people dedicated to the most important thing to me\, Healing and Awakening. I just cannot do it alone!” ~Aline B. \n“Your work is a bridge between practical daily life and Supreme Reality.” ~Henrique N. \n“You radiate such warmth\, kindness\, beauty and wisdom. I had been stuck for so long and by listening to your sage advice\, am finally starting to see and feel the light. Your light helps us to shine our own.” ~Julie Desmarais \n  \n\n“At any moment\, within the field of your own experience\, there is an inner sanctuary of presence and stillness. You access this space by shifting your attention away from the jumble of thoughts\, feelings\, stories\, fears\, and external input such as others’ opinions. You simply turn inward—beyond all mind movement—and be. \nIn no time at all\, you find the ground of being\, the light of living vibration that’s here in every moment. It’s timeless\, which means it’s eternally present\, and all-embracing as the unity of all. Don’t be afraid of this vast love. Fall into its arms…”\n~Gail \nGail Brenner\, Ph.D. is your guide on this journey. She is a clinical psychologist and lover of truth with a fire that burns brightly. She brings to this work years of experience with individuals and groups and is known for creating the safety and trust needed for this deeper exploration. \nimage
URL:https://gailbrenner.com/event/coming-home-together-awakening-body/
LOCATION:online
END:VEVENT
END:VCALENDAR